BEGIN:VCALENDAR
VERSION:2.0
PRODID:-//134.96.226.213//NONSGML kigkonsult.se iCalcreator 2.41.92//
CALSCALE:GREGORIAN
METHOD:PUBLISH
UID:63636331-3536-4138-b563-316266633765
X-WR-CALNAME:Human Computer Interaction Calendar
X-WR-CALDESC:Events of the lecture Human Computer Interaction
X-WR-TIMEZONE:Europe/Berlin
BEGIN:VEVENT
UID:30333835-6162-4039-b336-333664346437
DTSTAMP:20260425T154041Z
DESCRIPTION:
DTSTART:20251112T225900Z
DTEND:20251112T225900Z
SUMMARY:Hci: Assignment 2 due
END:VEVENT
END:VCALENDAR
