BEGIN:VCALENDAR
VERSION:2.0
PRODID:-//134.96.226.213//NONSGML kigkonsult.se iCalcreator 2.41.92//
CALSCALE:GREGORIAN
METHOD:PUBLISH
UID:37663131-6339-4332-a231-636361323663
X-WR-CALNAME:Human Computer Interaction Calendar
X-WR-CALDESC:Events of the lecture Human Computer Interaction
X-WR-TIMEZONE:Europe/Berlin
BEGIN:VEVENT
UID:37663630-6337-4163-b134-313730653364
DTSTAMP:20260425T153945Z
DESCRIPTION:
DTSTART:20251112T225900Z
DTEND:20251112T225900Z
SUMMARY:Assignment 2 due
END:VEVENT
END:VCALENDAR
