BEGIN:VCALENDAR
VERSION:2.0
PRODID:-//134.96.226.213//NONSGML kigkonsult.se iCalcreator 2.41.92//
CALSCALE:GREGORIAN
METHOD:PUBLISH
UID:30366636-6561-4565-b237-666563303965
X-WR-CALNAME:Human Computer Interaction Calendar
X-WR-CALDESC:Events of the lecture Human Computer Interaction
X-WR-TIMEZONE:Europe/Berlin
BEGIN:VEVENT
UID:66333736-3166-4430-a132-643839383730
DTSTAMP:20260425T154040Z
DESCRIPTION:
DTSTART:20251106T225500Z
DTEND:20251106T225500Z
SUMMARY:Hci: Assignment 1 due
END:VEVENT
END:VCALENDAR
