BEGIN:VCALENDAR
VERSION:2.0
PRODID:-//134.96.226.213//NONSGML kigkonsult.se iCalcreator 2.41.92//
CALSCALE:GREGORIAN
METHOD:PUBLISH
UID:38336631-3032-4737-b532-303164323064
X-WR-CALNAME:Human Computer Interaction Calendar
X-WR-CALDESC:Events of the lecture Human Computer Interaction
X-WR-TIMEZONE:Europe/Berlin
BEGIN:VEVENT
UID:63366431-6536-4637-a136-313163653866
DTSTAMP:20260425T170056Z
DESCRIPTION:
DTSTART:20251106T225500Z
DTEND:20251106T225500Z
SUMMARY:Assignment 1 due
END:VEVENT
END:VCALENDAR
