BEGIN:VCALENDAR
VERSION:2.0
PRODID:-//134.96.226.213//NONSGML kigkonsult.se iCalcreator 2.41.92//
CALSCALE:GREGORIAN
METHOD:PUBLISH
UID:64643561-6661-4961-b434-623561323961
X-WR-CALNAME:Human Computer Interaction Calendar
X-WR-CALDESC:Events of the lecture Human Computer Interaction
X-WR-TIMEZONE:Europe/Berlin
BEGIN:VEVENT
UID:32646236-6132-4166-a231-353132646163
DTSTAMP:20260425T154042Z
DESCRIPTION:
DTSTART:20251014T081500Z
DTEND:20251014T100000Z
LOCATION:Building E1 3 – Lecture Hall II
SUMMARY:Hci: Lecture
END:VEVENT
BEGIN:VEVENT
UID:66666266-3139-4061-b739-623230656163
DTSTAMP:20260425T154042Z
DESCRIPTION:
DTSTART:20251021T081500Z
DTEND:20251021T100000Z
LOCATION:Building E1 3 – Lecture Hall II
SUMMARY:Hci: Lecture
END:VEVENT
BEGIN:VEVENT
UID:31363931-3733-4030-b662-366564353830
DTSTAMP:20260425T154042Z
DESCRIPTION:
DTSTART:20251022T121500Z
DTEND:20251022T140000Z
LOCATION:Building E1 3 – Lecture Hall II
SUMMARY:Hci: Lecture
END:VEVENT
BEGIN:VEVENT
UID:34303332-6435-4232-b636-643266373465
DTSTAMP:20260425T154042Z
DESCRIPTION:
DTSTART:20251028T091500Z
DTEND:20251028T110000Z
LOCATION:Building E1 3 – Lecture Hall II
SUMMARY:Hci: Lecture
END:VEVENT
BEGIN:VEVENT
UID:39383062-6661-4163-b035-323639656362
DTSTAMP:20260425T154042Z
DESCRIPTION:
DTSTART:20251029T131500Z
DTEND:20251029T150000Z
LOCATION:Building E1 3 – Lecture Hall II
SUMMARY:Hci: Lecture
END:VEVENT
BEGIN:VEVENT
UID:64643134-3031-4932-b536-383764633264
DTSTAMP:20260425T154042Z
DESCRIPTION:
DTSTART:20251104T091500Z
DTEND:20251104T110000Z
LOCATION:Building E1 3 – Lecture Hall II
SUMMARY:Hci: Lecture
END:VEVENT
BEGIN:VEVENT
UID:36643265-6334-4334-b866-646461396632
DTSTAMP:20260425T154042Z
DESCRIPTION:
DTSTART:20251105T131500Z
DTEND:20251105T150000Z
LOCATION:Building E1 3 – Lecture Hall II
SUMMARY:Hci: Lecture
END:VEVENT
BEGIN:VEVENT
UID:39373264-3062-4534-a533-393864303661
DTSTAMP:20260425T154042Z
DESCRIPTION:
DTSTART:20251111T091500Z
DTEND:20251111T110000Z
LOCATION:Building E1 3 – Lecture Hall II
SUMMARY:Hci: Lecture
END:VEVENT
BEGIN:VEVENT
UID:31303064-6639-4438-b533-626431383230
DTSTAMP:20260425T154042Z
DESCRIPTION:
DTSTART:20251112T131500Z
DTEND:20251112T150000Z
LOCATION:Building E1 3 – Lecture Hall II
SUMMARY:Hci: Lecture
END:VEVENT
BEGIN:VEVENT
UID:61306133-6434-4937-b732-313065313938
DTSTAMP:20260425T154042Z
DESCRIPTION:
DTSTART:20251118T091500Z
DTEND:20251118T110000Z
LOCATION:Building E1 3 – Lecture Hall II
SUMMARY:Hci: Lecture
END:VEVENT
BEGIN:VEVENT
UID:64326635-3331-4333-b330-656538323437
DTSTAMP:20260425T154042Z
DESCRIPTION:
DTSTART:20251119T131500Z
DTEND:20251119T150000Z
LOCATION:Building E1 3 – Lecture Hall II
SUMMARY:Hci: Lecture
END:VEVENT
BEGIN:VEVENT
UID:63656635-6665-4561-b236-396630643763
DTSTAMP:20260425T154042Z
DESCRIPTION:
DTSTART:20251125T091500Z
DTEND:20251125T110000Z
LOCATION:Building E1 3 – Lecture Hall II
SUMMARY:Hci: Lecture
END:VEVENT
BEGIN:VEVENT
UID:64376363-3535-4137-b033-643931613434
DTSTAMP:20260425T154042Z
DESCRIPTION:
DTSTART:20251126T131500Z
DTEND:20251126T150000Z
LOCATION:Building E1 3 – Lecture Hall II
SUMMARY:Hci: Lecture
END:VEVENT
BEGIN:VEVENT
UID:34313961-6431-4636-b039-306138396134
DTSTAMP:20260425T154042Z
DESCRIPTION:
DTSTART:20251209T091500Z
DTEND:20251209T110000Z
LOCATION:Building E1 3 – Lecture Hall II
SUMMARY:Hci: Lecture
END:VEVENT
BEGIN:VEVENT
UID:31316530-6364-4865-b135-663536613062
DTSTAMP:20260425T154042Z
DESCRIPTION:
DTSTART:20251210T131500Z
DTEND:20251210T150000Z
LOCATION:Building E1 3 – Lecture Hall II
SUMMARY:Hci: Lecture
END:VEVENT
BEGIN:VEVENT
UID:39386632-3033-4565-b864-616335393266
DTSTAMP:20260425T154042Z
DESCRIPTION:
DTSTART:20260106T091500Z
DTEND:20260106T110000Z
LOCATION:Building E1 3 – Lecture Hall II
SUMMARY:Hci: Lecture
END:VEVENT
BEGIN:VEVENT
UID:30363562-3661-4165-b930-666134376161
DTSTAMP:20260425T154042Z
DESCRIPTION:
DTSTART:20260107T131500Z
DTEND:20260107T150000Z
LOCATION:Building E1 3 – Lecture Hall II
SUMMARY:Hci: Lecture
END:VEVENT
BEGIN:VEVENT
UID:63333330-3739-4639-a563-656536613532
DTSTAMP:20260425T154042Z
DESCRIPTION:
DTSTART:20260113T091500Z
DTEND:20260113T110000Z
LOCATION:Building E1 3 – Lecture Hall II
SUMMARY:Hci: Lecture
END:VEVENT
BEGIN:VEVENT
UID:61316562-3136-4535-b763-343138363332
DTSTAMP:20260425T154042Z
DESCRIPTION:
DTSTART:20260114T131500Z
DTEND:20260114T150000Z
LOCATION:Building E1 3 – Lecture Hall II
SUMMARY:Hci: Lecture
END:VEVENT
BEGIN:VEVENT
UID:37633532-3361-4234-a638-393964633937
DTSTAMP:20260425T154042Z
DESCRIPTION:
DTSTART:20260120T091500Z
DTEND:20260120T110000Z
LOCATION:Building E1 3 – Lecture Hall II
SUMMARY:Hci: Lecture
END:VEVENT
BEGIN:VEVENT
UID:35373065-3464-4832-b531-306464636539
DTSTAMP:20260425T154042Z
DESCRIPTION:
DTSTART:20260121T131500Z
DTEND:20260121T150000Z
LOCATION:Building E1 3 – Lecture Hall II
SUMMARY:Hci: Lecture
END:VEVENT
BEGIN:VEVENT
UID:66313064-3063-4037-b538-366263613433
DTSTAMP:20260425T154042Z
DESCRIPTION:
DTSTART:20260127T091500Z
DTEND:20260127T110000Z
LOCATION:Building E1 3 – Lecture Hall II
SUMMARY:Hci: Lecture
END:VEVENT
BEGIN:VEVENT
UID:63613330-6632-4665-b131-346134386566
DTSTAMP:20260425T154042Z
DESCRIPTION:
DTSTART:20260128T131500Z
DTEND:20260128T150000Z
LOCATION:Building E1 3 – Lecture Hall II
SUMMARY:Hci: Lecture
END:VEVENT
END:VCALENDAR
