BEGIN:VCALENDAR
VERSION:2.0
PRODID:-//134.96.226.213//NONSGML kigkonsult.se iCalcreator 2.41.92//
CALSCALE:GREGORIAN
METHOD:PUBLISH
UID:37346239-6532-4939-b735-633231623033
X-WR-CALNAME:Human Computer Interaction Calendar
X-WR-CALDESC:Events of the lecture Human Computer Interaction
X-WR-TIMEZONE:Europe/Berlin
BEGIN:VEVENT
UID:61636238-3939-4433-b562-366430663432
DTSTAMP:20260425T170058Z
DESCRIPTION:
DTSTART:20251014T081500Z
DTEND:20251014T100000Z
LOCATION:Building E1 3 – Lecture Hall II
SUMMARY:Lecture
END:VEVENT
BEGIN:VEVENT
UID:32636335-6365-4438-a436-323563313332
DTSTAMP:20260425T170058Z
DESCRIPTION:
DTSTART:20251021T081500Z
DTEND:20251021T100000Z
LOCATION:Building E1 3 – Lecture Hall II
SUMMARY:Lecture
END:VEVENT
BEGIN:VEVENT
UID:31353663-3234-4361-b861-326265653761
DTSTAMP:20260425T170058Z
DESCRIPTION:
DTSTART:20251022T121500Z
DTEND:20251022T140000Z
LOCATION:Building E1 3 – Lecture Hall II
SUMMARY:Lecture
END:VEVENT
BEGIN:VEVENT
UID:38656337-3034-4663-b537-386237643130
DTSTAMP:20260425T170058Z
DESCRIPTION:
DTSTART:20251028T091500Z
DTEND:20251028T110000Z
LOCATION:Building E1 3 – Lecture Hall II
SUMMARY:Lecture
END:VEVENT
BEGIN:VEVENT
UID:38313361-3736-4464-a637-316536616130
DTSTAMP:20260425T170058Z
DESCRIPTION:
DTSTART:20251029T131500Z
DTEND:20251029T150000Z
LOCATION:Building E1 3 – Lecture Hall II
SUMMARY:Lecture
END:VEVENT
BEGIN:VEVENT
UID:32626530-6532-4062-b131-363163313939
DTSTAMP:20260425T170058Z
DESCRIPTION:
DTSTART:20251104T091500Z
DTEND:20251104T110000Z
LOCATION:Building E1 3 – Lecture Hall II
SUMMARY:Lecture
END:VEVENT
BEGIN:VEVENT
UID:33643939-6239-4737-a437-653138346666
DTSTAMP:20260425T170058Z
DESCRIPTION:
DTSTART:20251105T131500Z
DTEND:20251105T150000Z
LOCATION:Building E1 3 – Lecture Hall II
SUMMARY:Lecture
END:VEVENT
BEGIN:VEVENT
UID:30363265-3364-4839-b839-383539353833
DTSTAMP:20260425T170058Z
DESCRIPTION:
DTSTART:20251111T091500Z
DTEND:20251111T110000Z
LOCATION:Building E1 3 – Lecture Hall II
SUMMARY:Lecture
END:VEVENT
BEGIN:VEVENT
UID:31326361-3431-4761-b363-326164313764
DTSTAMP:20260425T170058Z
DESCRIPTION:
DTSTART:20251112T131500Z
DTEND:20251112T150000Z
LOCATION:Building E1 3 – Lecture Hall II
SUMMARY:Lecture
END:VEVENT
BEGIN:VEVENT
UID:37343563-3731-4437-b736-633535363334
DTSTAMP:20260425T170058Z
DESCRIPTION:
DTSTART:20251118T091500Z
DTEND:20251118T110000Z
LOCATION:Building E1 3 – Lecture Hall II
SUMMARY:Lecture
END:VEVENT
BEGIN:VEVENT
UID:65343662-3864-4635-b139-313534396632
DTSTAMP:20260425T170058Z
DESCRIPTION:
DTSTART:20251119T131500Z
DTEND:20251119T150000Z
LOCATION:Building E1 3 – Lecture Hall II
SUMMARY:Lecture
END:VEVENT
BEGIN:VEVENT
UID:63303962-3766-4834-b331-333035633232
DTSTAMP:20260425T170058Z
DESCRIPTION:
DTSTART:20251125T091500Z
DTEND:20251125T110000Z
LOCATION:Building E1 3 – Lecture Hall II
SUMMARY:Lecture
END:VEVENT
BEGIN:VEVENT
UID:35343135-6261-4366-b865-333137373466
DTSTAMP:20260425T170058Z
DESCRIPTION:
DTSTART:20251126T131500Z
DTEND:20251126T150000Z
LOCATION:Building E1 3 – Lecture Hall II
SUMMARY:Lecture
END:VEVENT
BEGIN:VEVENT
UID:38396535-3864-4464-b833-333138313037
DTSTAMP:20260425T170058Z
DESCRIPTION:
DTSTART:20251209T091500Z
DTEND:20251209T110000Z
LOCATION:Building E1 3 – Lecture Hall II
SUMMARY:Lecture
END:VEVENT
BEGIN:VEVENT
UID:62653735-3838-4036-a137-663235666430
DTSTAMP:20260425T170058Z
DESCRIPTION:
DTSTART:20251210T131500Z
DTEND:20251210T150000Z
LOCATION:Building E1 3 – Lecture Hall II
SUMMARY:Lecture
END:VEVENT
BEGIN:VEVENT
UID:66343336-6665-4438-b434-356536353338
DTSTAMP:20260425T170058Z
DESCRIPTION:
DTSTART:20260106T091500Z
DTEND:20260106T110000Z
LOCATION:Building E1 3 – Lecture Hall II
SUMMARY:Lecture
END:VEVENT
BEGIN:VEVENT
UID:35336336-3865-4133-b433-363663613837
DTSTAMP:20260425T170058Z
DESCRIPTION:
DTSTART:20260107T131500Z
DTEND:20260107T150000Z
LOCATION:Building E1 3 – Lecture Hall II
SUMMARY:Lecture
END:VEVENT
BEGIN:VEVENT
UID:65393438-3761-4339-b364-373461633034
DTSTAMP:20260425T170058Z
DESCRIPTION:
DTSTART:20260113T091500Z
DTEND:20260113T110000Z
LOCATION:Building E1 3 – Lecture Hall II
SUMMARY:Lecture
END:VEVENT
BEGIN:VEVENT
UID:61383165-6366-4430-b236-396338633864
DTSTAMP:20260425T170058Z
DESCRIPTION:
DTSTART:20260114T131500Z
DTEND:20260114T150000Z
LOCATION:Building E1 3 – Lecture Hall II
SUMMARY:Lecture
END:VEVENT
BEGIN:VEVENT
UID:65383030-6162-4166-b537-373935323531
DTSTAMP:20260425T170058Z
DESCRIPTION:
DTSTART:20260120T091500Z
DTEND:20260120T110000Z
LOCATION:Building E1 3 – Lecture Hall II
SUMMARY:Lecture
END:VEVENT
BEGIN:VEVENT
UID:30373938-6463-4336-b536-316563303262
DTSTAMP:20260425T170058Z
DESCRIPTION:
DTSTART:20260121T131500Z
DTEND:20260121T150000Z
LOCATION:Building E1 3 – Lecture Hall II
SUMMARY:Lecture
END:VEVENT
BEGIN:VEVENT
UID:30313861-3731-4230-b235-396663646665
DTSTAMP:20260425T170058Z
DESCRIPTION:
DTSTART:20260127T091500Z
DTEND:20260127T110000Z
LOCATION:Building E1 3 – Lecture Hall II
SUMMARY:Lecture
END:VEVENT
BEGIN:VEVENT
UID:32376634-6562-4137-b230-333034313834
DTSTAMP:20260425T170058Z
DESCRIPTION:
DTSTART:20260128T131500Z
DTEND:20260128T150000Z
LOCATION:Building E1 3 – Lecture Hall II
SUMMARY:Lecture
END:VEVENT
END:VCALENDAR
