BEGIN:VCALENDAR
VERSION:2.0
PRODID:-//134.96.226.213//NONSGML kigkonsult.se iCalcreator 2.41.92//
CALSCALE:GREGORIAN
METHOD:PUBLISH
UID:39323063-3034-4036-a462-393434383663
X-WR-CALNAME:Introduction to Algorithms and Data Structures Calendar
X-WR-CALDESC:Events of the lecture Introduction to Algorithms and Data Stru
 ctures
X-WR-TIMEZONE:Europe/Berlin
BEGIN:VEVENT
UID:63356137-3336-4437-b239-356333336166
DTSTAMP:20260425T154051Z
DESCRIPTION:
DTSTART:20251016T100000Z
DTEND:20251016T120000Z
SUMMARY:Gralgodat25: Lecture
END:VEVENT
BEGIN:VEVENT
UID:66653666-6135-4163-b537-646461643936
DTSTAMP:20260425T154051Z
DESCRIPTION:
DTSTART:20251021T100000Z
DTEND:20251021T110000Z
LOCATION:E1-3 401
SUMMARY:Gralgodat25: Office Hour
END:VEVENT
BEGIN:VEVENT
UID:35646266-6465-4232-b965-643631626234
DTSTAMP:20260425T154051Z
DESCRIPTION:
DTSTART:20251023T100000Z
DTEND:20251023T120000Z
SUMMARY:Gralgodat25: Lecture
END:VEVENT
BEGIN:VEVENT
UID:33303432-3536-4235-a164-323337383630
DTSTAMP:20260425T154051Z
DESCRIPTION:
DTSTART:20251024T080000Z
DTEND:20251024T090000Z
LOCATION:E1-3 401
SUMMARY:Gralgodat25: Office Hour
END:VEVENT
BEGIN:VEVENT
UID:33303335-6136-4666-b462-303862343133
DTSTAMP:20260425T154051Z
DESCRIPTION:
DTSTART:20251028T110000Z
DTEND:20251028T120000Z
LOCATION:E1-3 401
SUMMARY:Gralgodat25: Office Hour
END:VEVENT
BEGIN:VEVENT
UID:33323439-3230-4161-b461-336166626363
DTSTAMP:20260425T154051Z
DESCRIPTION:
DTSTART:20251029T070000Z
DTEND:20251029T170000Z
SUMMARY:Gralgodat25: Tutorials
END:VEVENT
BEGIN:VEVENT
UID:31346432-3930-4932-b337-333163373461
DTSTAMP:20260425T154051Z
DESCRIPTION:
DTSTART:20251030T110000Z
DTEND:20251030T130000Z
SUMMARY:Gralgodat25: Lecture
END:VEVENT
BEGIN:VEVENT
UID:37663763-6164-4637-a562-306666323237
DTSTAMP:20260425T154051Z
DESCRIPTION:
DTSTART:20251031T090000Z
DTEND:20251031T100000Z
LOCATION:E1-3 401
SUMMARY:Gralgodat25: Office Hour
END:VEVENT
BEGIN:VEVENT
UID:33656538-3238-4739-a537-376232383165
DTSTAMP:20260425T154051Z
DESCRIPTION:
DTSTART:20251104T110000Z
DTEND:20251104T120000Z
LOCATION:E1-3 401
SUMMARY:Gralgodat25: Office Hour
END:VEVENT
BEGIN:VEVENT
UID:31653639-6335-4631-b138-356537363138
DTSTAMP:20260425T154051Z
DESCRIPTION:
DTSTART:20251105T070000Z
DTEND:20251105T170000Z
SUMMARY:Gralgodat25: Tutorials
END:VEVENT
BEGIN:VEVENT
UID:62636464-3261-4730-b163-623430376238
DTSTAMP:20260425T154051Z
DESCRIPTION:
DTSTART:20251106T110000Z
DTEND:20251106T130000Z
SUMMARY:Gralgodat25: Lecture
END:VEVENT
BEGIN:VEVENT
UID:63633233-3662-4162-b232-343432346262
DTSTAMP:20260425T154051Z
DESCRIPTION:
DTSTART:20251107T090000Z
DTEND:20251107T100000Z
LOCATION:E1-3 401
SUMMARY:Gralgodat25: Office Hour
END:VEVENT
BEGIN:VEVENT
UID:66653735-3339-4838-b939-623263643231
DTSTAMP:20260425T154051Z
DESCRIPTION:
DTSTART:20251111T110000Z
DTEND:20251111T120000Z
LOCATION:E1-3 401
SUMMARY:Gralgodat25: Office Hour
END:VEVENT
BEGIN:VEVENT
UID:39363638-3237-4434-a462-383834323336
DTSTAMP:20260425T154051Z
DESCRIPTION:
DTSTART:20251112T070000Z
DTEND:20251112T170000Z
SUMMARY:Gralgodat25: Tutorials
END:VEVENT
BEGIN:VEVENT
UID:66333937-3066-4364-b930-316333393139
DTSTAMP:20260425T154051Z
DESCRIPTION:
DTSTART:20251113T110000Z
DTEND:20251113T130000Z
SUMMARY:Gralgodat25: Lecture
END:VEVENT
BEGIN:VEVENT
UID:66626337-3763-4263-b466-613330363736
DTSTAMP:20260425T154051Z
DESCRIPTION:
DTSTART:20251114T090000Z
DTEND:20251114T100000Z
LOCATION:E1-3 401
SUMMARY:Gralgodat25: Office Hour
END:VEVENT
BEGIN:VEVENT
UID:62653737-3336-4761-b463-376230383534
DTSTAMP:20260425T154051Z
DESCRIPTION:
DTSTART:20251118T110000Z
DTEND:20251118T120000Z
LOCATION:E1-3 401
SUMMARY:Gralgodat25: Office Hour
END:VEVENT
BEGIN:VEVENT
UID:39326332-3131-4334-a162-643738333363
DTSTAMP:20260425T154051Z
DESCRIPTION:
DTSTART:20251119T070000Z
DTEND:20251119T170000Z
SUMMARY:Gralgodat25: Tutorials
END:VEVENT
BEGIN:VEVENT
UID:31313839-6462-4635-b833-306162356565
DTSTAMP:20260425T154051Z
DESCRIPTION:
DTSTART:20251120T110000Z
DTEND:20251120T130000Z
SUMMARY:Gralgodat25: Lecture
END:VEVENT
BEGIN:VEVENT
UID:37363261-6464-4633-a434-303133366366
DTSTAMP:20260425T154051Z
DESCRIPTION:
DTSTART:20251121T090000Z
DTEND:20251121T100000Z
LOCATION:E1-3 401
SUMMARY:Gralgodat25: Office Hour
END:VEVENT
BEGIN:VEVENT
UID:30666435-6337-4434-b039-656431623630
DTSTAMP:20260425T154051Z
DESCRIPTION:
DTSTART:20251125T110000Z
DTEND:20251125T120000Z
LOCATION:E1-3 401
SUMMARY:Gralgodat25: Office Hour
END:VEVENT
BEGIN:VEVENT
UID:63393665-3764-4134-b765-653032343237
DTSTAMP:20260425T154051Z
DESCRIPTION:
DTSTART:20251126T070000Z
DTEND:20251126T170000Z
SUMMARY:Gralgodat25: Tutorials
END:VEVENT
BEGIN:VEVENT
UID:39376231-3964-4036-a162-653639316632
DTSTAMP:20260425T154051Z
DESCRIPTION:
DTSTART:20251127T110000Z
DTEND:20251127T130000Z
SUMMARY:Gralgodat25: Lecture
END:VEVENT
BEGIN:VEVENT
UID:36336438-3133-4933-b738-373432323739
DTSTAMP:20260425T154051Z
DESCRIPTION:
DTSTART:20251128T090000Z
DTEND:20251128T100000Z
LOCATION:E1-3 401
SUMMARY:Gralgodat25: Office Hour
END:VEVENT
BEGIN:VEVENT
UID:39373338-6337-4432-a336-613130326338
DTSTAMP:20260425T154051Z
DESCRIPTION:
DTSTART:20251202T110000Z
DTEND:20251202T120000Z
LOCATION:E1-3 401
SUMMARY:Gralgodat25: Office Hour
END:VEVENT
BEGIN:VEVENT
UID:66366631-3261-4661-a130-633133663335
DTSTAMP:20260425T154051Z
DESCRIPTION:
DTSTART:20251203T070000Z
DTEND:20251203T170000Z
SUMMARY:Gralgodat25: Tutorials
END:VEVENT
BEGIN:VEVENT
UID:66393066-6232-4430-b937-366138303531
DTSTAMP:20260425T154051Z
DESCRIPTION:
DTSTART:20251204T110000Z
DTEND:20251204T130000Z
SUMMARY:Gralgodat25: Lecture
END:VEVENT
BEGIN:VEVENT
UID:33356264-3463-4138-b831-653665386564
DTSTAMP:20260425T154051Z
DESCRIPTION:
DTSTART:20251205T090000Z
DTEND:20251205T100000Z
LOCATION:E1-3 401
SUMMARY:Gralgodat25: Office Hour
END:VEVENT
BEGIN:VEVENT
UID:33366363-3633-4166-b431-376364386666
DTSTAMP:20260425T154051Z
DESCRIPTION:
DTSTART:20251209T110000Z
DTEND:20251209T120000Z
LOCATION:E1-3 401
SUMMARY:Gralgodat25: Office Hour
END:VEVENT
BEGIN:VEVENT
UID:61636634-3632-4237-b362-336165656537
DTSTAMP:20260425T154051Z
DESCRIPTION:
DTSTART:20251210T070000Z
DTEND:20251210T170000Z
SUMMARY:Gralgodat25: Tutorials
END:VEVENT
BEGIN:VEVENT
UID:38623361-6632-4463-b434-636238363034
DTSTAMP:20260425T154051Z
DESCRIPTION:
DTSTART:20251211T110000Z
DTEND:20251211T130000Z
SUMMARY:Gralgodat25: Lecture
END:VEVENT
BEGIN:VEVENT
UID:65646439-3234-4430-b738-323466333232
DTSTAMP:20260425T154051Z
DESCRIPTION:
DTSTART:20251212T090000Z
DTEND:20251212T100000Z
LOCATION:E1-3 401
SUMMARY:Gralgodat25: Office Hour
END:VEVENT
BEGIN:VEVENT
UID:64326639-3536-4665-b232-343938643862
DTSTAMP:20260425T154051Z
DESCRIPTION:
DTSTART:20251216T110000Z
DTEND:20251216T120000Z
LOCATION:E1-3 401
SUMMARY:Gralgodat25: Office Hour
END:VEVENT
BEGIN:VEVENT
UID:32653563-3533-4464-b439-396632336165
DTSTAMP:20260425T154051Z
DESCRIPTION:
DTSTART:20251217T070000Z
DTEND:20251217T170000Z
SUMMARY:Gralgodat25: Tutorials
END:VEVENT
BEGIN:VEVENT
UID:65303531-3865-4839-b263-346365396465
DTSTAMP:20260425T154051Z
DESCRIPTION:
DTSTART:20251218T110000Z
DTEND:20251218T130000Z
SUMMARY:Gralgodat25: Lecture
END:VEVENT
BEGIN:VEVENT
UID:62373932-3339-4133-b461-623266323861
DTSTAMP:20260425T154051Z
DESCRIPTION:
DTSTART:20251219T090000Z
DTEND:20251219T100000Z
LOCATION:E1-3 401
SUMMARY:Gralgodat25: Office Hour
END:VEVENT
BEGIN:VEVENT
UID:30393333-3662-4135-b138-386438613866
DTSTAMP:20260425T154051Z
DESCRIPTION:
DTSTART:20251223T110000Z
DTEND:20251223T120000Z
LOCATION:E1-3 401
SUMMARY:Gralgodat25: Office Hour
END:VEVENT
BEGIN:VEVENT
UID:30663966-6639-4235-b932-303635313462
DTSTAMP:20260425T154051Z
DESCRIPTION:
DTSTART:20251224T070000Z
DTEND:20251224T170000Z
SUMMARY:Gralgodat25: Tutorials
END:VEVENT
BEGIN:VEVENT
UID:63616464-6137-4261-b166-326465646533
DTSTAMP:20260425T154051Z
DESCRIPTION:
DTSTART:20251226T090000Z
DTEND:20251226T100000Z
LOCATION:E1-3 401
SUMMARY:Gralgodat25: Office Hour
END:VEVENT
BEGIN:VEVENT
UID:63383534-3566-4131-b832-616332666134
DTSTAMP:20260425T154051Z
DESCRIPTION:
DTSTART:20251230T110000Z
DTEND:20251230T120000Z
LOCATION:E1-3 401
SUMMARY:Gralgodat25: Office Hour
END:VEVENT
BEGIN:VEVENT
UID:33383562-3232-4338-a430-316566303537
DTSTAMP:20260425T154051Z
DESCRIPTION:
DTSTART:20251231T070000Z
DTEND:20251231T170000Z
SUMMARY:Gralgodat25: Tutorials
END:VEVENT
BEGIN:VEVENT
UID:62323965-3031-4736-b863-313366366433
DTSTAMP:20260425T154051Z
DESCRIPTION:
DTSTART:20260102T090000Z
DTEND:20260102T100000Z
LOCATION:E1-3 401
SUMMARY:Gralgodat25: Office Hour
END:VEVENT
BEGIN:VEVENT
UID:37643463-3561-4330-b366-366638366164
DTSTAMP:20260425T154051Z
DESCRIPTION:
DTSTART:20260106T110000Z
DTEND:20260106T120000Z
LOCATION:E1-3 401
SUMMARY:Gralgodat25: Office Hour
END:VEVENT
BEGIN:VEVENT
UID:65653339-3535-4736-a138-313034396166
DTSTAMP:20260425T154051Z
DESCRIPTION:
DTSTART:20260107T070000Z
DTEND:20260107T170000Z
SUMMARY:Gralgodat25: Tutorials
END:VEVENT
BEGIN:VEVENT
UID:61646564-3534-4139-b430-663362363139
DTSTAMP:20260425T154051Z
DESCRIPTION:
DTSTART:20260108T110000Z
DTEND:20260108T130000Z
SUMMARY:Gralgodat25: Lecture
END:VEVENT
BEGIN:VEVENT
UID:35333266-3361-4738-b737-653066366130
DTSTAMP:20260425T154051Z
DESCRIPTION:
DTSTART:20260109T090000Z
DTEND:20260109T100000Z
LOCATION:E1-3 401
SUMMARY:Gralgodat25: Office Hour
END:VEVENT
BEGIN:VEVENT
UID:36383933-6437-4630-a134-343232353437
DTSTAMP:20260425T154051Z
DESCRIPTION:
DTSTART:20260113T110000Z
DTEND:20260113T120000Z
LOCATION:E1-3 401
SUMMARY:Gralgodat25: Office Hour
END:VEVENT
BEGIN:VEVENT
UID:35313436-3337-4362-b462-383434623437
DTSTAMP:20260425T154051Z
DESCRIPTION:
DTSTART:20260114T070000Z
DTEND:20260114T170000Z
SUMMARY:Gralgodat25: Tutorials
END:VEVENT
BEGIN:VEVENT
UID:30306430-6664-4130-b066-356633323061
DTSTAMP:20260425T154051Z
DESCRIPTION:
DTSTART:20260115T110000Z
DTEND:20260115T130000Z
SUMMARY:Gralgodat25: Lecture
END:VEVENT
BEGIN:VEVENT
UID:61663065-6437-4666-a331-643935633235
DTSTAMP:20260425T154051Z
DESCRIPTION:
DTSTART:20260116T090000Z
DTEND:20260116T100000Z
LOCATION:E1-3 401
SUMMARY:Gralgodat25: Office Hour
END:VEVENT
BEGIN:VEVENT
UID:61653462-3737-4531-a261-663065623166
DTSTAMP:20260425T154051Z
DESCRIPTION:
DTSTART:20260120T110000Z
DTEND:20260120T120000Z
LOCATION:E1-3 401
SUMMARY:Gralgodat25: Office Hour
END:VEVENT
BEGIN:VEVENT
UID:66353738-3762-4231-a364-396132646332
DTSTAMP:20260425T154051Z
DESCRIPTION:
DTSTART:20260121T070000Z
DTEND:20260121T170000Z
SUMMARY:Gralgodat25: Tutorials
END:VEVENT
BEGIN:VEVENT
UID:38353237-3065-4534-a536-323662666330
DTSTAMP:20260425T154051Z
DESCRIPTION:
DTSTART:20260122T110000Z
DTEND:20260122T130000Z
SUMMARY:Gralgodat25: Lecture
END:VEVENT
BEGIN:VEVENT
UID:39653936-6534-4062-b462-656262363230
DTSTAMP:20260425T154051Z
DESCRIPTION:
DTSTART:20260123T090000Z
DTEND:20260123T100000Z
LOCATION:E1-3 401
SUMMARY:Gralgodat25: Office Hour
END:VEVENT
BEGIN:VEVENT
UID:34613837-3138-4132-b132-306139376334
DTSTAMP:20260425T154051Z
DESCRIPTION:
DTSTART:20260127T110000Z
DTEND:20260127T120000Z
LOCATION:E1-3 401
SUMMARY:Gralgodat25: Office Hour
END:VEVENT
BEGIN:VEVENT
UID:63303734-6564-4635-b262-346532383463
DTSTAMP:20260425T154051Z
DESCRIPTION:
DTSTART:20260128T070000Z
DTEND:20260128T170000Z
SUMMARY:Gralgodat25: Tutorials
END:VEVENT
BEGIN:VEVENT
UID:34306436-6338-4531-a639-313332646434
DTSTAMP:20260425T154051Z
DESCRIPTION:
DTSTART:20260129T110000Z
DTEND:20260129T130000Z
SUMMARY:Gralgodat25: Lecture
END:VEVENT
BEGIN:VEVENT
UID:61333461-6336-4537-b633-396437623066
DTSTAMP:20260425T154051Z
DESCRIPTION:
DTSTART:20260130T090000Z
DTEND:20260130T100000Z
LOCATION:E1-3 401
SUMMARY:Gralgodat25: Office Hour
END:VEVENT
BEGIN:VEVENT
UID:61313161-6338-4836-b531-653635353166
DTSTAMP:20260425T154051Z
DESCRIPTION:
DTSTART:20260203T110000Z
DTEND:20260203T120000Z
LOCATION:E1-3 401
SUMMARY:Gralgodat25: Office Hour
END:VEVENT
BEGIN:VEVENT
UID:39326338-6665-4164-b532-376133306637
DTSTAMP:20260425T154051Z
DESCRIPTION:
DTSTART:20260204T070000Z
DTEND:20260204T170000Z
SUMMARY:Gralgodat25: Tutorials
END:VEVENT
BEGIN:VEVENT
UID:31613462-3732-4831-b263-613163343639
DTSTAMP:20260425T154051Z
DESCRIPTION:
DTSTART:20260205T110000Z
DTEND:20260205T130000Z
SUMMARY:Gralgodat25: Lecture
END:VEVENT
BEGIN:VEVENT
UID:63383533-3830-4132-b962-393432326430
DTSTAMP:20260425T154051Z
DESCRIPTION:
DTSTART:20260206T090000Z
DTEND:20260206T100000Z
LOCATION:E1-3 401
SUMMARY:Gralgodat25: Office Hour
END:VEVENT
END:VCALENDAR
