BEGIN:VCALENDAR
VERSION:2.0
PRODID:-//134.96.226.213//NONSGML kigkonsult.se iCalcreator 2.41.92//
CALSCALE:GREGORIAN
METHOD:PUBLISH
UID:61636366-3231-4535-b734-373865656237
X-WR-CALNAME:Introduction to Algorithms and Data Structures Calendar
X-WR-CALDESC:Events of the lecture Introduction to Algorithms and Data Stru
 ctures
X-WR-TIMEZONE:Europe/Berlin
BEGIN:VEVENT
UID:36336661-3437-4534-a438-393231373931
DTSTAMP:20260425T153947Z
DESCRIPTION:
DTSTART:20251021T100000Z
DTEND:20251021T110000Z
LOCATION:E1-3 401
SUMMARY:Office Hour
END:VEVENT
BEGIN:VEVENT
UID:64613965-6139-4061-a338-343362323534
DTSTAMP:20260425T153947Z
DESCRIPTION:
DTSTART:20251024T080000Z
DTEND:20251024T090000Z
LOCATION:E1-3 401
SUMMARY:Office Hour
END:VEVENT
BEGIN:VEVENT
UID:32626434-6532-4361-b530-366130323133
DTSTAMP:20260425T153947Z
DESCRIPTION:
DTSTART:20251028T110000Z
DTEND:20251028T120000Z
LOCATION:E1-3 401
SUMMARY:Office Hour
END:VEVENT
BEGIN:VEVENT
UID:34373633-3531-4535-b065-383434366262
DTSTAMP:20260425T153947Z
DESCRIPTION:
DTSTART:20251031T090000Z
DTEND:20251031T100000Z
LOCATION:E1-3 401
SUMMARY:Office Hour
END:VEVENT
BEGIN:VEVENT
UID:31616566-3836-4732-a236-306238646264
DTSTAMP:20260425T153947Z
DESCRIPTION:
DTSTART:20251104T110000Z
DTEND:20251104T120000Z
LOCATION:E1-3 401
SUMMARY:Office Hour
END:VEVENT
BEGIN:VEVENT
UID:30343734-6436-4730-b861-333237383434
DTSTAMP:20260425T153947Z
DESCRIPTION:
DTSTART:20251107T090000Z
DTEND:20251107T100000Z
LOCATION:E1-3 401
SUMMARY:Office Hour
END:VEVENT
BEGIN:VEVENT
UID:36613165-6564-4532-b334-353930353163
DTSTAMP:20260425T153947Z
DESCRIPTION:
DTSTART:20251111T110000Z
DTEND:20251111T120000Z
LOCATION:E1-3 401
SUMMARY:Office Hour
END:VEVENT
BEGIN:VEVENT
UID:38383032-3064-4435-b862-313964323931
DTSTAMP:20260425T153947Z
DESCRIPTION:
DTSTART:20251114T090000Z
DTEND:20251114T100000Z
LOCATION:E1-3 401
SUMMARY:Office Hour
END:VEVENT
BEGIN:VEVENT
UID:34646563-6438-4961-b831-306635393731
DTSTAMP:20260425T153947Z
DESCRIPTION:
DTSTART:20251118T110000Z
DTEND:20251118T120000Z
LOCATION:E1-3 401
SUMMARY:Office Hour
END:VEVENT
BEGIN:VEVENT
UID:39303535-6332-4730-a638-323939393830
DTSTAMP:20260425T153947Z
DESCRIPTION:
DTSTART:20251121T090000Z
DTEND:20251121T100000Z
LOCATION:E1-3 401
SUMMARY:Office Hour
END:VEVENT
BEGIN:VEVENT
UID:64646563-6331-4663-b235-616635636161
DTSTAMP:20260425T153947Z
DESCRIPTION:
DTSTART:20251125T110000Z
DTEND:20251125T120000Z
LOCATION:E1-3 401
SUMMARY:Office Hour
END:VEVENT
BEGIN:VEVENT
UID:31666462-3062-4534-b262-383434393965
DTSTAMP:20260425T153947Z
DESCRIPTION:
DTSTART:20251128T090000Z
DTEND:20251128T100000Z
LOCATION:E1-3 401
SUMMARY:Office Hour
END:VEVENT
BEGIN:VEVENT
UID:34646138-3963-4639-b437-373965626539
DTSTAMP:20260425T153947Z
DESCRIPTION:
DTSTART:20251202T110000Z
DTEND:20251202T120000Z
LOCATION:E1-3 401
SUMMARY:Office Hour
END:VEVENT
BEGIN:VEVENT
UID:33333765-3735-4735-b636-303432313265
DTSTAMP:20260425T153947Z
DESCRIPTION:
DTSTART:20251205T090000Z
DTEND:20251205T100000Z
LOCATION:E1-3 401
SUMMARY:Office Hour
END:VEVENT
BEGIN:VEVENT
UID:61363737-3964-4236-b162-373133306437
DTSTAMP:20260425T153947Z
DESCRIPTION:
DTSTART:20251209T110000Z
DTEND:20251209T120000Z
LOCATION:E1-3 401
SUMMARY:Office Hour
END:VEVENT
BEGIN:VEVENT
UID:31306564-3633-4234-b934-396462303265
DTSTAMP:20260425T153947Z
DESCRIPTION:
DTSTART:20251212T090000Z
DTEND:20251212T100000Z
LOCATION:E1-3 401
SUMMARY:Office Hour
END:VEVENT
BEGIN:VEVENT
UID:32616663-3632-4533-a664-353038386534
DTSTAMP:20260425T153947Z
DESCRIPTION:
DTSTART:20251216T110000Z
DTEND:20251216T120000Z
LOCATION:E1-3 401
SUMMARY:Office Hour
END:VEVENT
BEGIN:VEVENT
UID:38656430-6662-4337-b561-343835663834
DTSTAMP:20260425T153947Z
DESCRIPTION:
DTSTART:20251219T090000Z
DTEND:20251219T100000Z
LOCATION:E1-3 401
SUMMARY:Office Hour
END:VEVENT
BEGIN:VEVENT
UID:63393635-3735-4261-b466-616366323861
DTSTAMP:20260425T153947Z
DESCRIPTION:
DTSTART:20251223T110000Z
DTEND:20251223T120000Z
LOCATION:E1-3 401
SUMMARY:Office Hour
END:VEVENT
BEGIN:VEVENT
UID:65353732-6665-4661-b064-396433396161
DTSTAMP:20260425T153947Z
DESCRIPTION:
DTSTART:20251226T090000Z
DTEND:20251226T100000Z
LOCATION:E1-3 401
SUMMARY:Office Hour
END:VEVENT
BEGIN:VEVENT
UID:34646462-3438-4436-b035-636131653866
DTSTAMP:20260425T153947Z
DESCRIPTION:
DTSTART:20251230T110000Z
DTEND:20251230T120000Z
LOCATION:E1-3 401
SUMMARY:Office Hour
END:VEVENT
BEGIN:VEVENT
UID:63393438-6339-4836-a261-663439623236
DTSTAMP:20260425T153947Z
DESCRIPTION:
DTSTART:20260102T090000Z
DTEND:20260102T100000Z
LOCATION:E1-3 401
SUMMARY:Office Hour
END:VEVENT
BEGIN:VEVENT
UID:64393034-6462-4030-b233-313438633866
DTSTAMP:20260425T153947Z
DESCRIPTION:
DTSTART:20260106T110000Z
DTEND:20260106T120000Z
LOCATION:E1-3 401
SUMMARY:Office Hour
END:VEVENT
BEGIN:VEVENT
UID:61313063-6134-4536-a266-633439653934
DTSTAMP:20260425T153947Z
DESCRIPTION:
DTSTART:20260109T090000Z
DTEND:20260109T100000Z
LOCATION:E1-3 401
SUMMARY:Office Hour
END:VEVENT
BEGIN:VEVENT
UID:38363836-6463-4833-b837-643132626135
DTSTAMP:20260425T153947Z
DESCRIPTION:
DTSTART:20260113T110000Z
DTEND:20260113T120000Z
LOCATION:E1-3 401
SUMMARY:Office Hour
END:VEVENT
BEGIN:VEVENT
UID:63643938-3236-4561-b737-626161373662
DTSTAMP:20260425T153947Z
DESCRIPTION:
DTSTART:20260116T090000Z
DTEND:20260116T100000Z
LOCATION:E1-3 401
SUMMARY:Office Hour
END:VEVENT
BEGIN:VEVENT
UID:35373832-3430-4664-a139-313364653535
DTSTAMP:20260425T153947Z
DESCRIPTION:
DTSTART:20260120T110000Z
DTEND:20260120T120000Z
LOCATION:E1-3 401
SUMMARY:Office Hour
END:VEVENT
BEGIN:VEVENT
UID:32336131-3464-4232-a635-393464626339
DTSTAMP:20260425T153947Z
DESCRIPTION:
DTSTART:20260123T090000Z
DTEND:20260123T100000Z
LOCATION:E1-3 401
SUMMARY:Office Hour
END:VEVENT
BEGIN:VEVENT
UID:64663133-3034-4930-b161-633637666465
DTSTAMP:20260425T153947Z
DESCRIPTION:
DTSTART:20260127T110000Z
DTEND:20260127T120000Z
LOCATION:E1-3 401
SUMMARY:Office Hour
END:VEVENT
BEGIN:VEVENT
UID:62396664-6135-4438-b238-326334613661
DTSTAMP:20260425T153947Z
DESCRIPTION:
DTSTART:20260130T090000Z
DTEND:20260130T100000Z
LOCATION:E1-3 401
SUMMARY:Office Hour
END:VEVENT
BEGIN:VEVENT
UID:37653562-6136-4930-a566-346464346232
DTSTAMP:20260425T153947Z
DESCRIPTION:
DTSTART:20260203T110000Z
DTEND:20260203T120000Z
LOCATION:E1-3 401
SUMMARY:Office Hour
END:VEVENT
BEGIN:VEVENT
UID:38653934-3865-4261-a661-373763626164
DTSTAMP:20260425T153947Z
DESCRIPTION:
DTSTART:20260206T090000Z
DTEND:20260206T100000Z
LOCATION:E1-3 401
SUMMARY:Office Hour
END:VEVENT
END:VCALENDAR
