BEGIN:VCALENDAR
VERSION:2.0
PRODID:-//134.96.226.213//NONSGML kigkonsult.se iCalcreator 2.41.92//
CALSCALE:GREGORIAN
METHOD:PUBLISH
UID:37616634-3230-4231-b132-626330323635
X-WR-CALNAME:Introduction to Algorithms and Data Structures Calendar
X-WR-CALDESC:Events of the lecture Introduction to Algorithms and Data Stru
 ctures
X-WR-TIMEZONE:Europe/Berlin
BEGIN:VEVENT
UID:64363938-3638-4637-b062-326230356263
DTSTAMP:20260425T154052Z
DESCRIPTION:
DTSTART:20251029T070000Z
DTEND:20251029T170000Z
SUMMARY:Tutorials
END:VEVENT
BEGIN:VEVENT
UID:65653064-6138-4038-a232-353237626464
DTSTAMP:20260425T154052Z
DESCRIPTION:
DTSTART:20251105T070000Z
DTEND:20251105T170000Z
SUMMARY:Tutorials
END:VEVENT
BEGIN:VEVENT
UID:38653731-3632-4132-b562-646636326136
DTSTAMP:20260425T154052Z
DESCRIPTION:
DTSTART:20251112T070000Z
DTEND:20251112T170000Z
SUMMARY:Tutorials
END:VEVENT
BEGIN:VEVENT
UID:65653634-3963-4033-b830-653036386535
DTSTAMP:20260425T154052Z
DESCRIPTION:
DTSTART:20251119T070000Z
DTEND:20251119T170000Z
SUMMARY:Tutorials
END:VEVENT
BEGIN:VEVENT
UID:31613565-3436-4430-a165-663437656536
DTSTAMP:20260425T154052Z
DESCRIPTION:
DTSTART:20251126T070000Z
DTEND:20251126T170000Z
SUMMARY:Tutorials
END:VEVENT
BEGIN:VEVENT
UID:65333032-6234-4262-b263-323036663934
DTSTAMP:20260425T154052Z
DESCRIPTION:
DTSTART:20251203T070000Z
DTEND:20251203T170000Z
SUMMARY:Tutorials
END:VEVENT
BEGIN:VEVENT
UID:35393063-6661-4563-b765-623236623937
DTSTAMP:20260425T154052Z
DESCRIPTION:
DTSTART:20251210T070000Z
DTEND:20251210T170000Z
SUMMARY:Tutorials
END:VEVENT
BEGIN:VEVENT
UID:65323561-3636-4465-b339-383664383433
DTSTAMP:20260425T154052Z
DESCRIPTION:
DTSTART:20251217T070000Z
DTEND:20251217T170000Z
SUMMARY:Tutorials
END:VEVENT
BEGIN:VEVENT
UID:34653962-3932-4437-a163-363030616265
DTSTAMP:20260425T154052Z
DESCRIPTION:
DTSTART:20251224T070000Z
DTEND:20251224T170000Z
SUMMARY:Tutorials
END:VEVENT
BEGIN:VEVENT
UID:37656331-3033-4635-b330-663330356633
DTSTAMP:20260425T154052Z
DESCRIPTION:
DTSTART:20251231T070000Z
DTEND:20251231T170000Z
SUMMARY:Tutorials
END:VEVENT
BEGIN:VEVENT
UID:63633237-6261-4231-b362-326232373331
DTSTAMP:20260425T154052Z
DESCRIPTION:
DTSTART:20260107T070000Z
DTEND:20260107T170000Z
SUMMARY:Tutorials
END:VEVENT
BEGIN:VEVENT
UID:39353536-3039-4936-a431-323135643564
DTSTAMP:20260425T154052Z
DESCRIPTION:
DTSTART:20260114T070000Z
DTEND:20260114T170000Z
SUMMARY:Tutorials
END:VEVENT
BEGIN:VEVENT
UID:62613965-3037-4362-b935-333262353037
DTSTAMP:20260425T154052Z
DESCRIPTION:
DTSTART:20260121T070000Z
DTEND:20260121T170000Z
SUMMARY:Tutorials
END:VEVENT
BEGIN:VEVENT
UID:36303163-6238-4234-b637-646336343563
DTSTAMP:20260425T154052Z
DESCRIPTION:
DTSTART:20260128T070000Z
DTEND:20260128T170000Z
SUMMARY:Tutorials
END:VEVENT
BEGIN:VEVENT
UID:32393065-3662-4238-b437-313935613937
DTSTAMP:20260425T154052Z
DESCRIPTION:
DTSTART:20260204T070000Z
DTEND:20260204T170000Z
SUMMARY:Tutorials
END:VEVENT
END:VCALENDAR
