BEGIN:VCALENDAR
VERSION:2.0
PRODID:-//134.96.226.213//NONSGML kigkonsult.se iCalcreator 2.41.92//
CALSCALE:GREGORIAN
METHOD:PUBLISH
UID:61346166-6531-4863-a632-303666643631
X-WR-CALNAME:Introduction to Algorithms and Data Structures Calendar
X-WR-CALDESC:Events of the lecture Introduction to Algorithms and Data Stru
 ctures
X-WR-TIMEZONE:Europe/Berlin
BEGIN:VEVENT
UID:30363565-6562-4131-a330-346237326434
DTSTAMP:20260425T154041Z
DESCRIPTION:
DTSTART:20251016T100000Z
DTEND:20251016T120000Z
SUMMARY:Lecture
END:VEVENT
BEGIN:VEVENT
UID:35633538-6334-4766-b233-313638653731
DTSTAMP:20260425T154041Z
DESCRIPTION:
DTSTART:20251023T100000Z
DTEND:20251023T120000Z
SUMMARY:Lecture
END:VEVENT
BEGIN:VEVENT
UID:34333364-6538-4638-b330-366462633630
DTSTAMP:20260425T154041Z
DESCRIPTION:
DTSTART:20251030T110000Z
DTEND:20251030T130000Z
SUMMARY:Lecture
END:VEVENT
BEGIN:VEVENT
UID:36353030-6166-4131-b166-303832393331
DTSTAMP:20260425T154041Z
DESCRIPTION:
DTSTART:20251106T110000Z
DTEND:20251106T130000Z
SUMMARY:Lecture
END:VEVENT
BEGIN:VEVENT
UID:65653036-3538-4061-a238-353930353634
DTSTAMP:20260425T154041Z
DESCRIPTION:
DTSTART:20251113T110000Z
DTEND:20251113T130000Z
SUMMARY:Lecture
END:VEVENT
BEGIN:VEVENT
UID:62346231-3762-4237-b764-663263376561
DTSTAMP:20260425T154041Z
DESCRIPTION:
DTSTART:20251120T110000Z
DTEND:20251120T130000Z
SUMMARY:Lecture
END:VEVENT
BEGIN:VEVENT
UID:30353365-6330-4830-a539-303037326237
DTSTAMP:20260425T154041Z
DESCRIPTION:
DTSTART:20251127T110000Z
DTEND:20251127T130000Z
SUMMARY:Lecture
END:VEVENT
BEGIN:VEVENT
UID:65623339-3338-4966-b130-313564343332
DTSTAMP:20260425T154041Z
DESCRIPTION:
DTSTART:20251204T110000Z
DTEND:20251204T130000Z
SUMMARY:Lecture
END:VEVENT
BEGIN:VEVENT
UID:33643638-6631-4632-b239-366439646164
DTSTAMP:20260425T154041Z
DESCRIPTION:
DTSTART:20251211T110000Z
DTEND:20251211T130000Z
SUMMARY:Lecture
END:VEVENT
BEGIN:VEVENT
UID:65393633-6266-4230-b338-323062623936
DTSTAMP:20260425T154041Z
DESCRIPTION:
DTSTART:20251218T110000Z
DTEND:20251218T130000Z
SUMMARY:Lecture
END:VEVENT
BEGIN:VEVENT
UID:63393634-6561-4230-a630-656236343239
DTSTAMP:20260425T154041Z
DESCRIPTION:
DTSTART:20260108T110000Z
DTEND:20260108T130000Z
SUMMARY:Lecture
END:VEVENT
BEGIN:VEVENT
UID:65323637-3938-4534-b665-323966353537
DTSTAMP:20260425T154041Z
DESCRIPTION:
DTSTART:20260115T110000Z
DTEND:20260115T130000Z
SUMMARY:Lecture
END:VEVENT
BEGIN:VEVENT
UID:37303161-3861-4335-a562-336434336131
DTSTAMP:20260425T154041Z
DESCRIPTION:
DTSTART:20260122T110000Z
DTEND:20260122T130000Z
SUMMARY:Lecture
END:VEVENT
BEGIN:VEVENT
UID:38306464-3665-4835-b261-333230626131
DTSTAMP:20260425T154041Z
DESCRIPTION:
DTSTART:20260129T110000Z
DTEND:20260129T130000Z
SUMMARY:Lecture
END:VEVENT
BEGIN:VEVENT
UID:62353263-3036-4561-b066-303538653465
DTSTAMP:20260425T154041Z
DESCRIPTION:
DTSTART:20260205T110000Z
DTEND:20260205T130000Z
SUMMARY:Lecture
END:VEVENT
END:VCALENDAR
