BEGIN:VCALENDAR
VERSION:2.0
PRODID:-//134.96.226.213//NONSGML kigkonsult.se iCalcreator 2.41.71//
CALSCALE:GREGORIAN
METHOD:PUBLISH
UID:36643363-3039-4730-a539-313136666330
X-WR-CALNAME:Generic and Generative Software Design Calendar
X-WR-CALDESC:Events of the lecture Generic and Generative Software Design
X-WR-TIMEZONE:Europe/Berlin
BEGIN:VEVENT
UID:62326536-6464-4034-a164-626665303766
DTSTAMP:20260420T230453Z
DESCRIPTION:
DTSTART:20221026T100000Z
DTEND:20221026T120000Z
LOCATION:Zoom
SUMMARY:Genprog: Lecture
END:VEVENT
BEGIN:VEVENT
UID:66626166-3166-4665-b139-613237393262
DTSTAMP:20260420T230453Z
DESCRIPTION:
DTSTART:20221031T110000Z
DTEND:20221031T130000Z
LOCATION:Zoom
SUMMARY:Genprog: Lecture
END:VEVENT
BEGIN:VEVENT
UID:35343837-6236-4565-b466-366566393032
DTSTAMP:20260420T230453Z
DESCRIPTION:
DTSTART:20221102T110000Z
DTEND:20221102T130000Z
LOCATION:Zoom
SUMMARY:Genprog: Lecture
END:VEVENT
BEGIN:VEVENT
UID:39616333-3630-4133-b232-636364383564
DTSTAMP:20260420T230453Z
DESCRIPTION:
DTSTART:20221107T110000Z
DTEND:20221107T130000Z
LOCATION:Zoom
SUMMARY:Genprog: Lecture
END:VEVENT
BEGIN:VEVENT
UID:30303664-3631-4239-a166-376233653431
DTSTAMP:20260420T230453Z
DESCRIPTION:
DTSTART:20221109T110000Z
DTEND:20221109T130000Z
LOCATION:Zoom
SUMMARY:Genprog: Lecture
END:VEVENT
BEGIN:VEVENT
UID:61333236-3637-4336-b632-336537353636
DTSTAMP:20260420T230453Z
DESCRIPTION:
DTSTART:20221114T110000Z
DTEND:20221114T130000Z
LOCATION:Zoom
SUMMARY:Genprog: Lecture
END:VEVENT
BEGIN:VEVENT
UID:39353263-3162-4439-b831-613564343162
DTSTAMP:20260420T230453Z
DESCRIPTION:
DTSTART:20221116T110000Z
DTEND:20221116T130000Z
LOCATION:Zoom
SUMMARY:Genprog: Lecture
END:VEVENT
BEGIN:VEVENT
UID:31363132-6231-4134-a336-373933633963
DTSTAMP:20260420T230453Z
DESCRIPTION:
DTSTART:20221121T110000Z
DTEND:20221121T130000Z
LOCATION:Zoom
SUMMARY:Genprog: Lecture
END:VEVENT
BEGIN:VEVENT
UID:32303833-6462-4932-b336-353032643764
DTSTAMP:20260420T230453Z
DESCRIPTION:
DTSTART:20221123T110000Z
DTEND:20221123T130000Z
LOCATION:Zoom
SUMMARY:Genprog: Lecture
END:VEVENT
BEGIN:VEVENT
UID:66636335-3233-4231-b539-343266386164
DTSTAMP:20260420T230453Z
DESCRIPTION:
DTSTART:20221130T110000Z
DTEND:20221130T130000Z
LOCATION:Zoom
SUMMARY:Genprog: Lecture
END:VEVENT
BEGIN:VEVENT
UID:61316535-3330-4563-a131-643731356637
DTSTAMP:20260420T230453Z
DESCRIPTION:
DTSTART:20221205T110000Z
DTEND:20221205T130000Z
LOCATION:Zoom
SUMMARY:Genprog: Lecture
END:VEVENT
BEGIN:VEVENT
UID:33306166-3639-4566-b139-636462656135
DTSTAMP:20260420T230453Z
DESCRIPTION:
DTSTART:20221207T110000Z
DTEND:20221207T130000Z
LOCATION:Zoom
SUMMARY:Genprog: Lecture
END:VEVENT
BEGIN:VEVENT
UID:30386666-3239-4233-a566-323338333734
DTSTAMP:20260420T230453Z
DESCRIPTION:
DTSTART:20221212T110000Z
DTEND:20221212T130000Z
LOCATION:Zoom
SUMMARY:Genprog: Lecture
END:VEVENT
BEGIN:VEVENT
UID:39393263-6632-4439-b036-646263336635
DTSTAMP:20260420T230453Z
DESCRIPTION:
DTSTART:20221214T110000Z
DTEND:20221214T130000Z
LOCATION:Zoom
SUMMARY:Genprog: Lecture
END:VEVENT
BEGIN:VEVENT
UID:65613435-6437-4163-b338-323166636663
DTSTAMP:20260420T230453Z
DESCRIPTION:
DTSTART:20221219T110000Z
DTEND:20221219T130000Z
LOCATION:Zoom
SUMMARY:Genprog: Lecture
END:VEVENT
BEGIN:VEVENT
UID:62383363-3862-4564-a261-326131643930
DTSTAMP:20260420T230453Z
DESCRIPTION:
DTSTART:20221221T110000Z
DTEND:20221221T130000Z
LOCATION:Zoom
SUMMARY:Genprog: Lecture
END:VEVENT
BEGIN:VEVENT
UID:32303664-3034-4264-a563-636234393663
DTSTAMP:20260420T230453Z
DESCRIPTION:
DTSTART:20230111T110000Z
DTEND:20230111T130000Z
LOCATION:Zoom
SUMMARY:Genprog: Office Hour
END:VEVENT
BEGIN:VEVENT
UID:64616637-3761-4138-a662-366466653561
DTSTAMP:20260420T230453Z
DESCRIPTION:
DTSTART:20230116T110000Z
DTEND:20230116T130000Z
LOCATION:Zoom
SUMMARY:Genprog: Lecture
END:VEVENT
BEGIN:VEVENT
UID:34303365-3862-4333-b831-636333316139
DTSTAMP:20260420T230453Z
DESCRIPTION:
DTSTART:20230118T110000Z
DTEND:20230118T130000Z
LOCATION:Zoom
SUMMARY:Genprog: Lecture
END:VEVENT
BEGIN:VEVENT
UID:37333663-3630-4562-b466-333234666131
DTSTAMP:20260420T230453Z
DESCRIPTION:
DTSTART:20230123T110000Z
DTEND:20230123T130000Z
LOCATION:Zoom
SUMMARY:Genprog: Lecture
END:VEVENT
BEGIN:VEVENT
UID:64373834-3865-4866-b935-383932326237
DTSTAMP:20260420T230453Z
DESCRIPTION:
DTSTART:20230125T110000Z
DTEND:20230125T130000Z
LOCATION:Zoom
SUMMARY:Genprog: Exercise Session
END:VEVENT
BEGIN:VEVENT
UID:38626238-3138-4839-b264-316534346235
DTSTAMP:20260420T230453Z
DESCRIPTION:
DTSTART:20230201T110000Z
DTEND:20230201T130000Z
LOCATION:Zoom
SUMMARY:Genprog: Office Hour
END:VEVENT
BEGIN:VEVENT
UID:37333863-3634-4134-b262-313832666462
DTSTAMP:20260420T230453Z
DESCRIPTION:
DTSTART:20230213T090000Z
DTEND:20230213T110000Z
LOCATION:E1.3 HS002
SUMMARY:Genprog: First Exam
END:VEVENT
BEGIN:VEVENT
UID:38393838-6334-4536-b139-333031363236
DTSTAMP:20260420T230453Z
DESCRIPTION:
DTSTART:20230320T090000Z
DTEND:20230320T110000Z
LOCATION:E1.3 HS002
SUMMARY:Genprog: Second Exam
END:VEVENT
END:VCALENDAR
