BEGIN:VCALENDAR
VERSION:2.0
PRODID:-//134.96.226.213//NONSGML kigkonsult.se iCalcreator 2.41.71//
CALSCALE:GREGORIAN
METHOD:PUBLISH
UID:36323966-6534-4166-b436-653735313238
X-WR-CALNAME:Generic and Generative Software Design Calendar
X-WR-CALDESC:Events of the lecture Generic and Generative Software Design
X-WR-TIMEZONE:Europe/Berlin
BEGIN:VEVENT
UID:39383831-6537-4137-a333-306130366466
DTSTAMP:20260421T003648Z
DESCRIPTION:
DTSTART:20230111T110000Z
DTEND:20230111T130000Z
LOCATION:Zoom
SUMMARY:Office Hour
END:VEVENT
BEGIN:VEVENT
UID:65353263-6566-4361-a233-373134656564
DTSTAMP:20260421T003648Z
DESCRIPTION:
DTSTART:20230201T110000Z
DTEND:20230201T130000Z
LOCATION:Zoom
SUMMARY:Office Hour
END:VEVENT
END:VCALENDAR
