BEGIN:VCALENDAR
VERSION:2.0
PRODID:-//134.96.226.213//NONSGML kigkonsult.se iCalcreator 2.41.71//
CALSCALE:GREGORIAN
METHOD:PUBLISH
UID:38613836-6436-4335-b633-323561326164
X-WR-CALNAME:Generic and Generative Software Design Calendar
X-WR-CALDESC:Events of the lecture Generic and Generative Software Design
X-WR-TIMEZONE:Europe/Berlin
BEGIN:VEVENT
UID:32373637-6334-4930-b063-656236323564
DTSTAMP:20260420T230437Z
DESCRIPTION:
DTSTART:20221026T100000Z
DTEND:20221026T120000Z
LOCATION:Zoom
SUMMARY:Lecture
END:VEVENT
BEGIN:VEVENT
UID:34333466-3065-4663-b962-386238356336
DTSTAMP:20260420T230437Z
DESCRIPTION:
DTSTART:20221031T110000Z
DTEND:20221031T130000Z
LOCATION:Zoom
SUMMARY:Lecture
END:VEVENT
BEGIN:VEVENT
UID:33663466-3737-4530-a533-376666306365
DTSTAMP:20260420T230437Z
DESCRIPTION:
DTSTART:20221102T110000Z
DTEND:20221102T130000Z
LOCATION:Zoom
SUMMARY:Lecture
END:VEVENT
BEGIN:VEVENT
UID:65326362-3833-4431-b763-626166316430
DTSTAMP:20260420T230437Z
DESCRIPTION:
DTSTART:20221107T110000Z
DTEND:20221107T130000Z
LOCATION:Zoom
SUMMARY:Lecture
END:VEVENT
BEGIN:VEVENT
UID:65633630-6231-4965-b431-636538653761
DTSTAMP:20260420T230437Z
DESCRIPTION:
DTSTART:20221109T110000Z
DTEND:20221109T130000Z
LOCATION:Zoom
SUMMARY:Lecture
END:VEVENT
BEGIN:VEVENT
UID:66616135-6633-4636-b965-636137643664
DTSTAMP:20260420T230437Z
DESCRIPTION:
DTSTART:20221114T110000Z
DTEND:20221114T130000Z
LOCATION:Zoom
SUMMARY:Lecture
END:VEVENT
BEGIN:VEVENT
UID:66356134-6563-4235-a339-303838373939
DTSTAMP:20260420T230437Z
DESCRIPTION:
DTSTART:20221116T110000Z
DTEND:20221116T130000Z
LOCATION:Zoom
SUMMARY:Lecture
END:VEVENT
BEGIN:VEVENT
UID:61373435-6163-4632-b165-343933373761
DTSTAMP:20260420T230437Z
DESCRIPTION:
DTSTART:20221121T110000Z
DTEND:20221121T130000Z
LOCATION:Zoom
SUMMARY:Lecture
END:VEVENT
BEGIN:VEVENT
UID:66623766-3835-4538-a632-386137343431
DTSTAMP:20260420T230437Z
DESCRIPTION:
DTSTART:20221123T110000Z
DTEND:20221123T130000Z
LOCATION:Zoom
SUMMARY:Lecture
END:VEVENT
BEGIN:VEVENT
UID:66666165-6537-4763-b736-393930303631
DTSTAMP:20260420T230437Z
DESCRIPTION:
DTSTART:20221130T110000Z
DTEND:20221130T130000Z
LOCATION:Zoom
SUMMARY:Lecture
END:VEVENT
BEGIN:VEVENT
UID:31623437-3162-4931-b034-663864363263
DTSTAMP:20260420T230437Z
DESCRIPTION:
DTSTART:20221205T110000Z
DTEND:20221205T130000Z
LOCATION:Zoom
SUMMARY:Lecture
END:VEVENT
BEGIN:VEVENT
UID:36326638-6333-4331-b132-313962663433
DTSTAMP:20260420T230437Z
DESCRIPTION:
DTSTART:20221207T110000Z
DTEND:20221207T130000Z
LOCATION:Zoom
SUMMARY:Lecture
END:VEVENT
BEGIN:VEVENT
UID:37363034-6366-4735-b234-346535316364
DTSTAMP:20260420T230437Z
DESCRIPTION:
DTSTART:20221212T110000Z
DTEND:20221212T130000Z
LOCATION:Zoom
SUMMARY:Lecture
END:VEVENT
BEGIN:VEVENT
UID:61613761-3763-4366-b764-386165393263
DTSTAMP:20260420T230437Z
DESCRIPTION:
DTSTART:20221214T110000Z
DTEND:20221214T130000Z
LOCATION:Zoom
SUMMARY:Lecture
END:VEVENT
BEGIN:VEVENT
UID:66326362-6433-4534-a232-616137636264
DTSTAMP:20260420T230437Z
DESCRIPTION:
DTSTART:20221219T110000Z
DTEND:20221219T130000Z
LOCATION:Zoom
SUMMARY:Lecture
END:VEVENT
BEGIN:VEVENT
UID:63313531-6431-4039-b538-333961313738
DTSTAMP:20260420T230437Z
DESCRIPTION:
DTSTART:20221221T110000Z
DTEND:20221221T130000Z
LOCATION:Zoom
SUMMARY:Lecture
END:VEVENT
BEGIN:VEVENT
UID:33396439-3166-4034-b432-633136316230
DTSTAMP:20260420T230437Z
DESCRIPTION:
DTSTART:20230111T110000Z
DTEND:20230111T130000Z
LOCATION:Zoom
SUMMARY:Office Hour
END:VEVENT
BEGIN:VEVENT
UID:32643334-3362-4437-b033-363062343939
DTSTAMP:20260420T230437Z
DESCRIPTION:
DTSTART:20230116T110000Z
DTEND:20230116T130000Z
LOCATION:Zoom
SUMMARY:Lecture
END:VEVENT
BEGIN:VEVENT
UID:31646161-3339-4931-b362-643936623739
DTSTAMP:20260420T230437Z
DESCRIPTION:
DTSTART:20230118T110000Z
DTEND:20230118T130000Z
LOCATION:Zoom
SUMMARY:Lecture
END:VEVENT
BEGIN:VEVENT
UID:61343539-3364-4334-a638-636138636361
DTSTAMP:20260420T230437Z
DESCRIPTION:
DTSTART:20230123T110000Z
DTEND:20230123T130000Z
LOCATION:Zoom
SUMMARY:Lecture
END:VEVENT
BEGIN:VEVENT
UID:33373939-3237-4832-b239-373234646363
DTSTAMP:20260420T230437Z
DESCRIPTION:
DTSTART:20230125T110000Z
DTEND:20230125T130000Z
LOCATION:Zoom
SUMMARY:Exercise Session
END:VEVENT
BEGIN:VEVENT
UID:34303232-3038-4332-b561-336636643536
DTSTAMP:20260420T230437Z
DESCRIPTION:
DTSTART:20230201T110000Z
DTEND:20230201T130000Z
LOCATION:Zoom
SUMMARY:Office Hour
END:VEVENT
BEGIN:VEVENT
UID:64353539-6131-4538-b933-333162343762
DTSTAMP:20260420T230437Z
DESCRIPTION:
DTSTART:20230213T090000Z
DTEND:20230213T110000Z
LOCATION:E1.3 HS002
SUMMARY:First Exam
END:VEVENT
BEGIN:VEVENT
UID:62306163-6635-4666-b764-623065376364
DTSTAMP:20260420T230437Z
DESCRIPTION:
DTSTART:20230320T090000Z
DTEND:20230320T110000Z
LOCATION:E1.3 HS002
SUMMARY:Second Exam
END:VEVENT
END:VCALENDAR
