BEGIN:VCALENDAR
VERSION:2.0
PRODID:-//134.96.226.213//NONSGML kigkonsult.se iCalcreator 2.41.71//
CALSCALE:GREGORIAN
METHOD:PUBLISH
UID:36326265-6162-4830-a336-323761376662
X-WR-CALNAME:Gescheiterte Digitalisierung Calendar
X-WR-CALDESC:Termine der Vorlesung Gescheiterte Digitalisierung
X-WR-TIMEZONE:Europe/Berlin
BEGIN:VEVENT
UID:37386264-3430-4339-b336-303034643766
DTSTAMP:20260420T053742Z
DESCRIPTION:
DTSTART:20250507T121500Z
DTEND:20250507T140000Z
LOCATION:E2 1\, Raum 007 (Bioinformatik)
SUMMARY:Gdps25: Wie halte ich einen guten Vortrag?
END:VEVENT
BEGIN:VEVENT
UID:33656531-6131-4662-b433-383437363064
DTSTAMP:20260420T053742Z
DESCRIPTION:
DTSTART:20250521T121500Z
DTEND:20250521T140000Z
LOCATION:E2 1\, Raum 007 (Bioinformatik)
SUMMARY:Gdps25: Use-Case 1: Analoge Verwaltung (Lars & Mahmoud)
END:VEVENT
BEGIN:VEVENT
UID:39306330-6162-4464-b231-373837333639
DTSTAMP:20260420T053742Z
DESCRIPTION:
DTSTART:20250528T121500Z
DTEND:20250528T140000Z
LOCATION:E2 1\, Raum 007 (Bioinformatik)
SUMMARY:Gdps25: Use-Case 3: Luca App (Julian G. + Ruwen)
END:VEVENT
BEGIN:VEVENT
UID:32356232-3936-4634-b431-356464386562
DTSTAMP:20260420T053742Z
DESCRIPTION:
DTSTART:20250604T121500Z
DTEND:20250604T140000Z
LOCATION:E2 1\, Raum 007 (Bioinformatik)
SUMMARY:Gdps25: Use-Case 5: Elektronische Patientenakte (Annika & Johanna)
END:VEVENT
BEGIN:VEVENT
UID:65386231-3038-4962-b931-626266613130
DTSTAMP:20260420T053742Z
DESCRIPTION:
DTSTART:20250611T121500Z
DTEND:20250611T140000Z
LOCATION:E2 1\, Raum 007 (Bioinformatik)
SUMMARY:Gdps25: Use-Case 6: Tesla 'Auto'-Pilot (Nils & Kevin)
END:VEVENT
BEGIN:VEVENT
UID:63303831-6630-4166-b661-653733643030
DTSTAMP:20260420T053742Z
DESCRIPTION:
DTSTART:20250618T121500Z
DTEND:20250618T140000Z
LOCATION:E2 1\, Raum 007 (Bioinformatik)
SUMMARY:Gdps25: Use-Case 8: IT-Infrastruktur (Julian B. & Georg)
END:VEVENT
BEGIN:VEVENT
UID:33363833-6465-4865-a138-626539336238
DTSTAMP:20260420T053742Z
DESCRIPTION:
DTSTART:20250716T121500Z
DTEND:20250716T140000Z
LOCATION:E2 1\, Raum 007 (Bioinformatik)
SUMMARY:Gdps25: Take-Aways
END:VEVENT
END:VCALENDAR
