BEGIN:VCALENDAR
VERSION:2.0
PRODID:-//134.96.226.213//NONSGML kigkonsult.se iCalcreator 2.41.71//
CALSCALE:GREGORIAN
METHOD:PUBLISH
UID:61353032-6464-4837-b035-393333623938
X-WR-CALNAME:Gescheiterte Digitalisierung Calendar
X-WR-CALDESC:Termine der Vorlesung Gescheiterte Digitalisierung
X-WR-TIMEZONE:Europe/Berlin
BEGIN:VEVENT
UID:39613863-3734-4162-a266-373161313534
DTSTAMP:20260420T053753Z
DESCRIPTION:
DTSTART:20250507T121500Z
DTEND:20250507T140000Z
LOCATION:E2 1\, Raum 007 (Bioinformatik)
SUMMARY:Gdps25: Wie halte ich einen guten Vortrag?
END:VEVENT
BEGIN:VEVENT
UID:35666265-6263-4362-b561-616439363930
DTSTAMP:20260420T053753Z
DESCRIPTION:
DTSTART:20250716T121500Z
DTEND:20250716T140000Z
LOCATION:E2 1\, Raum 007 (Bioinformatik)
SUMMARY:Gdps25: Take-Aways
END:VEVENT
END:VCALENDAR
