BEGIN:VCALENDAR
VERSION:2.0
PRODID:-//134.96.226.213//NONSGML kigkonsult.se iCalcreator 2.41.71//
CALSCALE:GREGORIAN
METHOD:PUBLISH
UID:39303662-6164-4962-b632-626164363366
X-WR-CALNAME:Gescheiterte Digitalisierung Calendar
X-WR-CALDESC:Termine der Vorlesung Gescheiterte Digitalisierung
X-WR-TIMEZONE:Europe/Berlin
BEGIN:VEVENT
UID:61303838-3861-4065-a630-626534666635
DTSTAMP:20260420T053744Z
DESCRIPTION:
DTSTART:20250507T121500Z
DTEND:20250507T140000Z
LOCATION:E2 1\, Raum 007 (Bioinformatik)
SUMMARY:Wie halte ich einen guten Vortrag?
END:VEVENT
BEGIN:VEVENT
UID:39653934-6463-4163-a566-313064323237
DTSTAMP:20260420T053744Z
DESCRIPTION:
DTSTART:20250716T121500Z
DTEND:20250716T140000Z
LOCATION:E2 1\, Raum 007 (Bioinformatik)
SUMMARY:Take-Aways
END:VEVENT
END:VCALENDAR
