BEGIN:VCALENDAR
VERSION:2.0
PRODID:-//134.96.226.213//NONSGML kigkonsult.se iCalcreator 2.41.71//
CALSCALE:GREGORIAN
METHOD:PUBLISH
UID:63323864-3438-4563-a336-376239333732
X-WR-CALNAME:Gescheiterte Digitalisierung Calendar
X-WR-CALDESC:Termine der Vorlesung Gescheiterte Digitalisierung
X-WR-TIMEZONE:Europe/Berlin
BEGIN:VEVENT
UID:63646565-3232-4163-b061-333031376436
DTSTAMP:20260420T041303Z
DESCRIPTION:
DTSTART:20250521T121500Z
DTEND:20250521T140000Z
LOCATION:E2 1\, Raum 007 (Bioinformatik)
SUMMARY:Use-Case 1: Analoge Verwaltung (Lars & Mahmoud)
END:VEVENT
BEGIN:VEVENT
UID:64313238-3333-4134-b635-336663313531
DTSTAMP:20260420T041303Z
DESCRIPTION:
DTSTART:20250528T121500Z
DTEND:20250528T140000Z
LOCATION:E2 1\, Raum 007 (Bioinformatik)
SUMMARY:Use-Case 3: Luca App (Julian G. + Ruwen)
END:VEVENT
BEGIN:VEVENT
UID:38313937-3534-4637-a638-663439626430
DTSTAMP:20260420T041303Z
DESCRIPTION:
DTSTART:20250604T121500Z
DTEND:20250604T140000Z
LOCATION:E2 1\, Raum 007 (Bioinformatik)
SUMMARY:Use-Case 5: Elektronische Patientenakte (Annika & Johanna)
END:VEVENT
BEGIN:VEVENT
UID:35316564-3331-4965-a537-343564373537
DTSTAMP:20260420T041303Z
DESCRIPTION:
DTSTART:20250611T121500Z
DTEND:20250611T140000Z
LOCATION:E2 1\, Raum 007 (Bioinformatik)
SUMMARY:Use-Case 6: Tesla 'Auto'-Pilot (Nils & Kevin)
END:VEVENT
BEGIN:VEVENT
UID:30336631-3638-4330-b631-653733313161
DTSTAMP:20260420T041303Z
DESCRIPTION:
DTSTART:20250618T121500Z
DTEND:20250618T140000Z
LOCATION:E2 1\, Raum 007 (Bioinformatik)
SUMMARY:Use-Case 8: IT-Infrastruktur (Julian B. & Georg)
END:VEVENT
END:VCALENDAR
