BEGIN:VCALENDAR
VERSION:2.0
PRODID:-//134.96.226.213//NONSGML kigkonsult.se iCalcreator 2.41.92//
CALSCALE:GREGORIAN
METHOD:PUBLISH
UID:64663334-3164-4833-b861-663636663137
X-WR-CALNAME:Grundlagen der Medieninformatik Calendar
X-WR-CALDESC:Termine der Vorlesung Grundlagen der Medieninformatik
X-WR-TIMEZONE:Europe/Berlin
BEGIN:VEVENT
UID:31313166-6565-4331-a535-363961323236
DTSTAMP:20260425T115509Z
DESCRIPTION:
DTSTART:20201104T110000Z
DTEND:20201104T130000Z
SUMMARY:Gdmi: Kick-Off Vorlesung
END:VEVENT
BEGIN:VEVENT
UID:30323866-3437-4235-b330-343063636436
DTSTAMP:20260425T115509Z
DESCRIPTION:
DTSTART:20201105T150000Z
DTEND:20201105T150000Z
SUMMARY:Gdmi: Release Videos Block A
END:VEVENT
BEGIN:VEVENT
UID:61623339-3665-4962-b166-663561353435
DTSTAMP:20260425T115509Z
DESCRIPTION:
DTSTART:20201107T225900Z
DTEND:20201107T225900Z
SUMMARY:Gdmi: Deadline CMS Registrierung
END:VEVENT
BEGIN:VEVENT
UID:38653139-3835-4364-a136-313932383531
DTSTAMP:20260425T115509Z
DESCRIPTION:
DTSTART:20201109T110000Z
DTEND:20201109T130000Z
SUMMARY:Gdmi: Online Office Hour
END:VEVENT
BEGIN:VEVENT
UID:37313264-6231-4234-b436-343330316339
DTSTAMP:20260425T115509Z
DESCRIPTION:
DTSTART:20201110T070000Z
DTEND:20201110T070000Z
SUMMARY:Gdmi: Release Übungsblatt A
END:VEVENT
BEGIN:VEVENT
UID:65643732-3532-4231-b631-396638653439
DTSTAMP:20260425T115509Z
DESCRIPTION:
DTSTART:20201110T110000Z
DTEND:20201110T130000Z
SUMMARY:Gdmi: Tutorium Rot
END:VEVENT
BEGIN:VEVENT
UID:35393732-3930-4838-b638-353737656330
DTSTAMP:20260425T115509Z
DESCRIPTION:
DTSTART:20201110T150000Z
DTEND:20201110T170000Z
SUMMARY:Gdmi: Tutorium Grün
END:VEVENT
BEGIN:VEVENT
UID:65636165-6565-4933-a234-623631633834
DTSTAMP:20260425T115509Z
DESCRIPTION:
DTSTART:20201110T170000Z
DTEND:20201110T190000Z
SUMMARY:Gdmi: Tutorium Blau
END:VEVENT
BEGIN:VEVENT
UID:31303234-6334-4632-a162-363265316630
DTSTAMP:20260425T115509Z
DESCRIPTION:
DTSTART:20201112T150000Z
DTEND:20201112T150000Z
SUMMARY:Gdmi: Release Videos Block B
END:VEVENT
BEGIN:VEVENT
UID:66373433-3134-4862-a330-386537613064
DTSTAMP:20260425T115509Z
DESCRIPTION:
DTSTART:20201116T110000Z
DTEND:20201116T130000Z
SUMMARY:Gdmi: Online Office Hour
END:VEVENT
BEGIN:VEVENT
UID:38366561-3361-4832-b136-356666643831
DTSTAMP:20260425T115509Z
DESCRIPTION:
DTSTART:20201116T225900Z
DTEND:20201116T225900Z
SUMMARY:Gdmi: Deadline Übungsblatt A
END:VEVENT
BEGIN:VEVENT
UID:64323734-3831-4432-b363-636265616239
DTSTAMP:20260425T115509Z
DESCRIPTION:
DTSTART:20201117T070000Z
DTEND:20201117T070000Z
SUMMARY:Gdmi: Release Übungsblatt B
END:VEVENT
BEGIN:VEVENT
UID:64653736-3261-4437-b135-303965626238
DTSTAMP:20260425T115509Z
DESCRIPTION:
DTSTART:20201117T110000Z
DTEND:20201117T130000Z
SUMMARY:Gdmi: Tutorium Rot
END:VEVENT
BEGIN:VEVENT
UID:35643964-3565-4363-b363-346266343336
DTSTAMP:20260425T115509Z
DESCRIPTION:
DTSTART:20201117T150000Z
DTEND:20201117T170000Z
SUMMARY:Gdmi: Tutorium Grün
END:VEVENT
BEGIN:VEVENT
UID:38366461-3236-4134-a234-306237636239
DTSTAMP:20260425T115509Z
DESCRIPTION:
DTSTART:20201117T170000Z
DTEND:20201117T190000Z
SUMMARY:Gdmi: Tutorium Blau
END:VEVENT
BEGIN:VEVENT
UID:31333365-3666-4836-b063-336338353463
DTSTAMP:20260425T115509Z
DESCRIPTION:
DTSTART:20201119T150000Z
DTEND:20201119T150000Z
SUMMARY:Gdmi: Release Videos Block C
END:VEVENT
BEGIN:VEVENT
UID:32393033-3065-4563-a332-393533356366
DTSTAMP:20260425T115509Z
DESCRIPTION:
DTSTART:20201123T110000Z
DTEND:20201123T130000Z
SUMMARY:Gdmi: Online Office Hour
END:VEVENT
BEGIN:VEVENT
UID:37333732-6138-4434-b361-333533623761
DTSTAMP:20260425T115509Z
DESCRIPTION:
DTSTART:20201123T225900Z
DTEND:20201123T225900Z
SUMMARY:Gdmi: Deadline Übungsblatt B
END:VEVENT
BEGIN:VEVENT
UID:32663337-3530-4331-a465-316265666334
DTSTAMP:20260425T115509Z
DESCRIPTION:
DTSTART:20201124T070000Z
DTEND:20201124T070000Z
SUMMARY:Gdmi: Release Übungsblatt C
END:VEVENT
BEGIN:VEVENT
UID:37303964-6532-4365-a534-303962396439
DTSTAMP:20260425T115509Z
DESCRIPTION:
DTSTART:20201124T110000Z
DTEND:20201124T130000Z
SUMMARY:Gdmi: Tutorium Rot
END:VEVENT
BEGIN:VEVENT
UID:65343564-6230-4661-b165-613562343836
DTSTAMP:20260425T115509Z
DESCRIPTION:
DTSTART:20201124T150000Z
DTEND:20201124T170000Z
SUMMARY:Gdmi: Tutorium Grün
END:VEVENT
BEGIN:VEVENT
UID:32326164-3336-4135-a563-323630343266
DTSTAMP:20260425T115509Z
DESCRIPTION:
DTSTART:20201124T170000Z
DTEND:20201124T190000Z
SUMMARY:Gdmi: Tutorium Blau
END:VEVENT
BEGIN:VEVENT
UID:34353830-3265-4765-b035-346531313563
DTSTAMP:20260425T115509Z
DESCRIPTION:
DTSTART:20201126T150000Z
DTEND:20201126T150000Z
SUMMARY:Gdmi: Release Videos Block D
END:VEVENT
BEGIN:VEVENT
UID:30613637-6235-4239-a635-306362363165
DTSTAMP:20260425T115509Z
DESCRIPTION:
DTSTART:20201130T110000Z
DTEND:20201130T130000Z
SUMMARY:Gdmi: Online Office Hour
END:VEVENT
BEGIN:VEVENT
UID:61663932-3637-4538-a663-333934376361
DTSTAMP:20260425T115509Z
DESCRIPTION:
DTSTART:20201130T225900Z
DTEND:20201130T225900Z
SUMMARY:Gdmi: Deadline Übungsblatt C
END:VEVENT
BEGIN:VEVENT
UID:64336436-6438-4265-a530-343564373963
DTSTAMP:20260425T115509Z
DESCRIPTION:
DTSTART:20201201T070000Z
DTEND:20201201T070000Z
SUMMARY:Gdmi: Release Übungsblatt D
END:VEVENT
BEGIN:VEVENT
UID:62353034-3766-4134-a563-323539376163
DTSTAMP:20260425T115509Z
DESCRIPTION:
DTSTART:20201201T110000Z
DTEND:20201201T130000Z
SUMMARY:Gdmi: Tutorium Rot
END:VEVENT
BEGIN:VEVENT
UID:33663239-3262-4732-b736-643233656365
DTSTAMP:20260425T115509Z
DESCRIPTION:
DTSTART:20201201T150000Z
DTEND:20201201T170000Z
SUMMARY:Gdmi: Tutorium Grün
END:VEVENT
BEGIN:VEVENT
UID:66386534-6461-4333-a230-656265333032
DTSTAMP:20260425T115509Z
DESCRIPTION:
DTSTART:20201201T170000Z
DTEND:20201201T190000Z
SUMMARY:Gdmi: Tutorium Blau
END:VEVENT
BEGIN:VEVENT
UID:37393637-6561-4530-b432-333734646436
DTSTAMP:20260425T115509Z
DESCRIPTION:
DTSTART:20201203T150000Z
DTEND:20201203T150000Z
SUMMARY:Gdmi: Release Videos und Übungsblatt Block E
END:VEVENT
BEGIN:VEVENT
UID:32623766-3935-4533-b338-393330316531
DTSTAMP:20260425T115509Z
DESCRIPTION:
DTSTART:20201207T110000Z
DTEND:20201207T130000Z
SUMMARY:Gdmi: Online Office Hour
END:VEVENT
BEGIN:VEVENT
UID:62643231-3062-4634-b965-633262616233
DTSTAMP:20260425T115509Z
DESCRIPTION:
DTSTART:20201207T130000Z
DTEND:20201207T130000Z
SUMMARY:Gdmi: Deadline Fragen Live Event 1
END:VEVENT
BEGIN:VEVENT
UID:39653934-6466-4165-a437-373463356232
DTSTAMP:20260425T115509Z
DESCRIPTION:
DTSTART:20201207T225900Z
DTEND:20201207T225900Z
SUMMARY:Gdmi: Deadline Übungsblatt D
END:VEVENT
BEGIN:VEVENT
UID:64323163-6135-4464-b732-366533613534
DTSTAMP:20260425T115509Z
DESCRIPTION:
DTSTART:20201208T110000Z
DTEND:20201208T130000Z
SUMMARY:Gdmi: Tutorium Rot
END:VEVENT
BEGIN:VEVENT
UID:62306639-6234-4437-b032-396436333436
DTSTAMP:20260425T115509Z
DESCRIPTION:
DTSTART:20201208T150000Z
DTEND:20201208T170000Z
SUMMARY:Gdmi: Tutorium Grün
END:VEVENT
BEGIN:VEVENT
UID:63663333-3037-4439-a237-346331626362
DTSTAMP:20260425T115509Z
DESCRIPTION:
DTSTART:20201208T170000Z
DTEND:20201208T190000Z
SUMMARY:Gdmi: Tutorium Blau
END:VEVENT
BEGIN:VEVENT
UID:62653939-6634-4238-b763-623138636434
DTSTAMP:20260425T115509Z
DESCRIPTION:
DTSTART:20201210T130000Z
DTEND:20201210T150000Z
SUMMARY:Gdmi: Live Event 1
END:VEVENT
BEGIN:VEVENT
UID:36363534-6537-4533-b565-316463313333
DTSTAMP:20260425T115509Z
DESCRIPTION:
DTSTART:20201210T150000Z
DTEND:20201210T150000Z
SUMMARY:Gdmi: Release Videos und Übungsblatt Block F
END:VEVENT
BEGIN:VEVENT
UID:65343065-6631-4663-a236-643332353335
DTSTAMP:20260425T115509Z
DESCRIPTION:
DTSTART:20201214T110000Z
DTEND:20201214T130000Z
SUMMARY:Gdmi: Online Office Hour
END:VEVENT
BEGIN:VEVENT
UID:31653435-3466-4564-b334-386631313839
DTSTAMP:20260425T115509Z
DESCRIPTION:
DTSTART:20201214T130000Z
DTEND:20201214T130000Z
SUMMARY:Gdmi: Deadline Fragen Live Event 2
END:VEVENT
BEGIN:VEVENT
UID:61313835-6134-4662-b865-323835333032
DTSTAMP:20260425T115509Z
DESCRIPTION:
DTSTART:20201215T110000Z
DTEND:20201215T130000Z
SUMMARY:Gdmi: Tutorium Rot
END:VEVENT
BEGIN:VEVENT
UID:36376431-6362-4161-a534-326230376164
DTSTAMP:20260425T115509Z
DESCRIPTION:
DTSTART:20201215T150000Z
DTEND:20201215T170000Z
SUMMARY:Gdmi: Tutorium Grün
END:VEVENT
BEGIN:VEVENT
UID:66626464-3031-4537-b662-636339303662
DTSTAMP:20260425T115509Z
DESCRIPTION:
DTSTART:20201215T170000Z
DTEND:20201215T190000Z
SUMMARY:Gdmi: Tutorium Blau
END:VEVENT
BEGIN:VEVENT
UID:35633236-3663-4134-a566-376566363930
DTSTAMP:20260425T115509Z
DESCRIPTION:
DTSTART:20201215T225900Z
DTEND:20201215T225900Z
SUMMARY:Gdmi: Deadline Übungsblatt E
END:VEVENT
BEGIN:VEVENT
UID:34626565-3564-4431-b734-343964343662
DTSTAMP:20260425T115509Z
DESCRIPTION:
DTSTART:20201217T130000Z
DTEND:20201217T150000Z
SUMMARY:Gdmi: Live Event 2
END:VEVENT
BEGIN:VEVENT
UID:63343339-3131-4666-b630-353230383836
DTSTAMP:20260425T115509Z
DESCRIPTION:
DTSTART:20201217T150000Z
DTEND:20201217T150000Z
SUMMARY:Gdmi: Release Probeklausur Teil 1
END:VEVENT
BEGIN:VEVENT
UID:65623265-3766-4830-a466-333862666564
DTSTAMP:20260425T115509Z
DESCRIPTION:
DTSTART:20201217T150000Z
DTEND:20201217T150000Z
SUMMARY:Gdmi: Release Videos und Übungsblatt Block G
END:VEVENT
BEGIN:VEVENT
UID:34303231-6264-4630-b962-613838353432
DTSTAMP:20260425T115509Z
DESCRIPTION:
DTSTART:20210104T110000Z
DTEND:20210104T130000Z
SUMMARY:Gdmi: Online Office Hour
END:VEVENT
BEGIN:VEVENT
UID:62386263-6462-4130-b865-363433353237
DTSTAMP:20260425T115509Z
DESCRIPTION:
DTSTART:20210104T225900Z
DTEND:20210104T225900Z
SUMMARY:Gdmi: Deadline Übungsblatt F
END:VEVENT
BEGIN:VEVENT
UID:31666130-6339-4236-b131-373766393839
DTSTAMP:20260425T115509Z
DESCRIPTION:
DTSTART:20210105T225900Z
DTEND:20210105T225900Z
SUMMARY:Gdmi: Deadline Bonuspunkte Probeklausur
END:VEVENT
BEGIN:VEVENT
UID:34656233-6234-4431-a437-663534616361
DTSTAMP:20260425T115509Z
DESCRIPTION:
DTSTART:20210107T150000Z
DTEND:20210107T150000Z
SUMMARY:Gdmi: Release Videos Block G und Übungsblatt Block H
END:VEVENT
BEGIN:VEVENT
UID:63313634-3165-4361-b636-326662346664
DTSTAMP:20260425T115509Z
DESCRIPTION:
DTSTART:20210111T130000Z
DTEND:20210111T130000Z
SUMMARY:Gdmi: Deadline Fragen Live Event 3
END:VEVENT
BEGIN:VEVENT
UID:35613937-3737-4037-a232-646634316363
DTSTAMP:20260425T115509Z
DESCRIPTION:
DTSTART:20210112T110000Z
DTEND:20210112T130000Z
SUMMARY:Gdmi: Tutorium Rot
END:VEVENT
BEGIN:VEVENT
UID:62386135-3962-4134-b664-616330366236
DTSTAMP:20260425T115509Z
DESCRIPTION:
DTSTART:20210112T150000Z
DTEND:20210112T170000Z
SUMMARY:Gdmi: Tutorium Grün
END:VEVENT
BEGIN:VEVENT
UID:31626566-3964-4439-b137-643764643330
DTSTAMP:20260425T115509Z
DESCRIPTION:
DTSTART:20210112T170000Z
DTEND:20210112T190000Z
SUMMARY:Gdmi: Tutorium Blau
END:VEVENT
BEGIN:VEVENT
UID:35366166-6434-4237-a138-313835356231
DTSTAMP:20260425T115509Z
DESCRIPTION:
DTSTART:20210114T150000Z
DTEND:20210114T150000Z
SUMMARY:Gdmi: Release Videos Block H und Übungsblatt Block I
END:VEVENT
BEGIN:VEVENT
UID:62613936-3739-4337-b635-653965383231
DTSTAMP:20260425T115509Z
DESCRIPTION:
DTSTART:20210114T150000Z
DTEND:20210114T150000Z
SUMMARY:Gdmi: Release Probeklausur Teil 2
END:VEVENT
BEGIN:VEVENT
UID:65666564-3734-4438-b039-396430303430
DTSTAMP:20260425T115509Z
DESCRIPTION:
DTSTART:20210115T110000Z
DTEND:20210115T120000Z
SUMMARY:Gdmi: Online Office Hour
END:VEVENT
BEGIN:VEVENT
UID:38353033-6562-4462-a162-333337636265
DTSTAMP:20260425T115509Z
DESCRIPTION:
DTSTART:20210118T225900Z
DTEND:20210118T225900Z
SUMMARY:Gdmi: Deadline Übungsblatt G
END:VEVENT
BEGIN:VEVENT
UID:64333435-3731-4631-a334-393231636235
DTSTAMP:20260425T115509Z
DESCRIPTION:
DTSTART:20210119T110000Z
DTEND:20210119T130000Z
SUMMARY:Gdmi: Tutorium Rot
END:VEVENT
BEGIN:VEVENT
UID:62313366-6463-4131-b932-666332636433
DTSTAMP:20260425T115509Z
DESCRIPTION:
DTSTART:20210119T150000Z
DTEND:20210119T170000Z
SUMMARY:Gdmi: Tutorium Grün
END:VEVENT
BEGIN:VEVENT
UID:65656633-3531-4530-b335-376138383762
DTSTAMP:20260425T115509Z
DESCRIPTION:
DTSTART:20210119T170000Z
DTEND:20210119T190000Z
SUMMARY:Gdmi: Tutorium Blau
END:VEVENT
BEGIN:VEVENT
UID:30656530-3035-4732-b530-343462633331
DTSTAMP:20260425T115509Z
DESCRIPTION:
DTSTART:20210121T130000Z
DTEND:20210121T150000Z
SUMMARY:Gdmi: Live Event 3
END:VEVENT
BEGIN:VEVENT
UID:35363163-3139-4534-b839-656665386332
DTSTAMP:20260425T115509Z
DESCRIPTION:
DTSTART:20210121T150000Z
DTEND:20210121T150000Z
SUMMARY:Gdmi: Release Videos Block I
END:VEVENT
BEGIN:VEVENT
UID:64393335-6265-4138-b532-663730326430
DTSTAMP:20260425T115509Z
DESCRIPTION:
DTSTART:20210122T110000Z
DTEND:20210122T120000Z
SUMMARY:Gdmi: Online Office Hour
END:VEVENT
BEGIN:VEVENT
UID:62376431-3638-4130-b034-643139653336
DTSTAMP:20260425T115509Z
DESCRIPTION:
DTSTART:20210125T225900Z
DTEND:20210125T225900Z
SUMMARY:Gdmi: Deadline Übungsblatt H
END:VEVENT
BEGIN:VEVENT
UID:32356531-6362-4333-b861-373531363639
DTSTAMP:20260425T115509Z
DESCRIPTION:
DTSTART:20210126T110000Z
DTEND:20210126T130000Z
SUMMARY:Gdmi: Tutorium Rot
END:VEVENT
BEGIN:VEVENT
UID:63383732-3133-4965-a435-626162333733
DTSTAMP:20260425T115509Z
DESCRIPTION:
DTSTART:20210126T150000Z
DTEND:20210126T170000Z
SUMMARY:Gdmi: Tutorium Grün
END:VEVENT
BEGIN:VEVENT
UID:63643063-6631-4237-b461-636163646139
DTSTAMP:20260425T115509Z
DESCRIPTION:
DTSTART:20210126T170000Z
DTEND:20210126T190000Z
SUMMARY:Gdmi: Tutorium Blau
END:VEVENT
BEGIN:VEVENT
UID:39386337-3731-4535-a231-346365613663
DTSTAMP:20260425T115509Z
DESCRIPTION:
DTSTART:20210128T130000Z
DTEND:20210128T150000Z
SUMMARY:Gdmi: Besprechung Probeklausur
END:VEVENT
BEGIN:VEVENT
UID:63646232-3766-4863-b233-326332643932
DTSTAMP:20260425T115509Z
DESCRIPTION:
DTSTART:20210129T110000Z
DTEND:20210129T120000Z
SUMMARY:Gdmi: Online Office Hour
END:VEVENT
BEGIN:VEVENT
UID:34323365-3837-4131-b937-626432653062
DTSTAMP:20260425T115509Z
DESCRIPTION:
DTSTART:20210129T225900Z
DTEND:20210129T225900Z
SUMMARY:Gdmi: Deadline Übungsblatt I
END:VEVENT
BEGIN:VEVENT
UID:38386537-6662-4061-a136-303963376161
DTSTAMP:20260425T115509Z
DESCRIPTION:
DTSTART:20210202T110000Z
DTEND:20210202T190000Z
SUMMARY:Gdmi: XXL Online Office Hour
END:VEVENT
BEGIN:VEVENT
UID:39373931-3139-4638-a439-633932333930
DTSTAMP:20260425T115509Z
DESCRIPTION:
DTSTART:20210208T130000Z
DTEND:20210208T130000Z
LOCATION:GHH
SUMMARY:Gdmi: Hauptklausur (vorläufig)
END:VEVENT
BEGIN:VEVENT
UID:61393462-3262-4763-b732-343062646331
DTSTAMP:20260425T115509Z
DESCRIPTION:
DTSTART:20210301T110000Z
DTEND:20210301T130000Z
SUMMARY:Gdmi: Office-Hour
END:VEVENT
BEGIN:VEVENT
UID:38633836-6563-4665-b438-623334303261
DTSTAMP:20260425T115509Z
DESCRIPTION:
DTSTART:20210302T120000Z
DTEND:20210302T160000Z
LOCATION:HS002 in E1.3
SUMMARY:Gdmi: Klausureinsicht Hauptklausur
END:VEVENT
BEGIN:VEVENT
UID:31303435-3164-4161-a464-353537343863
DTSTAMP:20260425T115509Z
DESCRIPTION:
DTSTART:20210304T130000Z
DTEND:20210304T150000Z
LOCATION:GHH
SUMMARY:Gdmi: Nachklausur
END:VEVENT
BEGIN:VEVENT
UID:32376462-6163-4330-a463-383864383761
DTSTAMP:20260425T115509Z
DESCRIPTION:
DTSTART:20210310T225900Z
DTEND:20210310T225900Z
LOCATION:CMS
SUMMARY:Gdmi: Deadline: Anmeldung zur Einsicht der Nachklausur
END:VEVENT
BEGIN:VEVENT
UID:38666139-3838-4638-a262-666530663737
DTSTAMP:20260425T115509Z
DESCRIPTION:
DTSTART:20210316T120000Z
DTEND:20210316T160000Z
LOCATION:HS002 in E1.3
SUMMARY:Gdmi: Klausureinsicht Nachklausur
END:VEVENT
END:VCALENDAR
