BEGIN:VCALENDAR
VERSION:2.0
PRODID:-//134.96.226.213//NONSGML kigkonsult.se iCalcreator 2.41.92//
CALSCALE:GREGORIAN
METHOD:PUBLISH
UID:66376166-3062-4466-b435-366566643237
X-WR-CALNAME:Grundlagen der Medieninformatik Calendar
X-WR-CALDESC:Termine der Vorlesung Grundlagen der Medieninformatik
X-WR-TIMEZONE:Europe/Berlin
BEGIN:VEVENT
UID:66336137-3231-4432-b339-363737616136
DTSTAMP:20260425T115519Z
DESCRIPTION:
DTSTART:20210302T120000Z
DTEND:20210302T160000Z
LOCATION:HS002 in E1.3
SUMMARY:Klausureinsicht Hauptklausur
END:VEVENT
BEGIN:VEVENT
UID:65376463-6630-4564-a366-343933376230
DTSTAMP:20260425T115519Z
DESCRIPTION:
DTSTART:20210316T120000Z
DTEND:20210316T160000Z
LOCATION:HS002 in E1.3
SUMMARY:Klausureinsicht Nachklausur
END:VEVENT
END:VCALENDAR
