BEGIN:VCALENDAR
VERSION:2.0
PRODID:-//134.96.226.213//NONSGML kigkonsult.se iCalcreator 2.41.92//
CALSCALE:GREGORIAN
METHOD:PUBLISH
UID:37323865-6631-4465-b366-616163356435
X-WR-CALNAME:Grundlagen der Medieninformatik Calendar
X-WR-CALDESC:Termine der Vorlesung Grundlagen der Medieninformatik
X-WR-TIMEZONE:Europe/Berlin
BEGIN:VEVENT
UID:34356537-3961-4332-b836-383533666538
DTSTAMP:20260425T115519Z
DESCRIPTION:
DTSTART:20201107T225900Z
DTEND:20201107T225900Z
SUMMARY:Deadline CMS Registrierung
END:VEVENT
BEGIN:VEVENT
UID:66353063-3535-4636-b332-623963613761
DTSTAMP:20260425T115519Z
DESCRIPTION:
DTSTART:20201116T225900Z
DTEND:20201116T225900Z
SUMMARY:Deadline Übungsblatt A
END:VEVENT
BEGIN:VEVENT
UID:32633733-6462-4235-b335-303266356366
DTSTAMP:20260425T115519Z
DESCRIPTION:
DTSTART:20201123T225900Z
DTEND:20201123T225900Z
SUMMARY:Deadline Übungsblatt B
END:VEVENT
BEGIN:VEVENT
UID:62626538-3366-4639-b032-386566633565
DTSTAMP:20260425T115519Z
DESCRIPTION:
DTSTART:20201130T225900Z
DTEND:20201130T225900Z
SUMMARY:Deadline Übungsblatt C
END:VEVENT
BEGIN:VEVENT
UID:64323066-3731-4235-b266-313132303530
DTSTAMP:20260425T115519Z
DESCRIPTION:
DTSTART:20201207T130000Z
DTEND:20201207T130000Z
SUMMARY:Deadline Fragen Live Event 1
END:VEVENT
BEGIN:VEVENT
UID:62363832-6637-4365-b537-373234383066
DTSTAMP:20260425T115519Z
DESCRIPTION:
DTSTART:20201207T225900Z
DTEND:20201207T225900Z
SUMMARY:Deadline Übungsblatt D
END:VEVENT
BEGIN:VEVENT
UID:37623036-6638-4134-a138-663363396538
DTSTAMP:20260425T115519Z
DESCRIPTION:
DTSTART:20201214T130000Z
DTEND:20201214T130000Z
SUMMARY:Deadline Fragen Live Event 2
END:VEVENT
BEGIN:VEVENT
UID:61643538-3361-4837-a635-653332393331
DTSTAMP:20260425T115519Z
DESCRIPTION:
DTSTART:20201215T225900Z
DTEND:20201215T225900Z
SUMMARY:Deadline Übungsblatt E
END:VEVENT
BEGIN:VEVENT
UID:64313133-3238-4232-a336-653361316138
DTSTAMP:20260425T115519Z
DESCRIPTION:
DTSTART:20210104T225900Z
DTEND:20210104T225900Z
SUMMARY:Deadline Übungsblatt F
END:VEVENT
BEGIN:VEVENT
UID:63653036-6130-4733-a333-326134356434
DTSTAMP:20260425T115519Z
DESCRIPTION:
DTSTART:20210105T225900Z
DTEND:20210105T225900Z
SUMMARY:Deadline Bonuspunkte Probeklausur
END:VEVENT
BEGIN:VEVENT
UID:39666235-6631-4339-b262-636263386231
DTSTAMP:20260425T115519Z
DESCRIPTION:
DTSTART:20210111T130000Z
DTEND:20210111T130000Z
SUMMARY:Deadline Fragen Live Event 3
END:VEVENT
BEGIN:VEVENT
UID:35343231-3130-4530-a136-323336366537
DTSTAMP:20260425T115519Z
DESCRIPTION:
DTSTART:20210118T225900Z
DTEND:20210118T225900Z
SUMMARY:Deadline Übungsblatt G
END:VEVENT
BEGIN:VEVENT
UID:39346235-6363-4565-a439-613962383838
DTSTAMP:20260425T115519Z
DESCRIPTION:
DTSTART:20210125T225900Z
DTEND:20210125T225900Z
SUMMARY:Deadline Übungsblatt H
END:VEVENT
BEGIN:VEVENT
UID:63656436-3438-4137-b430-626464363261
DTSTAMP:20260425T115519Z
DESCRIPTION:
DTSTART:20210129T225900Z
DTEND:20210129T225900Z
SUMMARY:Deadline Übungsblatt I
END:VEVENT
BEGIN:VEVENT
UID:37346562-6465-4337-a338-396666316537
DTSTAMP:20260425T115519Z
DESCRIPTION:
DTSTART:20210310T225900Z
DTEND:20210310T225900Z
LOCATION:CMS
SUMMARY:Deadline: Anmeldung zur Einsicht der Nachklausur
END:VEVENT
END:VCALENDAR
