BEGIN:VCALENDAR
VERSION:2.0
PRODID:-//134.96.226.213//NONSGML kigkonsult.se iCalcreator 2.41.92//
CALSCALE:GREGORIAN
METHOD:PUBLISH
UID:61643234-3064-4162-b337-636461356363
X-WR-CALNAME:Grundlagen der Medieninformatik Calendar
X-WR-CALDESC:Termine der Vorlesung Grundlagen der Medieninformatik
X-WR-TIMEZONE:Europe/Berlin
BEGIN:VEVENT
UID:31333163-3161-4264-b731-383431653235
DTSTAMP:20260425T115509Z
DESCRIPTION:
DTSTART:20201105T150000Z
DTEND:20201105T150000Z
SUMMARY:Release Videos Block A
END:VEVENT
BEGIN:VEVENT
UID:39393936-6431-4539-b964-663437363037
DTSTAMP:20260425T115509Z
DESCRIPTION:
DTSTART:20201110T070000Z
DTEND:20201110T070000Z
SUMMARY:Release Übungsblatt A
END:VEVENT
BEGIN:VEVENT
UID:66343566-6161-4531-a332-336166373336
DTSTAMP:20260425T115509Z
DESCRIPTION:
DTSTART:20201112T150000Z
DTEND:20201112T150000Z
SUMMARY:Release Videos Block B
END:VEVENT
BEGIN:VEVENT
UID:64626137-3733-4138-a136-643139393332
DTSTAMP:20260425T115509Z
DESCRIPTION:
DTSTART:20201117T070000Z
DTEND:20201117T070000Z
SUMMARY:Release Übungsblatt B
END:VEVENT
BEGIN:VEVENT
UID:64643530-3534-4234-b866-613761653039
DTSTAMP:20260425T115509Z
DESCRIPTION:
DTSTART:20201119T150000Z
DTEND:20201119T150000Z
SUMMARY:Release Videos Block C
END:VEVENT
BEGIN:VEVENT
UID:31376630-3434-4662-b861-623332306134
DTSTAMP:20260425T115509Z
DESCRIPTION:
DTSTART:20201124T070000Z
DTEND:20201124T070000Z
SUMMARY:Release Übungsblatt C
END:VEVENT
BEGIN:VEVENT
UID:39353533-3836-4137-a431-616236646663
DTSTAMP:20260425T115509Z
DESCRIPTION:
DTSTART:20201126T150000Z
DTEND:20201126T150000Z
SUMMARY:Release Videos Block D
END:VEVENT
BEGIN:VEVENT
UID:62323962-3361-4362-b234-336233316236
DTSTAMP:20260425T115509Z
DESCRIPTION:
DTSTART:20201201T070000Z
DTEND:20201201T070000Z
SUMMARY:Release Übungsblatt D
END:VEVENT
BEGIN:VEVENT
UID:36343334-3264-4664-b230-373135653361
DTSTAMP:20260425T115509Z
DESCRIPTION:
DTSTART:20201203T150000Z
DTEND:20201203T150000Z
SUMMARY:Release Videos und Übungsblatt Block E
END:VEVENT
BEGIN:VEVENT
UID:38616531-6561-4465-a464-363764636132
DTSTAMP:20260425T115509Z
DESCRIPTION:
DTSTART:20201210T150000Z
DTEND:20201210T150000Z
SUMMARY:Release Videos und Übungsblatt Block F
END:VEVENT
BEGIN:VEVENT
UID:64633261-6165-4662-a238-303836656161
DTSTAMP:20260425T115509Z
DESCRIPTION:
DTSTART:20201217T150000Z
DTEND:20201217T150000Z
SUMMARY:Release Probeklausur Teil 1
END:VEVENT
BEGIN:VEVENT
UID:61616635-6235-4233-b936-656130613430
DTSTAMP:20260425T115509Z
DESCRIPTION:
DTSTART:20201217T150000Z
DTEND:20201217T150000Z
SUMMARY:Release Videos und Übungsblatt Block G
END:VEVENT
BEGIN:VEVENT
UID:31323031-3131-4866-b438-326636313162
DTSTAMP:20260425T115509Z
DESCRIPTION:
DTSTART:20210107T150000Z
DTEND:20210107T150000Z
SUMMARY:Release Videos Block G und Übungsblatt Block H
END:VEVENT
BEGIN:VEVENT
UID:35333061-3631-4462-b333-333763326163
DTSTAMP:20260425T115509Z
DESCRIPTION:
DTSTART:20210114T150000Z
DTEND:20210114T150000Z
SUMMARY:Release Videos Block H und Übungsblatt Block I
END:VEVENT
BEGIN:VEVENT
UID:33346265-6262-4234-b737-616435363362
DTSTAMP:20260425T115509Z
DESCRIPTION:
DTSTART:20210114T150000Z
DTEND:20210114T150000Z
SUMMARY:Release Probeklausur Teil 2
END:VEVENT
BEGIN:VEVENT
UID:37313136-3765-4563-b736-306131303165
DTSTAMP:20260425T115509Z
DESCRIPTION:
DTSTART:20210121T150000Z
DTEND:20210121T150000Z
SUMMARY:Release Videos Block I
END:VEVENT
END:VCALENDAR
