BEGIN:VCALENDAR
VERSION:2.0
PRODID:-//134.96.226.213//NONSGML kigkonsult.se iCalcreator 2.41.92//
CALSCALE:GREGORIAN
METHOD:PUBLISH
UID:37376330-3632-4538-a635-386662333539
X-WR-CALNAME:Grundlagen der Medieninformatik Calendar
X-WR-CALDESC:Termine der Vorlesung Grundlagen der Medieninformatik
X-WR-TIMEZONE:Europe/Berlin
BEGIN:VEVENT
UID:35613433-6338-4163-b630-373232623038
DTSTAMP:20260425T115632Z
DESCRIPTION:
DTSTART:20201104T110000Z
DTEND:20201104T130000Z
SUMMARY:Gdmi: Kick-Off Vorlesung
END:VEVENT
BEGIN:VEVENT
UID:36376237-3937-4463-b537-313061366632
DTSTAMP:20260425T115632Z
DESCRIPTION:
DTSTART:20201210T130000Z
DTEND:20201210T150000Z
SUMMARY:Gdmi: Live Event 1
END:VEVENT
BEGIN:VEVENT
UID:63613561-3539-4239-b765-653364633834
DTSTAMP:20260425T115632Z
DESCRIPTION:
DTSTART:20201217T130000Z
DTEND:20201217T150000Z
SUMMARY:Gdmi: Live Event 2
END:VEVENT
BEGIN:VEVENT
UID:37323961-3033-4137-b162-383236633932
DTSTAMP:20260425T115632Z
DESCRIPTION:
DTSTART:20210121T130000Z
DTEND:20210121T150000Z
SUMMARY:Gdmi: Live Event 3
END:VEVENT
BEGIN:VEVENT
UID:36656137-3837-4637-b566-326563646534
DTSTAMP:20260425T115632Z
DESCRIPTION:
DTSTART:20210128T130000Z
DTEND:20210128T150000Z
SUMMARY:Gdmi: Besprechung Probeklausur
END:VEVENT
END:VCALENDAR
