BEGIN:VCALENDAR
VERSION:2.0
PRODID:-//134.96.226.213//NONSGML kigkonsult.se iCalcreator 2.41.92//
CALSCALE:GREGORIAN
METHOD:PUBLISH
UID:66333766-6336-4430-b934-383561643132
X-WR-CALNAME:Grundlagen der Medieninformatik Calendar
X-WR-CALDESC:Termine der Vorlesung Grundlagen der Medieninformatik
X-WR-TIMEZONE:Europe/Berlin
BEGIN:VEVENT
UID:64303636-6437-4031-b437-396666303963
DTSTAMP:20260425T115519Z
DESCRIPTION:
DTSTART:20201104T110000Z
DTEND:20201104T130000Z
SUMMARY:Kick-Off Vorlesung
END:VEVENT
BEGIN:VEVENT
UID:65613336-3530-4433-a163-306661353965
DTSTAMP:20260425T115519Z
DESCRIPTION:
DTSTART:20201210T130000Z
DTEND:20201210T150000Z
SUMMARY:Live Event 1
END:VEVENT
BEGIN:VEVENT
UID:63333662-6363-4837-a435-396439616162
DTSTAMP:20260425T115519Z
DESCRIPTION:
DTSTART:20201217T130000Z
DTEND:20201217T150000Z
SUMMARY:Live Event 2
END:VEVENT
BEGIN:VEVENT
UID:37373334-3733-4163-b436-343766646139
DTSTAMP:20260425T115519Z
DESCRIPTION:
DTSTART:20210121T130000Z
DTEND:20210121T150000Z
SUMMARY:Live Event 3
END:VEVENT
BEGIN:VEVENT
UID:33353333-6562-4466-b938-386662326464
DTSTAMP:20260425T115519Z
DESCRIPTION:
DTSTART:20210128T130000Z
DTEND:20210128T150000Z
SUMMARY:Besprechung Probeklausur
END:VEVENT
END:VCALENDAR
