BEGIN:VCALENDAR
VERSION:2.0
PRODID:-//134.96.226.213//NONSGML kigkonsult.se iCalcreator 2.41.92//
CALSCALE:GREGORIAN
METHOD:PUBLISH
UID:33376639-6531-4937-b030-616365663338
X-WR-CALNAME:Grundlagen der Medieninformatik Calendar
X-WR-CALDESC:Termine der Vorlesung Grundlagen der Medieninformatik
X-WR-TIMEZONE:Europe/Berlin
BEGIN:VEVENT
UID:35626436-3861-4136-b162-356531663230
DTSTAMP:20260425T115509Z
DESCRIPTION:
DTSTART:20210208T130000Z
DTEND:20210208T130000Z
LOCATION:GHH
SUMMARY:Hauptklausur (vorläufig)
END:VEVENT
BEGIN:VEVENT
UID:38636533-3363-4764-b434-343566303163
DTSTAMP:20260425T115509Z
DESCRIPTION:
DTSTART:20210304T130000Z
DTEND:20210304T150000Z
LOCATION:GHH
SUMMARY:Nachklausur
END:VEVENT
END:VCALENDAR
