BEGIN:VCALENDAR
VERSION:2.0
PRODID:-//134.96.226.213//NONSGML kigkonsult.se iCalcreator 2.41.92//
CALSCALE:GREGORIAN
METHOD:PUBLISH
UID:31363432-3366-4632-b932-663335623661
X-WR-CALNAME:Grundlagen der Medieninformatik Calendar
X-WR-CALDESC:Termine der Vorlesung Grundlagen der Medieninformatik
X-WR-TIMEZONE:Europe/Berlin
BEGIN:VEVENT
UID:30326137-6531-4763-b131-393365663662
DTSTAMP:20260425T115509Z
DESCRIPTION:
DTSTART:20201109T110000Z
DTEND:20201109T130000Z
SUMMARY:Online Office Hour
END:VEVENT
BEGIN:VEVENT
UID:66653931-6134-4538-a531-393835336362
DTSTAMP:20260425T115509Z
DESCRIPTION:
DTSTART:20201116T110000Z
DTEND:20201116T130000Z
SUMMARY:Online Office Hour
END:VEVENT
BEGIN:VEVENT
UID:39626536-3337-4463-a137-666562323031
DTSTAMP:20260425T115509Z
DESCRIPTION:
DTSTART:20201123T110000Z
DTEND:20201123T130000Z
SUMMARY:Online Office Hour
END:VEVENT
BEGIN:VEVENT
UID:37633338-3235-4266-a638-333135356237
DTSTAMP:20260425T115509Z
DESCRIPTION:
DTSTART:20201130T110000Z
DTEND:20201130T130000Z
SUMMARY:Online Office Hour
END:VEVENT
BEGIN:VEVENT
UID:39663936-6435-4839-b261-613866303134
DTSTAMP:20260425T115509Z
DESCRIPTION:
DTSTART:20201207T110000Z
DTEND:20201207T130000Z
SUMMARY:Online Office Hour
END:VEVENT
BEGIN:VEVENT
UID:33633230-3062-4532-b065-383339656164
DTSTAMP:20260425T115509Z
DESCRIPTION:
DTSTART:20201214T110000Z
DTEND:20201214T130000Z
SUMMARY:Online Office Hour
END:VEVENT
BEGIN:VEVENT
UID:64343863-3833-4532-b135-653261393734
DTSTAMP:20260425T115509Z
DESCRIPTION:
DTSTART:20210104T110000Z
DTEND:20210104T130000Z
SUMMARY:Online Office Hour
END:VEVENT
BEGIN:VEVENT
UID:66323866-3536-4465-a661-373939333061
DTSTAMP:20260425T115509Z
DESCRIPTION:
DTSTART:20210115T110000Z
DTEND:20210115T120000Z
SUMMARY:Online Office Hour
END:VEVENT
BEGIN:VEVENT
UID:38366137-6635-4133-b239-666635396164
DTSTAMP:20260425T115509Z
DESCRIPTION:
DTSTART:20210122T110000Z
DTEND:20210122T120000Z
SUMMARY:Online Office Hour
END:VEVENT
BEGIN:VEVENT
UID:39633736-3539-4636-a638-616633363363
DTSTAMP:20260425T115509Z
DESCRIPTION:
DTSTART:20210129T110000Z
DTEND:20210129T120000Z
SUMMARY:Online Office Hour
END:VEVENT
BEGIN:VEVENT
UID:31396631-3063-4762-a332-393630663432
DTSTAMP:20260425T115509Z
DESCRIPTION:
DTSTART:20210202T110000Z
DTEND:20210202T190000Z
SUMMARY:XXL Online Office Hour
END:VEVENT
BEGIN:VEVENT
UID:61373565-6666-4862-b532-323335386464
DTSTAMP:20260425T115509Z
DESCRIPTION:
DTSTART:20210301T110000Z
DTEND:20210301T130000Z
SUMMARY:Office-Hour
END:VEVENT
END:VCALENDAR
