BEGIN:VCALENDAR
VERSION:2.0
PRODID:-//134.96.226.213//NONSGML kigkonsult.se iCalcreator 2.41.92//
CALSCALE:GREGORIAN
METHOD:PUBLISH
UID:66666537-3364-4531-a366-616436346135
X-WR-CALNAME:Grundlagen der Medieninformatik Calendar
X-WR-CALDESC:Termine der Vorlesung Grundlagen der Medieninformatik
X-WR-TIMEZONE:Europe/Berlin
BEGIN:VEVENT
UID:62333132-6631-4230-a431-313533356161
DTSTAMP:20260425T115504Z
DESCRIPTION:
DTSTART:20201110T110000Z
DTEND:20201110T130000Z
SUMMARY:Tutorium Rot
END:VEVENT
BEGIN:VEVENT
UID:64353739-6362-4733-b130-343634393665
DTSTAMP:20260425T115504Z
DESCRIPTION:
DTSTART:20201110T150000Z
DTEND:20201110T170000Z
SUMMARY:Tutorium Grün
END:VEVENT
BEGIN:VEVENT
UID:66633562-3739-4461-b962-663335383336
DTSTAMP:20260425T115504Z
DESCRIPTION:
DTSTART:20201110T170000Z
DTEND:20201110T190000Z
SUMMARY:Tutorium Blau
END:VEVENT
BEGIN:VEVENT
UID:31336431-3266-4332-a234-353436323436
DTSTAMP:20260425T115504Z
DESCRIPTION:
DTSTART:20201117T110000Z
DTEND:20201117T130000Z
SUMMARY:Tutorium Rot
END:VEVENT
BEGIN:VEVENT
UID:37373730-3530-4031-b735-373738386333
DTSTAMP:20260425T115504Z
DESCRIPTION:
DTSTART:20201117T150000Z
DTEND:20201117T170000Z
SUMMARY:Tutorium Grün
END:VEVENT
BEGIN:VEVENT
UID:30376139-6666-4062-a232-646566366137
DTSTAMP:20260425T115504Z
DESCRIPTION:
DTSTART:20201117T170000Z
DTEND:20201117T190000Z
SUMMARY:Tutorium Blau
END:VEVENT
BEGIN:VEVENT
UID:39313062-3335-4332-b364-616331356362
DTSTAMP:20260425T115504Z
DESCRIPTION:
DTSTART:20201124T110000Z
DTEND:20201124T130000Z
SUMMARY:Tutorium Rot
END:VEVENT
BEGIN:VEVENT
UID:38613833-3864-4830-b130-663733336264
DTSTAMP:20260425T115504Z
DESCRIPTION:
DTSTART:20201124T150000Z
DTEND:20201124T170000Z
SUMMARY:Tutorium Grün
END:VEVENT
BEGIN:VEVENT
UID:37623439-3362-4539-b435-656161613365
DTSTAMP:20260425T115504Z
DESCRIPTION:
DTSTART:20201124T170000Z
DTEND:20201124T190000Z
SUMMARY:Tutorium Blau
END:VEVENT
BEGIN:VEVENT
UID:37363932-6666-4536-b061-616463666433
DTSTAMP:20260425T115504Z
DESCRIPTION:
DTSTART:20201201T110000Z
DTEND:20201201T130000Z
SUMMARY:Tutorium Rot
END:VEVENT
BEGIN:VEVENT
UID:63323835-3462-4537-b363-386438373330
DTSTAMP:20260425T115504Z
DESCRIPTION:
DTSTART:20201201T150000Z
DTEND:20201201T170000Z
SUMMARY:Tutorium Grün
END:VEVENT
BEGIN:VEVENT
UID:38333331-6263-4665-b736-303866386638
DTSTAMP:20260425T115504Z
DESCRIPTION:
DTSTART:20201201T170000Z
DTEND:20201201T190000Z
SUMMARY:Tutorium Blau
END:VEVENT
BEGIN:VEVENT
UID:32623261-3630-4263-a533-396138313034
DTSTAMP:20260425T115504Z
DESCRIPTION:
DTSTART:20201208T110000Z
DTEND:20201208T130000Z
SUMMARY:Tutorium Rot
END:VEVENT
BEGIN:VEVENT
UID:37636332-6364-4565-b039-336139306365
DTSTAMP:20260425T115504Z
DESCRIPTION:
DTSTART:20201208T150000Z
DTEND:20201208T170000Z
SUMMARY:Tutorium Grün
END:VEVENT
BEGIN:VEVENT
UID:39386336-3935-4962-a331-373238663865
DTSTAMP:20260425T115504Z
DESCRIPTION:
DTSTART:20201208T170000Z
DTEND:20201208T190000Z
SUMMARY:Tutorium Blau
END:VEVENT
BEGIN:VEVENT
UID:64373433-3538-4335-b637-376632313130
DTSTAMP:20260425T115504Z
DESCRIPTION:
DTSTART:20201215T110000Z
DTEND:20201215T130000Z
SUMMARY:Tutorium Rot
END:VEVENT
BEGIN:VEVENT
UID:34653038-3336-4162-b736-316537336639
DTSTAMP:20260425T115504Z
DESCRIPTION:
DTSTART:20201215T150000Z
DTEND:20201215T170000Z
SUMMARY:Tutorium Grün
END:VEVENT
BEGIN:VEVENT
UID:64646235-6464-4963-a336-343461666332
DTSTAMP:20260425T115504Z
DESCRIPTION:
DTSTART:20201215T170000Z
DTEND:20201215T190000Z
SUMMARY:Tutorium Blau
END:VEVENT
BEGIN:VEVENT
UID:63373536-3762-4463-b965-663061613366
DTSTAMP:20260425T115504Z
DESCRIPTION:
DTSTART:20210112T110000Z
DTEND:20210112T130000Z
SUMMARY:Tutorium Rot
END:VEVENT
BEGIN:VEVENT
UID:63336563-3330-4134-b965-663236333664
DTSTAMP:20260425T115504Z
DESCRIPTION:
DTSTART:20210112T150000Z
DTEND:20210112T170000Z
SUMMARY:Tutorium Grün
END:VEVENT
BEGIN:VEVENT
UID:30383166-3035-4238-b336-323963303866
DTSTAMP:20260425T115504Z
DESCRIPTION:
DTSTART:20210112T170000Z
DTEND:20210112T190000Z
SUMMARY:Tutorium Blau
END:VEVENT
BEGIN:VEVENT
UID:39376331-3939-4064-b263-383237636334
DTSTAMP:20260425T115504Z
DESCRIPTION:
DTSTART:20210119T110000Z
DTEND:20210119T130000Z
SUMMARY:Tutorium Rot
END:VEVENT
BEGIN:VEVENT
UID:37373738-3863-4366-b032-633261363465
DTSTAMP:20260425T115504Z
DESCRIPTION:
DTSTART:20210119T150000Z
DTEND:20210119T170000Z
SUMMARY:Tutorium Grün
END:VEVENT
BEGIN:VEVENT
UID:65616631-3230-4635-b130-646263623237
DTSTAMP:20260425T115504Z
DESCRIPTION:
DTSTART:20210119T170000Z
DTEND:20210119T190000Z
SUMMARY:Tutorium Blau
END:VEVENT
BEGIN:VEVENT
UID:65353235-6130-4137-b838-636664326436
DTSTAMP:20260425T115504Z
DESCRIPTION:
DTSTART:20210126T110000Z
DTEND:20210126T130000Z
SUMMARY:Tutorium Rot
END:VEVENT
BEGIN:VEVENT
UID:64616162-3733-4433-b562-323165636136
DTSTAMP:20260425T115504Z
DESCRIPTION:
DTSTART:20210126T150000Z
DTEND:20210126T170000Z
SUMMARY:Tutorium Grün
END:VEVENT
BEGIN:VEVENT
UID:61613065-3865-4062-b964-386638306530
DTSTAMP:20260425T115504Z
DESCRIPTION:
DTSTART:20210126T170000Z
DTEND:20210126T190000Z
SUMMARY:Tutorium Blau
END:VEVENT
END:VCALENDAR
