BEGIN:VCALENDAR
VERSION:2.0
PRODID:-//134.96.226.213//NONSGML kigkonsult.se iCalcreator 2.41.92//
CALSCALE:GREGORIAN
METHOD:PUBLISH
UID:30303933-3463-4261-b434-333234393437
X-WR-CALNAME:Elemente der Programmierung Calendar
X-WR-CALDESC:Termine der Vorlesung Elemente der Programmierung
X-WR-TIMEZONE:Europe/Berlin
BEGIN:VEVENT
UID:62666533-3430-4563-a362-393239633161
DTSTAMP:20260422T131408Z
DESCRIPTION:
DTSTART:20250501T101500Z
DTEND:20250501T114500Z
LOCATION:SR 4.12\, Geb. E 1.1
SUMMARY:Feiertag\, keine Vorlesung
END:VEVENT
BEGIN:VEVENT
UID:61613562-6439-4362-a233-663833623734
DTSTAMP:20260422T131408Z
DESCRIPTION:
DTSTART:20250529T101500Z
DTEND:20250529T114500Z
LOCATION:SR 4.12\, Geb. E 1.1
SUMMARY:Feiertag\, keine Vorlesung
END:VEVENT
BEGIN:VEVENT
UID:39333666-3663-4536-a664-383639623161
DTSTAMP:20260422T131408Z
DESCRIPTION:
DTSTART:20250619T101500Z
DTEND:20250619T114500Z
LOCATION:SR 4.12\, Geb. E 1.1
SUMMARY:Feiertag\, keine Vorlesung
END:VEVENT
END:VCALENDAR
