BEGIN:VCALENDAR
VERSION:2.0
PRODID:-//134.96.226.213//NONSGML kigkonsult.se iCalcreator 2.41.92//
CALSCALE:GREGORIAN
METHOD:PUBLISH
UID:65303933-6462-4666-b739-666536363939
X-WR-CALNAME:Elemente der Programmierung Calendar
X-WR-CALDESC:Termine der Vorlesung Elemente der Programmierung
X-WR-TIMEZONE:Europe/Berlin
BEGIN:VEVENT
UID:62393664-3464-4665-b265-353733666336
DTSTAMP:20260422T131610Z
DESCRIPTION:
DTSTART:20250410T101500Z
DTEND:20250410T114500Z
LOCATION:SR 4.12\, Geb. E 1.1
SUMMARY:Eprog: Vorlesung
END:VEVENT
BEGIN:VEVENT
UID:37306130-3630-4462-b337-323136316636
DTSTAMP:20260422T131610Z
DESCRIPTION:
DTSTART:20250417T101500Z
DTEND:20250417T114500Z
LOCATION:SR 4.12\, Geb. E 1.1
SUMMARY:Eprog: Vorlesung
END:VEVENT
BEGIN:VEVENT
UID:37326238-3234-4634-a237-393565393631
DTSTAMP:20260422T131610Z
DESCRIPTION:
DTSTART:20250424T101500Z
DTEND:20250424T114500Z
LOCATION:SR 4.12\, Geb. E 1.1
SUMMARY:Eprog: Vorlesung
END:VEVENT
BEGIN:VEVENT
UID:36363137-3234-4635-a531-373036343761
DTSTAMP:20260422T131610Z
DESCRIPTION:
DTSTART:20250508T101500Z
DTEND:20250508T114500Z
LOCATION:SR 4.12\, Geb. E 1.1
SUMMARY:Eprog: Vorlesung
END:VEVENT
BEGIN:VEVENT
UID:34663530-3063-4532-a430-396138643136
DTSTAMP:20260422T131610Z
DESCRIPTION:
DTSTART:20250515T101500Z
DTEND:20250515T114500Z
LOCATION:SR 4.12\, Geb. E 1.1
SUMMARY:Eprog: Vorlesung
END:VEVENT
BEGIN:VEVENT
UID:62633061-6165-4535-a161-356439646335
DTSTAMP:20260422T131610Z
DESCRIPTION:
DTSTART:20250522T101500Z
DTEND:20250522T114500Z
LOCATION:SR 4.12\, Geb. E 1.1
SUMMARY:Eprog: Vorlesung
END:VEVENT
BEGIN:VEVENT
UID:65356261-6134-4733-a666-313739323164
DTSTAMP:20260422T131610Z
DESCRIPTION:
DTSTART:20250605T101500Z
DTEND:20250605T114500Z
LOCATION:SR 4.12\, Geb. E 1.1
SUMMARY:Eprog: Vorlesung
END:VEVENT
BEGIN:VEVENT
UID:35623238-6466-4538-a333-343962636135
DTSTAMP:20260422T131610Z
DESCRIPTION:
DTSTART:20250612T101500Z
DTEND:20250612T114500Z
LOCATION:SR 4.12\, Geb. E 1.1
SUMMARY:Eprog: Vorlesung
END:VEVENT
BEGIN:VEVENT
UID:66636633-3836-4336-b863-383135386638
DTSTAMP:20260422T131610Z
DESCRIPTION:
DTSTART:20250626T101500Z
DTEND:20250626T114500Z
LOCATION:SR 4.12\, Geb. E 1.1
SUMMARY:Eprog: Vorlesung
END:VEVENT
BEGIN:VEVENT
UID:34623136-3939-4536-a233-376436363963
DTSTAMP:20260422T131610Z
DESCRIPTION:
DTSTART:20250703T101500Z
DTEND:20250703T114500Z
LOCATION:SR 4.12\, Geb. E 1.1
SUMMARY:Eprog: Vorlesung
END:VEVENT
BEGIN:VEVENT
UID:62643434-6161-4036-b838-636363363662
DTSTAMP:20260422T131610Z
DESCRIPTION:
DTSTART:20250710T101500Z
DTEND:20250710T114500Z
LOCATION:SR 4.12\, Geb. E 1.1
SUMMARY:Eprog: Vorlesung
END:VEVENT
BEGIN:VEVENT
UID:35656561-3337-4066-b062-623736393631
DTSTAMP:20260422T131610Z
DESCRIPTION:
DTSTART:20250717T101500Z
DTEND:20250717T114500Z
LOCATION:SR 4.12\, Geb. E 1.1
SUMMARY:Eprog: Vorlesung
END:VEVENT
END:VCALENDAR
