BEGIN:VCALENDAR
VERSION:2.0
PRODID:-//134.96.226.213//NONSGML kigkonsult.se iCalcreator 2.41.92//
CALSCALE:GREGORIAN
METHOD:PUBLISH
UID:32663166-6132-4561-a666-316133306231
X-WR-CALNAME:Elemente der Programmierung Calendar
X-WR-CALDESC:Termine der Vorlesung Elemente der Programmierung
X-WR-TIMEZONE:Europe/Berlin
BEGIN:VEVENT
UID:32373836-6334-4664-b265-336530393139
DTSTAMP:20260422T131449Z
DESCRIPTION:
DTSTART:20250410T101500Z
DTEND:20250410T114500Z
LOCATION:SR 4.12\, Geb. E 1.1
SUMMARY:Vorlesung
END:VEVENT
BEGIN:VEVENT
UID:63313063-3866-4533-b931-303462643564
DTSTAMP:20260422T131449Z
DESCRIPTION:
DTSTART:20250417T101500Z
DTEND:20250417T114500Z
LOCATION:SR 4.12\, Geb. E 1.1
SUMMARY:Vorlesung
END:VEVENT
BEGIN:VEVENT
UID:33306533-3166-4537-b333-343633386165
DTSTAMP:20260422T131449Z
DESCRIPTION:
DTSTART:20250424T101500Z
DTEND:20250424T114500Z
LOCATION:SR 4.12\, Geb. E 1.1
SUMMARY:Vorlesung
END:VEVENT
BEGIN:VEVENT
UID:33643639-3238-4539-b863-376532383631
DTSTAMP:20260422T131449Z
DESCRIPTION:
DTSTART:20250508T101500Z
DTEND:20250508T114500Z
LOCATION:SR 4.12\, Geb. E 1.1
SUMMARY:Vorlesung
END:VEVENT
BEGIN:VEVENT
UID:31326432-3538-4638-b363-643266336430
DTSTAMP:20260422T131449Z
DESCRIPTION:
DTSTART:20250515T101500Z
DTEND:20250515T114500Z
LOCATION:SR 4.12\, Geb. E 1.1
SUMMARY:Vorlesung
END:VEVENT
BEGIN:VEVENT
UID:66653938-3334-4965-b338-386566333736
DTSTAMP:20260422T131449Z
DESCRIPTION:
DTSTART:20250522T101500Z
DTEND:20250522T114500Z
LOCATION:SR 4.12\, Geb. E 1.1
SUMMARY:Vorlesung
END:VEVENT
BEGIN:VEVENT
UID:66333333-3664-4238-a333-643730656538
DTSTAMP:20260422T131449Z
DESCRIPTION:
DTSTART:20250605T101500Z
DTEND:20250605T114500Z
LOCATION:SR 4.12\, Geb. E 1.1
SUMMARY:Vorlesung
END:VEVENT
BEGIN:VEVENT
UID:66356338-6366-4731-b332-353036623863
DTSTAMP:20260422T131449Z
DESCRIPTION:
DTSTART:20250612T101500Z
DTEND:20250612T114500Z
LOCATION:SR 4.12\, Geb. E 1.1
SUMMARY:Vorlesung
END:VEVENT
BEGIN:VEVENT
UID:61346665-3331-4431-a335-353132343462
DTSTAMP:20260422T131449Z
DESCRIPTION:
DTSTART:20250626T101500Z
DTEND:20250626T114500Z
LOCATION:SR 4.12\, Geb. E 1.1
SUMMARY:Vorlesung
END:VEVENT
BEGIN:VEVENT
UID:66306164-3662-4336-b365-323138316465
DTSTAMP:20260422T131449Z
DESCRIPTION:
DTSTART:20250703T101500Z
DTEND:20250703T114500Z
LOCATION:SR 4.12\, Geb. E 1.1
SUMMARY:Vorlesung
END:VEVENT
BEGIN:VEVENT
UID:31653164-3661-4935-b531-303838316366
DTSTAMP:20260422T131449Z
DESCRIPTION:
DTSTART:20250710T101500Z
DTEND:20250710T114500Z
LOCATION:SR 4.12\, Geb. E 1.1
SUMMARY:Vorlesung
END:VEVENT
BEGIN:VEVENT
UID:31656433-3162-4464-a463-663939303661
DTSTAMP:20260422T131449Z
DESCRIPTION:
DTSTART:20250717T101500Z
DTEND:20250717T114500Z
LOCATION:SR 4.12\, Geb. E 1.1
SUMMARY:Vorlesung
END:VEVENT
END:VCALENDAR
