BEGIN:VCALENDAR
VERSION:2.0
PRODID:-//134.96.226.213//NONSGML kigkonsult.se iCalcreator 2.41.92//
CALSCALE:GREGORIAN
METHOD:PUBLISH
UID:66653138-3462-4031-b233-613138633733
X-WR-CALNAME:Elements of Machine Learning Calendar
X-WR-CALDESC:Events of the lecture Elements of Machine Learning
X-WR-TIMEZONE:Europe/Berlin
BEGIN:VEVENT
UID:65306264-3966-4637-b462-363931393263
DTSTAMP:20260425T153849Z
DESCRIPTION:
DTSTART:20260219T130000Z
DTEND:20260219T160000Z
SUMMARY:Eml25: Main Exam
END:VEVENT
BEGIN:VEVENT
UID:33663237-3232-4532-b234-366237393563
DTSTAMP:20260425T153849Z
DESCRIPTION:
DTSTART:20260319T130000Z
DTEND:20260319T160000Z
SUMMARY:Eml25: Re-exam
END:VEVENT
END:VCALENDAR
