BEGIN:VCALENDAR
VERSION:2.0
PRODID:-//134.96.226.213//NONSGML kigkonsult.se iCalcreator 2.41.92//
CALSCALE:GREGORIAN
METHOD:PUBLISH
UID:39326166-3739-4636-a230-333464363066
X-WR-CALNAME:Elements of Machine Learning Calendar
X-WR-CALDESC:Events of the lecture Elements of Machine Learning
X-WR-TIMEZONE:Europe/Berlin
BEGIN:VEVENT
UID:35363735-3563-4965-b131-343661656532
DTSTAMP:20260425T153611Z
DESCRIPTION:
DTSTART:20260219T130000Z
DTEND:20260219T160000Z
SUMMARY:Main Exam
END:VEVENT
BEGIN:VEVENT
UID:36646234-3734-4364-b561-663830643236
DTSTAMP:20260425T153611Z
DESCRIPTION:
DTSTART:20260319T130000Z
DTEND:20260319T160000Z
SUMMARY:Re-exam
END:VEVENT
END:VCALENDAR
