BEGIN:VCALENDAR
VERSION:2.0
PRODID:-//134.96.226.213//NONSGML kigkonsult.se iCalcreator 2.41.92//
CALSCALE:GREGORIAN
METHOD:PUBLISH
UID:34613134-6330-4137-a330-363730663539
X-WR-CALNAME:Elements of Machine Learning Calendar
X-WR-CALDESC:Events of the lecture Elements of Machine Learning
X-WR-TIMEZONE:Europe/Berlin
BEGIN:VEVENT
UID:66323231-3930-4365-b562-326633343537
DTSTAMP:20260425T153850Z
DESCRIPTION:
DTSTART:20251030T150000Z
DTEND:20251112T225900Z
SUMMARY:Eml25: Assignment 1
END:VEVENT
BEGIN:VEVENT
UID:39656264-6462-4636-b865-323763313832
DTSTAMP:20260425T153850Z
DESCRIPTION:
DTSTART:20251113T150000Z
DTEND:20251126T225900Z
SUMMARY:Eml25: Assignment 2
END:VEVENT
BEGIN:VEVENT
UID:30313030-3565-4464-a334-613635373331
DTSTAMP:20260425T153850Z
DESCRIPTION:
DTSTART:20251127T150000Z
DTEND:20251210T225900Z
SUMMARY:Eml25: Assignment 3
END:VEVENT
BEGIN:VEVENT
UID:65646539-3536-4430-a361-343632383732
DTSTAMP:20260425T153850Z
DESCRIPTION:
DTSTART:20251211T150000Z
DTEND:20251221T225900Z
SUMMARY:Eml25: Assignment 4
END:VEVENT
BEGIN:VEVENT
UID:31393836-6537-4639-b038-663264656632
DTSTAMP:20260425T153850Z
DESCRIPTION:
DTSTART:20260104T230000Z
DTEND:20260107T225900Z
SUMMARY:Eml25: Assignment 4
END:VEVENT
BEGIN:VEVENT
UID:62663963-3137-4134-a633-373736643163
DTSTAMP:20260425T153850Z
DESCRIPTION:
DTSTART:20260108T150000Z
DTEND:20260121T225900Z
SUMMARY:Eml25: Assignment 5
END:VEVENT
END:VCALENDAR
