BEGIN:VCALENDAR
VERSION:2.0
PRODID:-//134.96.226.213//NONSGML kigkonsult.se iCalcreator 2.41.92//
CALSCALE:GREGORIAN
METHOD:PUBLISH
UID:62336236-3033-4139-a237-376464363737
X-WR-CALNAME:Elements of Machine Learning Calendar
X-WR-CALDESC:Events of the lecture Elements of Machine Learning
X-WR-TIMEZONE:Europe/Berlin
BEGIN:VEVENT
UID:33323039-3939-4130-b337-386136326464
DTSTAMP:20260425T165852Z
DESCRIPTION:
DTSTART:20251030T150000Z
DTEND:20251112T225900Z
SUMMARY:Assignment 1
END:VEVENT
BEGIN:VEVENT
UID:31353030-3962-4261-b939-336234363163
DTSTAMP:20260425T165852Z
DESCRIPTION:
DTSTART:20251113T150000Z
DTEND:20251126T225900Z
SUMMARY:Assignment 2
END:VEVENT
BEGIN:VEVENT
UID:66613239-6462-4639-b939-363264333530
DTSTAMP:20260425T165852Z
DESCRIPTION:
DTSTART:20251127T150000Z
DTEND:20251210T225900Z
SUMMARY:Assignment 3
END:VEVENT
BEGIN:VEVENT
UID:63313062-3462-4361-a138-323430626430
DTSTAMP:20260425T165852Z
DESCRIPTION:
DTSTART:20251211T150000Z
DTEND:20251221T225900Z
SUMMARY:Assignment 4
END:VEVENT
BEGIN:VEVENT
UID:34373137-3362-4635-a134-393561623438
DTSTAMP:20260425T165852Z
DESCRIPTION:
DTSTART:20260104T230000Z
DTEND:20260107T225900Z
SUMMARY:Assignment 4
END:VEVENT
BEGIN:VEVENT
UID:33633537-6238-4564-b762-353561643539
DTSTAMP:20260425T165852Z
DESCRIPTION:
DTSTART:20260108T150000Z
DTEND:20260121T225900Z
SUMMARY:Assignment 5
END:VEVENT
END:VCALENDAR
