BEGIN:VCALENDAR
VERSION:2.0
PRODID:-//134.96.226.213//NONSGML kigkonsult.se iCalcreator 2.41.92//
CALSCALE:GREGORIAN
METHOD:PUBLISH
UID:32623266-3339-4763-a663-376236333139
X-WR-CALNAME:Elements of Machine Learning Calendar
X-WR-CALDESC:Events of the lecture Elements of Machine Learning
X-WR-TIMEZONE:Europe/Berlin
BEGIN:VEVENT
UID:35313164-6335-4632-a533-366166353536
DTSTAMP:20260425T153856Z
DESCRIPTION:
DTSTART:20251023T141500Z
DTEND:20251023T160000Z
LOCATION:E2.2\, GHH
SUMMARY:Eml25: Lecture
END:VEVENT
BEGIN:VEVENT
UID:33343662-6433-4262-a236-343230626635
DTSTAMP:20260425T153856Z
DESCRIPTION:
DTSTART:20251030T151500Z
DTEND:20251030T170000Z
LOCATION:E2.2\, GHH
SUMMARY:Eml25: Lecture
END:VEVENT
BEGIN:VEVENT
UID:64346636-3033-4432-b164-393432373136
DTSTAMP:20260425T153856Z
DESCRIPTION:
DTSTART:20251106T151500Z
DTEND:20251106T170000Z
LOCATION:E2.2\, GHH
SUMMARY:Eml25: Lecture
END:VEVENT
BEGIN:VEVENT
UID:38366630-3337-4630-a130-646335613264
DTSTAMP:20260425T153856Z
DESCRIPTION:
DTSTART:20251113T151500Z
DTEND:20251113T170000Z
LOCATION:E2.2\, GHH
SUMMARY:Eml25: Lecture
END:VEVENT
BEGIN:VEVENT
UID:64343434-6564-4663-b364-613161653131
DTSTAMP:20260425T153856Z
DESCRIPTION:
DTSTART:20251120T151500Z
DTEND:20251120T170000Z
LOCATION:E2.2\, GHH
SUMMARY:Eml25: Lecture
END:VEVENT
BEGIN:VEVENT
UID:33336665-6633-4430-b335-633137323930
DTSTAMP:20260425T153856Z
DESCRIPTION:
DTSTART:20251127T151500Z
DTEND:20251127T170000Z
LOCATION:E2.2\, GHH
SUMMARY:Eml25: Lecture
END:VEVENT
BEGIN:VEVENT
UID:66343637-3431-4037-a532-643230303164
DTSTAMP:20260425T153856Z
DESCRIPTION:
DTSTART:20251204T151500Z
DTEND:20251204T170000Z
LOCATION:E2.2\, GHH
SUMMARY:Eml25: Lecture
END:VEVENT
BEGIN:VEVENT
UID:62643136-3164-4239-b339-653565313431
DTSTAMP:20260425T153856Z
DESCRIPTION:
DTSTART:20251211T151500Z
DTEND:20251211T170000Z
LOCATION:E2.2\, GHH
SUMMARY:Eml25: Lecture
END:VEVENT
BEGIN:VEVENT
UID:32383134-6130-4235-b030-353362663661
DTSTAMP:20260425T153856Z
DESCRIPTION:
DTSTART:20251218T151500Z
DTEND:20251218T170000Z
LOCATION:E2.2\, GHH
SUMMARY:Eml25: Lecture
END:VEVENT
BEGIN:VEVENT
UID:63313461-3439-4530-b639-333836663462
DTSTAMP:20260425T153856Z
DESCRIPTION:
DTSTART:20260108T151500Z
DTEND:20260108T170000Z
LOCATION:E2.2\, GHH
SUMMARY:Eml25: Lecture
END:VEVENT
BEGIN:VEVENT
UID:30643633-6637-4539-a264-313365343034
DTSTAMP:20260425T153856Z
DESCRIPTION:
DTSTART:20260115T151500Z
DTEND:20260115T170000Z
LOCATION:E2.2\, GHH
SUMMARY:Eml25: Lecture
END:VEVENT
BEGIN:VEVENT
UID:30353361-6139-4630-a632-313439623838
DTSTAMP:20260425T153856Z
DESCRIPTION:
DTSTART:20260122T151500Z
DTEND:20260122T170000Z
LOCATION:E2.2\, GHH
SUMMARY:Eml25: Lecture
END:VEVENT
BEGIN:VEVENT
UID:38613632-3039-4432-a234-656333303434
DTSTAMP:20260425T153856Z
DESCRIPTION:
DTSTART:20260129T151500Z
DTEND:20260129T170000Z
LOCATION:E2.2\, GHH
SUMMARY:Eml25: Lecture
END:VEVENT
BEGIN:VEVENT
UID:35656465-6361-4661-b133-333733313836
DTSTAMP:20260425T153856Z
DESCRIPTION:
DTSTART:20260205T151500Z
DTEND:20260205T170000Z
LOCATION:E2.2\, GHH
SUMMARY:Eml25: Lecture
END:VEVENT
END:VCALENDAR
