BEGIN:VCALENDAR
VERSION:2.0
PRODID:-//134.96.226.213//NONSGML kigkonsult.se iCalcreator 2.41.92//
CALSCALE:GREGORIAN
METHOD:PUBLISH
UID:63303164-3538-4433-b763-623339303862
X-WR-CALNAME:Elements of Machine Learning Calendar
X-WR-CALDESC:Events of the lecture Elements of Machine Learning
X-WR-TIMEZONE:Europe/Berlin
BEGIN:VEVENT
UID:32303333-6435-4564-b238-316264383335
DTSTAMP:20260425T153736Z
DESCRIPTION:
DTSTART:20251023T141500Z
DTEND:20251023T160000Z
LOCATION:E2.2\, GHH
SUMMARY:Lecture
END:VEVENT
BEGIN:VEVENT
UID:64336163-3238-4761-a666-306566376264
DTSTAMP:20260425T153736Z
DESCRIPTION:
DTSTART:20251030T151500Z
DTEND:20251030T170000Z
LOCATION:E2.2\, GHH
SUMMARY:Lecture
END:VEVENT
BEGIN:VEVENT
UID:30613037-6461-4935-a231-343631303066
DTSTAMP:20260425T153736Z
DESCRIPTION:
DTSTART:20251106T151500Z
DTEND:20251106T170000Z
LOCATION:E2.2\, GHH
SUMMARY:Lecture
END:VEVENT
BEGIN:VEVENT
UID:62643762-6532-4333-b630-666165636136
DTSTAMP:20260425T153736Z
DESCRIPTION:
DTSTART:20251113T151500Z
DTEND:20251113T170000Z
LOCATION:E2.2\, GHH
SUMMARY:Lecture
END:VEVENT
BEGIN:VEVENT
UID:62383736-3033-4661-b062-663265633236
DTSTAMP:20260425T153736Z
DESCRIPTION:
DTSTART:20251120T151500Z
DTEND:20251120T170000Z
LOCATION:E2.2\, GHH
SUMMARY:Lecture
END:VEVENT
BEGIN:VEVENT
UID:37386462-6331-4465-a539-323866346261
DTSTAMP:20260425T153736Z
DESCRIPTION:
DTSTART:20251127T151500Z
DTEND:20251127T170000Z
LOCATION:E2.2\, GHH
SUMMARY:Lecture
END:VEVENT
BEGIN:VEVENT
UID:37376232-6139-4666-b966-363437326437
DTSTAMP:20260425T153736Z
DESCRIPTION:
DTSTART:20251204T151500Z
DTEND:20251204T170000Z
LOCATION:E2.2\, GHH
SUMMARY:Lecture
END:VEVENT
BEGIN:VEVENT
UID:66326637-6362-4637-a165-353534623863
DTSTAMP:20260425T153736Z
DESCRIPTION:
DTSTART:20251211T151500Z
DTEND:20251211T170000Z
LOCATION:E2.2\, GHH
SUMMARY:Lecture
END:VEVENT
BEGIN:VEVENT
UID:32356535-6236-4635-b761-646464316133
DTSTAMP:20260425T153736Z
DESCRIPTION:
DTSTART:20251218T151500Z
DTEND:20251218T170000Z
LOCATION:E2.2\, GHH
SUMMARY:Lecture
END:VEVENT
BEGIN:VEVENT
UID:66636339-6336-4231-a631-323039363236
DTSTAMP:20260425T153736Z
DESCRIPTION:
DTSTART:20260108T151500Z
DTEND:20260108T170000Z
LOCATION:E2.2\, GHH
SUMMARY:Lecture
END:VEVENT
BEGIN:VEVENT
UID:65663235-3535-4265-a136-373463326565
DTSTAMP:20260425T153736Z
DESCRIPTION:
DTSTART:20260115T151500Z
DTEND:20260115T170000Z
LOCATION:E2.2\, GHH
SUMMARY:Lecture
END:VEVENT
BEGIN:VEVENT
UID:31616462-6534-4766-b863-613737323531
DTSTAMP:20260425T153736Z
DESCRIPTION:
DTSTART:20260122T151500Z
DTEND:20260122T170000Z
LOCATION:E2.2\, GHH
SUMMARY:Lecture
END:VEVENT
BEGIN:VEVENT
UID:61643336-6664-4364-a437-346334623666
DTSTAMP:20260425T153736Z
DESCRIPTION:
DTSTART:20260129T151500Z
DTEND:20260129T170000Z
LOCATION:E2.2\, GHH
SUMMARY:Lecture
END:VEVENT
BEGIN:VEVENT
UID:61386632-3362-4632-a534-356338396161
DTSTAMP:20260425T153736Z
DESCRIPTION:
DTSTART:20260205T151500Z
DTEND:20260205T170000Z
LOCATION:E2.2\, GHH
SUMMARY:Lecture
END:VEVENT
END:VCALENDAR
