BEGIN:VCALENDAR
VERSION:2.0
PRODID:-//134.96.226.213//NONSGML kigkonsult.se iCalcreator 2.41.92//
CALSCALE:GREGORIAN
METHOD:PUBLISH
UID:66666238-6262-4739-a333-363239636433
X-WR-CALNAME:Elements of Machine Learning Calendar
X-WR-CALDESC:Events of the lecture Elements of Machine Learning
X-WR-TIMEZONE:Europe/Berlin
BEGIN:VEVENT
UID:65626365-3231-4361-a138-326164303538
DTSTAMP:20260425T181129Z
DESCRIPTION:
DTSTART:20241017T140000Z
DTEND:20241017T160000Z
LOCATION:E2.2 GHH
SUMMARY:Eml24: Lecture 1 - Introduction
END:VEVENT
BEGIN:VEVENT
UID:64343435-3164-4134-b838-336563633232
DTSTAMP:20260425T181129Z
DESCRIPTION:
DTSTART:20241021T080000Z
DTEND:20241021T100000Z
LOCATION:E1.3 HS003
SUMMARY:Eml24: Tutorial 1
END:VEVENT
BEGIN:VEVENT
UID:31346530-3764-4234-b331-636237356539
DTSTAMP:20260425T181129Z
DESCRIPTION:
DTSTART:20241021T120000Z
DTEND:20241021T140000Z
LOCATION:E1.3 HS003
SUMMARY:Eml24: Tutorial 2
END:VEVENT
BEGIN:VEVENT
UID:38653339-3539-4638-a565-343036643737
DTSTAMP:20260425T181129Z
DESCRIPTION:
DTSTART:20241024T120000Z
DTEND:20241024T140000Z
LOCATION:E1.3 HS003 or HS001
SUMMARY:Eml24: Tutorial 3
END:VEVENT
BEGIN:VEVENT
UID:32333739-3038-4533-b033-313139356561
DTSTAMP:20260425T181129Z
DESCRIPTION:
DTSTART:20241024T140000Z
DTEND:20241024T160000Z
LOCATION:E2.2 GHH
SUMMARY:Eml24: Lecture 2 - Regression I
END:VEVENT
BEGIN:VEVENT
UID:39383737-3262-4033-b630-326634373039
DTSTAMP:20260425T181129Z
DESCRIPTION:
DTSTART:20241025T100000Z
DTEND:20241025T120000Z
LOCATION:E1.3 HS003 or HS002
SUMMARY:Eml24: Tutorial 4
END:VEVENT
BEGIN:VEVENT
UID:39396334-6564-4362-a163-656366373832
DTSTAMP:20260425T181129Z
DESCRIPTION:
DTSTART:20241028T090000Z
DTEND:20241028T110000Z
LOCATION:E1.3 HS003
SUMMARY:Eml24: Tutorial 1
END:VEVENT
BEGIN:VEVENT
UID:66356131-3566-4938-a637-396137386231
DTSTAMP:20260425T181129Z
DESCRIPTION:
DTSTART:20241028T130000Z
DTEND:20241028T150000Z
LOCATION:E1.3 HS003
SUMMARY:Eml24: Tutorial 2
END:VEVENT
BEGIN:VEVENT
UID:62303964-3531-4366-b037-623861333932
DTSTAMP:20260425T181129Z
DESCRIPTION:
DTSTART:20241031T130000Z
DTEND:20241031T150000Z
LOCATION:E1.3 HS003 or HS001
SUMMARY:Eml24: Tutorial 3
END:VEVENT
BEGIN:VEVENT
UID:64623033-6234-4834-b066-313361396138
DTSTAMP:20260425T181129Z
DESCRIPTION:
DTSTART:20241031T150000Z
DTEND:20241031T170000Z
LOCATION:E2.2 GHH
SUMMARY:Eml24: Lecture 3 - Regression II
END:VEVENT
BEGIN:VEVENT
UID:63643065-3066-4163-a432-306232306538
DTSTAMP:20260425T181129Z
DESCRIPTION:
DTSTART:20241101T110000Z
DTEND:20241101T130000Z
LOCATION:E1.3 HS003 or HS002
SUMMARY:Eml24: Tutorial 4
END:VEVENT
BEGIN:VEVENT
UID:65326432-3234-4463-b139-343661343961
DTSTAMP:20260425T181129Z
DESCRIPTION:
DTSTART:20241104T090000Z
DTEND:20241104T110000Z
LOCATION:E1.3 HS003
SUMMARY:Eml24: Tutorial 1
END:VEVENT
BEGIN:VEVENT
UID:33666666-3034-4538-b363-356163303035
DTSTAMP:20260425T181129Z
DESCRIPTION:
DTSTART:20241104T130000Z
DTEND:20241104T150000Z
LOCATION:E1.3 HS003
SUMMARY:Eml24: Tutorial 2
END:VEVENT
BEGIN:VEVENT
UID:30313834-6565-4539-a430-653035366332
DTSTAMP:20260425T181129Z
DESCRIPTION:
DTSTART:20241107T130000Z
DTEND:20241107T150000Z
LOCATION:E1.3 HS003 or HS001
SUMMARY:Eml24: Tutorial 3
END:VEVENT
BEGIN:VEVENT
UID:35353865-3630-4535-a164-383961343666
DTSTAMP:20260425T181129Z
DESCRIPTION:
DTSTART:20241107T150000Z
DTEND:20241107T170000Z
LOCATION:E2.2 GHH
SUMMARY:Eml24: Lecture 4 - Classification I
END:VEVENT
BEGIN:VEVENT
UID:64343366-6537-4163-a238-363737663732
DTSTAMP:20260425T181129Z
DESCRIPTION:
DTSTART:20241108T110000Z
DTEND:20241108T130000Z
LOCATION:E1.3 HS003 or HS002
SUMMARY:Eml24: Tutorial 4
END:VEVENT
BEGIN:VEVENT
UID:36366333-3063-4833-a161-383737326366
DTSTAMP:20260425T181129Z
DESCRIPTION:
DTSTART:20241111T090000Z
DTEND:20241111T110000Z
LOCATION:E1.3 HS003
SUMMARY:Eml24: Tutorial 1
END:VEVENT
BEGIN:VEVENT
UID:37313862-6630-4437-b934-643163656162
DTSTAMP:20260425T181129Z
DESCRIPTION:
DTSTART:20241111T130000Z
DTEND:20241111T150000Z
LOCATION:E1.3 HS003
SUMMARY:Eml24: Tutorial 2
END:VEVENT
BEGIN:VEVENT
UID:35366531-3739-4636-a239-363861356532
DTSTAMP:20260425T181129Z
DESCRIPTION:
DTSTART:20241114T130000Z
DTEND:20241114T150000Z
LOCATION:E1.3 HS003 or HS001
SUMMARY:Eml24: Tutorial 3
END:VEVENT
BEGIN:VEVENT
UID:32353833-6365-4566-a239-396238376538
DTSTAMP:20260425T181129Z
DESCRIPTION:
DTSTART:20241114T150000Z
DTEND:20241114T170000Z
LOCATION:E2.2 GHH
SUMMARY:Eml24: Lecture 5 - Classification II
END:VEVENT
BEGIN:VEVENT
UID:31646331-6561-4730-a237-613831636136
DTSTAMP:20260425T181129Z
DESCRIPTION:
DTSTART:20241115T110000Z
DTEND:20241115T130000Z
LOCATION:E1.3 HS003 or HS002
SUMMARY:Eml24: Tutorial 4
END:VEVENT
BEGIN:VEVENT
UID:35323439-3237-4664-a432-656464393462
DTSTAMP:20260425T181129Z
DESCRIPTION:
DTSTART:20241118T090000Z
DTEND:20241118T110000Z
LOCATION:E1.3 HS003
SUMMARY:Eml24: Tutorial 1
END:VEVENT
BEGIN:VEVENT
UID:31386162-3833-4130-a130-393930373033
DTSTAMP:20260425T181129Z
DESCRIPTION:
DTSTART:20241118T130000Z
DTEND:20241118T150000Z
LOCATION:E1.3 HS003
SUMMARY:Eml24: Tutorial 2
END:VEVENT
BEGIN:VEVENT
UID:38326134-6164-4232-b732-663935323339
DTSTAMP:20260425T181129Z
DESCRIPTION:
DTSTART:20241121T130000Z
DTEND:20241121T150000Z
LOCATION:E1.3 HS003 or HS001
SUMMARY:Eml24: Tutorial 3
END:VEVENT
BEGIN:VEVENT
UID:65633865-6334-4632-a564-356236313132
DTSTAMP:20260425T181129Z
DESCRIPTION:
DTSTART:20241121T150000Z
DTEND:20241121T170000Z
LOCATION:E2.2 GHH
SUMMARY:Eml24: Lecture 6 - Generalization & Model Selection I
END:VEVENT
BEGIN:VEVENT
UID:31363736-3734-4862-a334-333735323662
DTSTAMP:20260425T181129Z
DESCRIPTION:
DTSTART:20241122T110000Z
DTEND:20241122T130000Z
LOCATION:E1.3 HS003 or HS002
SUMMARY:Eml24: Tutorial 4
END:VEVENT
BEGIN:VEVENT
UID:32353532-6638-4439-b434-343461306266
DTSTAMP:20260425T181129Z
DESCRIPTION:
DTSTART;VALUE=DATE:20241125
DTEND;VALUE=DATE:20241130
SUMMARY:Eml24: No Tutorials
END:VEVENT
BEGIN:VEVENT
UID:37363034-3439-4165-b264-396130383663
DTSTAMP:20260425T181129Z
DESCRIPTION:
DTSTART:20241128T150000Z
DTEND:20241128T170000Z
LOCATION:E2.2 GHH
SUMMARY:Eml24: Lecture 7 - Generalization & Model Selection II
END:VEVENT
BEGIN:VEVENT
UID:62316463-6161-4863-b438-306134393663
DTSTAMP:20260425T181129Z
DESCRIPTION:
DTSTART:20241202T090000Z
DTEND:20241202T110000Z
LOCATION:E1.3 HS003
SUMMARY:Eml24: Tutorial 1
END:VEVENT
BEGIN:VEVENT
UID:61306234-3336-4133-b066-356636313263
DTSTAMP:20260425T181129Z
DESCRIPTION:
DTSTART:20241202T130000Z
DTEND:20241202T150000Z
LOCATION:E1.3 HS003
SUMMARY:Eml24: Tutorial 2
END:VEVENT
BEGIN:VEVENT
UID:35626239-6330-4036-a466-363134616532
DTSTAMP:20260425T181129Z
DESCRIPTION:
DTSTART:20241205T130000Z
DTEND:20241205T150000Z
LOCATION:E1.3 HS003 or HS001
SUMMARY:Eml24: Tutorial 3
END:VEVENT
BEGIN:VEVENT
UID:32323463-6165-4534-b536-646234646163
DTSTAMP:20260425T181129Z
DESCRIPTION:
DTSTART:20241205T150000Z
DTEND:20241205T170000Z
LOCATION:E2.2 GHH
SUMMARY:Eml24: Lecture 8 - Beyond Linearity
END:VEVENT
BEGIN:VEVENT
UID:63383035-3364-4765-b166-343933383635
DTSTAMP:20260425T181129Z
DESCRIPTION:
DTSTART:20241206T110000Z
DTEND:20241206T130000Z
LOCATION:E1.3 HS003 or HS002
SUMMARY:Eml24: Tutorial 4
END:VEVENT
BEGIN:VEVENT
UID:33663635-6532-4932-a164-353066333133
DTSTAMP:20260425T181129Z
DESCRIPTION:
DTSTART:20241209T090000Z
DTEND:20241209T110000Z
LOCATION:E1.3 HS003
SUMMARY:Eml24: Tutorial 1
END:VEVENT
BEGIN:VEVENT
UID:32366563-6561-4130-a237-333264373362
DTSTAMP:20260425T181129Z
DESCRIPTION:
DTSTART:20241209T130000Z
DTEND:20241209T150000Z
LOCATION:E1.3 HS003
SUMMARY:Eml24: Tutorial 2
END:VEVENT
BEGIN:VEVENT
UID:65666132-3966-4433-b063-663065313665
DTSTAMP:20260425T181129Z
DESCRIPTION:
DTSTART:20241212T130000Z
DTEND:20241212T150000Z
LOCATION:E1.3 HS003 or HS001
SUMMARY:Eml24: Tutorial 3
END:VEVENT
BEGIN:VEVENT
UID:36333564-3364-4738-b363-663138353531
DTSTAMP:20260425T181129Z
DESCRIPTION:
DTSTART:20241212T150000Z
DTEND:20241212T170000Z
LOCATION:E2.2 GHH
SUMMARY:Eml24: Lecture 9 - Dimensionality Reduction
END:VEVENT
BEGIN:VEVENT
UID:31626133-3130-4339-a361-393830363330
DTSTAMP:20260425T181129Z
DESCRIPTION:
DTSTART:20241213T110000Z
DTEND:20241213T130000Z
LOCATION:E1.3 HS003 or HS002
SUMMARY:Eml24: Tutorial 4
END:VEVENT
BEGIN:VEVENT
UID:36653038-3035-4130-a438-336166303738
DTSTAMP:20260425T181129Z
DESCRIPTION:
DTSTART:20241216T090000Z
DTEND:20241216T110000Z
LOCATION:E1.3 HS003
SUMMARY:Eml24: Tutorial 1
END:VEVENT
BEGIN:VEVENT
UID:34623937-3235-4765-a563-663466343835
DTSTAMP:20260425T181129Z
DESCRIPTION:
DTSTART:20241216T130000Z
DTEND:20241216T150000Z
LOCATION:E1.3 HS003
SUMMARY:Eml24: Tutorial 2
END:VEVENT
BEGIN:VEVENT
UID:33343539-6537-4465-b362-363561373932
DTSTAMP:20260425T181129Z
DESCRIPTION:
DTSTART:20241219T130000Z
DTEND:20241219T150000Z
LOCATION:E1.3 HS003 or HS001
SUMMARY:Eml24: Tutorial 3
END:VEVENT
BEGIN:VEVENT
UID:31313035-3263-4033-a231-333033313838
DTSTAMP:20260425T181129Z
DESCRIPTION:
DTSTART:20241219T150000Z
DTEND:20241219T170000Z
LOCATION:E2.2 GHH
SUMMARY:Eml24: Lecture 10 - Clustering
END:VEVENT
BEGIN:VEVENT
UID:31653464-3365-4561-a164-343235326166
DTSTAMP:20260425T181129Z
DESCRIPTION:
DTSTART:20241220T110000Z
DTEND:20241220T130000Z
LOCATION:E1.3 HS003 or HS002
SUMMARY:Eml24: Tutorial 4
END:VEVENT
BEGIN:VEVENT
UID:38623634-3830-4430-b736-613138303166
DTSTAMP:20260425T181129Z
DESCRIPTION:
DTSTART:20250106T090000Z
DTEND:20250106T110000Z
LOCATION:E1.3 HS003
SUMMARY:Eml24: Tutorial 1
END:VEVENT
BEGIN:VEVENT
UID:63613263-3632-4666-a235-623931346363
DTSTAMP:20260425T181129Z
DESCRIPTION:
DTSTART:20250106T130000Z
DTEND:20250106T150000Z
LOCATION:E1.3 HS003
SUMMARY:Eml24: Tutorial 2
END:VEVENT
BEGIN:VEVENT
UID:30656630-3464-4432-b034-393865353437
DTSTAMP:20260425T181129Z
DESCRIPTION:
DTSTART:20250109T130000Z
DTEND:20250109T150000Z
LOCATION:E1.3 HS003 or HS001
SUMMARY:Eml24: Tutorial 3
END:VEVENT
BEGIN:VEVENT
UID:30363232-3563-4537-a138-306561666264
DTSTAMP:20260425T181129Z
DESCRIPTION:
DTSTART:20250109T150000Z
DTEND:20250109T170000Z
LOCATION:E2.2 GHH
SUMMARY:Eml24: Lecture 11 - Tree-based Models
END:VEVENT
BEGIN:VEVENT
UID:30393431-6666-4261-b939-326534323936
DTSTAMP:20260425T181129Z
DESCRIPTION:
DTSTART:20250110T110000Z
DTEND:20250110T130000Z
LOCATION:E1.3 HS003 or HS002
SUMMARY:Eml24: Tutorial 4
END:VEVENT
BEGIN:VEVENT
UID:66333039-3562-4538-b862-383630396662
DTSTAMP:20260425T181129Z
DESCRIPTION:
DTSTART;VALUE=DATE:20250113
DTEND;VALUE=DATE:20250118
SUMMARY:Eml24: No Tutorials
END:VEVENT
BEGIN:VEVENT
UID:61323035-6335-4939-b964-613539386265
DTSTAMP:20260425T181129Z
DESCRIPTION:
DTSTART:20250116T150000Z
DTEND:20250116T170000Z
LOCATION:E2.2 GHH
SUMMARY:Eml24: Lecture 12 - SVMs
END:VEVENT
BEGIN:VEVENT
UID:39306362-3335-4232-b036-323063366438
DTSTAMP:20260425T181129Z
DESCRIPTION:
DTSTART:20250120T090000Z
DTEND:20250120T110000Z
LOCATION:E1.3 HS003
SUMMARY:Eml24: Tutorial 1
END:VEVENT
BEGIN:VEVENT
UID:37636136-3265-4863-a662-303930613065
DTSTAMP:20260425T181129Z
DESCRIPTION:
DTSTART:20250120T130000Z
DTEND:20250120T150000Z
LOCATION:E1.3 HS003
SUMMARY:Eml24: Tutorial 2
END:VEVENT
BEGIN:VEVENT
UID:65653266-3639-4639-a532-336362313766
DTSTAMP:20260425T181129Z
DESCRIPTION:
DTSTART:20250123T130000Z
DTEND:20250123T150000Z
LOCATION:E1.3 HS003 or HS001
SUMMARY:Eml24: Tutorial 3
END:VEVENT
BEGIN:VEVENT
UID:62376665-3861-4264-b063-376133663031
DTSTAMP:20260425T181129Z
DESCRIPTION:
DTSTART:20250123T150000Z
DTEND:20250123T170000Z
LOCATION:E2.2 GHH
SUMMARY:Eml24: Lecture 13 - NNs
END:VEVENT
BEGIN:VEVENT
UID:39386435-6664-4530-b237-623362383032
DTSTAMP:20260425T181129Z
DESCRIPTION:
DTSTART:20250124T110000Z
DTEND:20250124T130000Z
LOCATION:E1.3 HS003 or HS002
SUMMARY:Eml24: Tutorial 4
END:VEVENT
BEGIN:VEVENT
UID:36633439-3233-4632-a464-353430383163
DTSTAMP:20260425T181129Z
DESCRIPTION:
DTSTART;VALUE=DATE:20250127
DTEND;VALUE=DATE:20250201
SUMMARY:Eml24: No Tutorials
END:VEVENT
BEGIN:VEVENT
UID:34663633-3035-4633-b538-653838363037
DTSTAMP:20260425T181129Z
DESCRIPTION:
DTSTART:20250130T150000Z
DTEND:20250130T170000Z
LOCATION:E2.2 GHH
SUMMARY:Eml24: Lecture 14 - ML & Real World
END:VEVENT
BEGIN:VEVENT
UID:36613765-3561-4166-b337-636665613433
DTSTAMP:20260425T181129Z
DESCRIPTION:
DTSTART:20250203T090000Z
DTEND:20250203T110000Z
LOCATION:E1.3 HS003
SUMMARY:Eml24: Tutorial 1
END:VEVENT
BEGIN:VEVENT
UID:34323438-3663-4233-b135-303765353636
DTSTAMP:20260425T181129Z
DESCRIPTION:
DTSTART:20250203T130000Z
DTEND:20250203T150000Z
LOCATION:E1.3 HS003
SUMMARY:Eml24: Tutorial 2
END:VEVENT
BEGIN:VEVENT
UID:33373039-6134-4233-a434-653465373934
DTSTAMP:20260425T181129Z
DESCRIPTION:
DTSTART:20250206T130000Z
DTEND:20250206T150000Z
LOCATION:E1.3 HS003 or HS001
SUMMARY:Eml24: Tutorial 3
END:VEVENT
BEGIN:VEVENT
UID:33613032-3636-4033-a664-643330353833
DTSTAMP:20260425T181129Z
DESCRIPTION:
DTSTART:20250206T150000Z
DTEND:20250206T170000Z
LOCATION:E2.2 GHH
SUMMARY:Eml24: Lecture 15 - Q&A for exam preparation
END:VEVENT
BEGIN:VEVENT
UID:66306465-3663-4538-a532-376466353663
DTSTAMP:20260425T181129Z
DESCRIPTION:
DTSTART:20250207T110000Z
DTEND:20250207T130000Z
LOCATION:E1.3 HS003 or HS002
SUMMARY:Eml24: Tutorial 4
END:VEVENT
BEGIN:VEVENT
UID:63306337-6530-4638-b534-323662646664
DTSTAMP:20260425T181129Z
DESCRIPTION:
DTSTART:20250219T130000Z
DTEND:20250219T160000Z
SUMMARY:Eml24: Main Exam
END:VEVENT
BEGIN:VEVENT
UID:34396361-6630-4937-a539-396562366335
DTSTAMP:20260425T181129Z
DESCRIPTION:
DTSTART:20250320T130000Z
DTEND:20250320T160000Z
SUMMARY:Eml24: Re-Exam
END:VEVENT
END:VCALENDAR
