BEGIN:VCALENDAR
VERSION:2.0
PRODID:-//134.96.226.213//NONSGML kigkonsult.se iCalcreator 2.41.92//
CALSCALE:GREGORIAN
METHOD:PUBLISH
UID:37333338-3566-4736-b164-386134323331
X-WR-CALNAME:Elements of Machine Learning Calendar
X-WR-CALDESC:Events of the lecture Elements of Machine Learning
X-WR-TIMEZONE:Europe/Berlin
BEGIN:VEVENT
UID:65393936-3966-4661-b933-343964396134
DTSTAMP:20260425T181211Z
DESCRIPTION:
DTSTART:20241021T080000Z
DTEND:20241021T100000Z
LOCATION:E1.3 HS003
SUMMARY:Tutorial 1
END:VEVENT
BEGIN:VEVENT
UID:30353766-3866-4533-b033-333765393534
DTSTAMP:20260425T181211Z
DESCRIPTION:
DTSTART:20241021T120000Z
DTEND:20241021T140000Z
LOCATION:E1.3 HS003
SUMMARY:Tutorial 2
END:VEVENT
BEGIN:VEVENT
UID:65623130-3263-4665-b932-333064623835
DTSTAMP:20260425T181211Z
DESCRIPTION:
DTSTART:20241024T120000Z
DTEND:20241024T140000Z
LOCATION:E1.3 HS003 or HS001
SUMMARY:Tutorial 3
END:VEVENT
BEGIN:VEVENT
UID:65346236-3764-4533-b661-343732396235
DTSTAMP:20260425T181211Z
DESCRIPTION:
DTSTART:20241025T100000Z
DTEND:20241025T120000Z
LOCATION:E1.3 HS003 or HS002
SUMMARY:Tutorial 4
END:VEVENT
BEGIN:VEVENT
UID:63383166-6632-4465-a536-373466346465
DTSTAMP:20260425T181211Z
DESCRIPTION:
DTSTART:20241028T090000Z
DTEND:20241028T110000Z
LOCATION:E1.3 HS003
SUMMARY:Tutorial 1
END:VEVENT
BEGIN:VEVENT
UID:30323362-6431-4735-a466-386535366133
DTSTAMP:20260425T181211Z
DESCRIPTION:
DTSTART:20241028T130000Z
DTEND:20241028T150000Z
LOCATION:E1.3 HS003
SUMMARY:Tutorial 2
END:VEVENT
BEGIN:VEVENT
UID:62376533-3739-4733-b334-633766303730
DTSTAMP:20260425T181211Z
DESCRIPTION:
DTSTART:20241031T130000Z
DTEND:20241031T150000Z
LOCATION:E1.3 HS003 or HS001
SUMMARY:Tutorial 3
END:VEVENT
BEGIN:VEVENT
UID:31373831-3432-4330-b431-393165363665
DTSTAMP:20260425T181211Z
DESCRIPTION:
DTSTART:20241101T110000Z
DTEND:20241101T130000Z
LOCATION:E1.3 HS003 or HS002
SUMMARY:Tutorial 4
END:VEVENT
BEGIN:VEVENT
UID:32616138-6530-4131-a633-613265343462
DTSTAMP:20260425T181211Z
DESCRIPTION:
DTSTART:20241104T090000Z
DTEND:20241104T110000Z
LOCATION:E1.3 HS003
SUMMARY:Tutorial 1
END:VEVENT
BEGIN:VEVENT
UID:61363862-3039-4536-b433-666630663035
DTSTAMP:20260425T181211Z
DESCRIPTION:
DTSTART:20241104T130000Z
DTEND:20241104T150000Z
LOCATION:E1.3 HS003
SUMMARY:Tutorial 2
END:VEVENT
BEGIN:VEVENT
UID:61373031-3834-4331-a337-633564393839
DTSTAMP:20260425T181211Z
DESCRIPTION:
DTSTART:20241107T130000Z
DTEND:20241107T150000Z
LOCATION:E1.3 HS003 or HS001
SUMMARY:Tutorial 3
END:VEVENT
BEGIN:VEVENT
UID:38396563-3236-4766-a161-373835643566
DTSTAMP:20260425T181211Z
DESCRIPTION:
DTSTART:20241108T110000Z
DTEND:20241108T130000Z
LOCATION:E1.3 HS003 or HS002
SUMMARY:Tutorial 4
END:VEVENT
BEGIN:VEVENT
UID:31343164-6662-4031-a532-333365633632
DTSTAMP:20260425T181211Z
DESCRIPTION:
DTSTART:20241111T090000Z
DTEND:20241111T110000Z
LOCATION:E1.3 HS003
SUMMARY:Tutorial 1
END:VEVENT
BEGIN:VEVENT
UID:61363163-3136-4530-a630-633734396162
DTSTAMP:20260425T181211Z
DESCRIPTION:
DTSTART:20241111T130000Z
DTEND:20241111T150000Z
LOCATION:E1.3 HS003
SUMMARY:Tutorial 2
END:VEVENT
BEGIN:VEVENT
UID:39316534-3866-4236-b566-306635373164
DTSTAMP:20260425T181211Z
DESCRIPTION:
DTSTART:20241114T130000Z
DTEND:20241114T150000Z
LOCATION:E1.3 HS003 or HS001
SUMMARY:Tutorial 3
END:VEVENT
BEGIN:VEVENT
UID:38353530-3661-4861-a436-316632623231
DTSTAMP:20260425T181211Z
DESCRIPTION:
DTSTART:20241115T110000Z
DTEND:20241115T130000Z
LOCATION:E1.3 HS003 or HS002
SUMMARY:Tutorial 4
END:VEVENT
BEGIN:VEVENT
UID:32613631-3738-4732-b963-353264396535
DTSTAMP:20260425T181211Z
DESCRIPTION:
DTSTART:20241118T090000Z
DTEND:20241118T110000Z
LOCATION:E1.3 HS003
SUMMARY:Tutorial 1
END:VEVENT
BEGIN:VEVENT
UID:62366666-6162-4663-b135-393966636133
DTSTAMP:20260425T181211Z
DESCRIPTION:
DTSTART:20241118T130000Z
DTEND:20241118T150000Z
LOCATION:E1.3 HS003
SUMMARY:Tutorial 2
END:VEVENT
BEGIN:VEVENT
UID:64333762-3336-4635-b238-343739316266
DTSTAMP:20260425T181211Z
DESCRIPTION:
DTSTART:20241121T130000Z
DTEND:20241121T150000Z
LOCATION:E1.3 HS003 or HS001
SUMMARY:Tutorial 3
END:VEVENT
BEGIN:VEVENT
UID:30306633-6164-4838-b662-343163356264
DTSTAMP:20260425T181211Z
DESCRIPTION:
DTSTART:20241122T110000Z
DTEND:20241122T130000Z
LOCATION:E1.3 HS003 or HS002
SUMMARY:Tutorial 4
END:VEVENT
BEGIN:VEVENT
UID:65373265-3938-4462-b262-393562353761
DTSTAMP:20260425T181211Z
DESCRIPTION:
DTSTART;VALUE=DATE:20241125
DTEND;VALUE=DATE:20241130
SUMMARY:No Tutorials
END:VEVENT
BEGIN:VEVENT
UID:36336463-3164-4338-a537-393030623264
DTSTAMP:20260425T181211Z
DESCRIPTION:
DTSTART:20241202T090000Z
DTEND:20241202T110000Z
LOCATION:E1.3 HS003
SUMMARY:Tutorial 1
END:VEVENT
BEGIN:VEVENT
UID:62353565-3333-4063-a335-386331363835
DTSTAMP:20260425T181211Z
DESCRIPTION:
DTSTART:20241202T130000Z
DTEND:20241202T150000Z
LOCATION:E1.3 HS003
SUMMARY:Tutorial 2
END:VEVENT
BEGIN:VEVENT
UID:62653163-6332-4762-b233-303066346665
DTSTAMP:20260425T181211Z
DESCRIPTION:
DTSTART:20241205T130000Z
DTEND:20241205T150000Z
LOCATION:E1.3 HS003 or HS001
SUMMARY:Tutorial 3
END:VEVENT
BEGIN:VEVENT
UID:33376238-3963-4139-a336-366439386332
DTSTAMP:20260425T181211Z
DESCRIPTION:
DTSTART:20241206T110000Z
DTEND:20241206T130000Z
LOCATION:E1.3 HS003 or HS002
SUMMARY:Tutorial 4
END:VEVENT
BEGIN:VEVENT
UID:64323630-3930-4862-b736-643438623762
DTSTAMP:20260425T181211Z
DESCRIPTION:
DTSTART:20241209T090000Z
DTEND:20241209T110000Z
LOCATION:E1.3 HS003
SUMMARY:Tutorial 1
END:VEVENT
BEGIN:VEVENT
UID:35313839-3461-4164-a261-653662363939
DTSTAMP:20260425T181211Z
DESCRIPTION:
DTSTART:20241209T130000Z
DTEND:20241209T150000Z
LOCATION:E1.3 HS003
SUMMARY:Tutorial 2
END:VEVENT
BEGIN:VEVENT
UID:33316234-3364-4231-b364-326133613037
DTSTAMP:20260425T181211Z
DESCRIPTION:
DTSTART:20241212T130000Z
DTEND:20241212T150000Z
LOCATION:E1.3 HS003 or HS001
SUMMARY:Tutorial 3
END:VEVENT
BEGIN:VEVENT
UID:66336633-3439-4864-b439-303430303836
DTSTAMP:20260425T181211Z
DESCRIPTION:
DTSTART:20241213T110000Z
DTEND:20241213T130000Z
LOCATION:E1.3 HS003 or HS002
SUMMARY:Tutorial 4
END:VEVENT
BEGIN:VEVENT
UID:36356164-3036-4237-b866-376536643633
DTSTAMP:20260425T181211Z
DESCRIPTION:
DTSTART:20241216T090000Z
DTEND:20241216T110000Z
LOCATION:E1.3 HS003
SUMMARY:Tutorial 1
END:VEVENT
BEGIN:VEVENT
UID:32333830-3762-4136-b866-333163653739
DTSTAMP:20260425T181211Z
DESCRIPTION:
DTSTART:20241216T130000Z
DTEND:20241216T150000Z
LOCATION:E1.3 HS003
SUMMARY:Tutorial 2
END:VEVENT
BEGIN:VEVENT
UID:65363432-3763-4838-b838-316265333931
DTSTAMP:20260425T181211Z
DESCRIPTION:
DTSTART:20241219T130000Z
DTEND:20241219T150000Z
LOCATION:E1.3 HS003 or HS001
SUMMARY:Tutorial 3
END:VEVENT
BEGIN:VEVENT
UID:61643137-6165-4163-a135-396632373464
DTSTAMP:20260425T181211Z
DESCRIPTION:
DTSTART:20241220T110000Z
DTEND:20241220T130000Z
LOCATION:E1.3 HS003 or HS002
SUMMARY:Tutorial 4
END:VEVENT
BEGIN:VEVENT
UID:62613630-3235-4230-b335-336439613236
DTSTAMP:20260425T181211Z
DESCRIPTION:
DTSTART:20250106T090000Z
DTEND:20250106T110000Z
LOCATION:E1.3 HS003
SUMMARY:Tutorial 1
END:VEVENT
BEGIN:VEVENT
UID:36386637-3139-4262-b466-613738663431
DTSTAMP:20260425T181211Z
DESCRIPTION:
DTSTART:20250106T130000Z
DTEND:20250106T150000Z
LOCATION:E1.3 HS003
SUMMARY:Tutorial 2
END:VEVENT
BEGIN:VEVENT
UID:30656161-3138-4834-b134-613666633230
DTSTAMP:20260425T181211Z
DESCRIPTION:
DTSTART:20250109T130000Z
DTEND:20250109T150000Z
LOCATION:E1.3 HS003 or HS001
SUMMARY:Tutorial 3
END:VEVENT
BEGIN:VEVENT
UID:64356539-3833-4531-b732-396331653530
DTSTAMP:20260425T181211Z
DESCRIPTION:
DTSTART:20250110T110000Z
DTEND:20250110T130000Z
LOCATION:E1.3 HS003 or HS002
SUMMARY:Tutorial 4
END:VEVENT
BEGIN:VEVENT
UID:61306134-3866-4164-b637-393163393638
DTSTAMP:20260425T181211Z
DESCRIPTION:
DTSTART;VALUE=DATE:20250113
DTEND;VALUE=DATE:20250118
SUMMARY:No Tutorials
END:VEVENT
BEGIN:VEVENT
UID:66326235-6339-4363-b133-333537316162
DTSTAMP:20260425T181211Z
DESCRIPTION:
DTSTART:20250120T090000Z
DTEND:20250120T110000Z
LOCATION:E1.3 HS003
SUMMARY:Tutorial 1
END:VEVENT
BEGIN:VEVENT
UID:33396431-3963-4762-b665-366437343132
DTSTAMP:20260425T181211Z
DESCRIPTION:
DTSTART:20250120T130000Z
DTEND:20250120T150000Z
LOCATION:E1.3 HS003
SUMMARY:Tutorial 2
END:VEVENT
BEGIN:VEVENT
UID:64666664-3466-4839-b461-393835663262
DTSTAMP:20260425T181211Z
DESCRIPTION:
DTSTART:20250123T130000Z
DTEND:20250123T150000Z
LOCATION:E1.3 HS003 or HS001
SUMMARY:Tutorial 3
END:VEVENT
BEGIN:VEVENT
UID:32363764-3764-4430-a236-613336613430
DTSTAMP:20260425T181211Z
DESCRIPTION:
DTSTART:20250124T110000Z
DTEND:20250124T130000Z
LOCATION:E1.3 HS003 or HS002
SUMMARY:Tutorial 4
END:VEVENT
BEGIN:VEVENT
UID:38613437-3833-4566-b562-313730373131
DTSTAMP:20260425T181211Z
DESCRIPTION:
DTSTART;VALUE=DATE:20250127
DTEND;VALUE=DATE:20250201
SUMMARY:No Tutorials
END:VEVENT
BEGIN:VEVENT
UID:64343933-6135-4538-b433-326433383665
DTSTAMP:20260425T181211Z
DESCRIPTION:
DTSTART:20250203T090000Z
DTEND:20250203T110000Z
LOCATION:E1.3 HS003
SUMMARY:Tutorial 1
END:VEVENT
BEGIN:VEVENT
UID:66633533-3633-4134-b266-616362343062
DTSTAMP:20260425T181211Z
DESCRIPTION:
DTSTART:20250203T130000Z
DTEND:20250203T150000Z
LOCATION:E1.3 HS003
SUMMARY:Tutorial 2
END:VEVENT
BEGIN:VEVENT
UID:38626236-3330-4035-b162-363837303364
DTSTAMP:20260425T181211Z
DESCRIPTION:
DTSTART:20250206T130000Z
DTEND:20250206T150000Z
LOCATION:E1.3 HS003 or HS001
SUMMARY:Tutorial 3
END:VEVENT
BEGIN:VEVENT
UID:31376261-6264-4131-a630-383761336561
DTSTAMP:20260425T181211Z
DESCRIPTION:
DTSTART:20250207T110000Z
DTEND:20250207T130000Z
LOCATION:E1.3 HS003 or HS002
SUMMARY:Tutorial 4
END:VEVENT
END:VCALENDAR
