BEGIN:VCALENDAR
VERSION:2.0
PRODID:-//134.96.226.213//NONSGML kigkonsult.se iCalcreator 2.41.92//
CALSCALE:GREGORIAN
METHOD:PUBLISH
UID:39633366-6361-4363-b531-393966613264
X-WR-CALNAME:Elements of Machine Learning Calendar
X-WR-CALDESC:Events of the lecture Elements of Machine Learning
X-WR-TIMEZONE:Europe/Berlin
BEGIN:VEVENT
UID:33613161-3035-4434-b663-643735353131
DTSTAMP:20260425T181125Z
DESCRIPTION:
DTSTART:20250219T130000Z
DTEND:20250219T160000Z
SUMMARY:Main Exam
END:VEVENT
BEGIN:VEVENT
UID:39623933-3034-4933-a661-616161326464
DTSTAMP:20260425T181125Z
DESCRIPTION:
DTSTART:20250320T130000Z
DTEND:20250320T160000Z
SUMMARY:Re-Exam
END:VEVENT
END:VCALENDAR
