BEGIN:VCALENDAR
VERSION:2.0
PRODID:-//134.96.226.213//NONSGML kigkonsult.se iCalcreator 2.41.92//
CALSCALE:GREGORIAN
METHOD:PUBLISH
UID:66666331-6162-4038-a366-336132633431
X-WR-CALNAME:Elements of Machine Learning Calendar
X-WR-CALDESC:Events of the lecture Elements of Machine Learning
X-WR-TIMEZONE:Europe/Berlin
BEGIN:VEVENT
UID:61333635-6363-4761-a464-646465396366
DTSTAMP:20260425T181318Z
DESCRIPTION:
DTSTART:20241017T140000Z
DTEND:20241017T160000Z
LOCATION:E2.2 GHH
SUMMARY:Lecture 1 - Introduction
END:VEVENT
BEGIN:VEVENT
UID:36336237-3130-4366-b431-323133383537
DTSTAMP:20260425T181318Z
DESCRIPTION:
DTSTART:20241024T140000Z
DTEND:20241024T160000Z
LOCATION:E2.2 GHH
SUMMARY:Lecture 2 - Regression I
END:VEVENT
BEGIN:VEVENT
UID:32383737-3434-4937-b563-616636666639
DTSTAMP:20260425T181318Z
DESCRIPTION:
DTSTART:20241031T150000Z
DTEND:20241031T170000Z
LOCATION:E2.2 GHH
SUMMARY:Lecture 3 - Regression II
END:VEVENT
BEGIN:VEVENT
UID:31306266-6137-4136-b334-646337666362
DTSTAMP:20260425T181318Z
DESCRIPTION:
DTSTART:20241107T150000Z
DTEND:20241107T170000Z
LOCATION:E2.2 GHH
SUMMARY:Lecture 4 - Classification I
END:VEVENT
BEGIN:VEVENT
UID:64623833-3565-4139-a466-323162656635
DTSTAMP:20260425T181318Z
DESCRIPTION:
DTSTART:20241114T150000Z
DTEND:20241114T170000Z
LOCATION:E2.2 GHH
SUMMARY:Lecture 5 - Classification II
END:VEVENT
BEGIN:VEVENT
UID:33383433-6364-4236-b162-376262626337
DTSTAMP:20260425T181318Z
DESCRIPTION:
DTSTART:20241121T150000Z
DTEND:20241121T170000Z
LOCATION:E2.2 GHH
SUMMARY:Lecture 6 - Generalization & Model Selection I
END:VEVENT
BEGIN:VEVENT
UID:66663564-6365-4339-b336-356565616461
DTSTAMP:20260425T181318Z
DESCRIPTION:
DTSTART:20241128T150000Z
DTEND:20241128T170000Z
LOCATION:E2.2 GHH
SUMMARY:Lecture 7 - Generalization & Model Selection II
END:VEVENT
BEGIN:VEVENT
UID:37376230-3335-4562-b734-323465336233
DTSTAMP:20260425T181318Z
DESCRIPTION:
DTSTART:20241205T150000Z
DTEND:20241205T170000Z
LOCATION:E2.2 GHH
SUMMARY:Lecture 8 - Beyond Linearity
END:VEVENT
BEGIN:VEVENT
UID:61326432-3161-4162-b766-346230323263
DTSTAMP:20260425T181318Z
DESCRIPTION:
DTSTART:20241212T150000Z
DTEND:20241212T170000Z
LOCATION:E2.2 GHH
SUMMARY:Lecture 9 - Dimensionality Reduction
END:VEVENT
BEGIN:VEVENT
UID:65303130-3237-4461-b936-316533626538
DTSTAMP:20260425T181318Z
DESCRIPTION:
DTSTART:20241219T150000Z
DTEND:20241219T170000Z
LOCATION:E2.2 GHH
SUMMARY:Lecture 10 - Clustering
END:VEVENT
BEGIN:VEVENT
UID:63653165-3231-4563-b433-306133613232
DTSTAMP:20260425T181318Z
DESCRIPTION:
DTSTART:20250109T150000Z
DTEND:20250109T170000Z
LOCATION:E2.2 GHH
SUMMARY:Lecture 11 - Tree-based Models
END:VEVENT
BEGIN:VEVENT
UID:33333336-3563-4638-b064-616638623666
DTSTAMP:20260425T181318Z
DESCRIPTION:
DTSTART:20250116T150000Z
DTEND:20250116T170000Z
LOCATION:E2.2 GHH
SUMMARY:Lecture 12 - SVMs
END:VEVENT
BEGIN:VEVENT
UID:64613939-3866-4032-b166-393263653837
DTSTAMP:20260425T181318Z
DESCRIPTION:
DTSTART:20250123T150000Z
DTEND:20250123T170000Z
LOCATION:E2.2 GHH
SUMMARY:Lecture 13 - NNs
END:VEVENT
BEGIN:VEVENT
UID:64356134-3030-4131-b235-653238363434
DTSTAMP:20260425T181318Z
DESCRIPTION:
DTSTART:20250130T150000Z
DTEND:20250130T170000Z
LOCATION:E2.2 GHH
SUMMARY:Lecture 14 - ML & Real World
END:VEVENT
BEGIN:VEVENT
UID:65373665-3636-4337-a166-393463333864
DTSTAMP:20260425T181318Z
DESCRIPTION:
DTSTART:20250206T150000Z
DTEND:20250206T170000Z
LOCATION:E2.2 GHH
SUMMARY:Lecture 15 - Q&A for exam preparation
END:VEVENT
END:VCALENDAR
