BEGIN:VCALENDAR
VERSION:2.0
PRODID:-//134.96.226.213//NONSGML kigkonsult.se iCalcreator 2.41.92//
CALSCALE:GREGORIAN
METHOD:PUBLISH
UID:32393066-3439-4033-b935-366536333839
X-WR-CALNAME:Elements of Data Science and Artificial Intelligence Calendar
X-WR-CALDESC:Events of the lecture Elements of Data Science and Artificial 
 Intelligence
X-WR-TIMEZONE:Europe/Berlin
BEGIN:VEVENT
UID:62646262-3833-4165-b263-633535643633
DTSTAMP:20260423T164531Z
DESCRIPTION:
DTSTART;VALUE=DATE:20221226
DTEND;VALUE=DATE:20230103
SUMMARY:Edsai2223: Winter Holiday
END:VEVENT
END:VCALENDAR
