BEGIN:VCALENDAR
VERSION:2.0
PRODID:-//134.96.226.213//NONSGML kigkonsult.se iCalcreator 2.41.92//
CALSCALE:GREGORIAN
METHOD:PUBLISH
UID:30613365-3861-4361-b537-363963363539
X-WR-CALNAME:Elements of Data Science and Artificial Intelligence Calendar
X-WR-CALDESC:Events of the lecture Elements of Data Science and Artificial 
 Intelligence
X-WR-TIMEZONE:Europe/Berlin
BEGIN:VEVENT
UID:66623939-3731-4066-b338-613934646631
DTSTAMP:20260423T164326Z
DESCRIPTION:
DTSTART;VALUE=DATE:20221226
DTEND;VALUE=DATE:20230103
SUMMARY:Winter Holiday
END:VEVENT
END:VCALENDAR
