BEGIN:VCALENDAR
VERSION:2.0
PRODID:-//134.96.226.213//NONSGML kigkonsult.se iCalcreator 2.41.92//
CALSCALE:GREGORIAN
METHOD:PUBLISH
UID:32303836-3134-4865-b534-343435306138
X-WR-CALNAME:Elements of Data Science and Artificial Intelligence Calendar
X-WR-CALDESC:Events of the lecture Elements of Data Science and Artificial 
 Intelligence
X-WR-TIMEZONE:Europe/Berlin
BEGIN:VEVENT
UID:35343162-3138-4633-b532-343636386364
DTSTAMP:20260423T164701Z
DESCRIPTION:
DTSTART:20221103T110000Z
DTEND:20221109T225900Z
SUMMARY:Edsai2223: Assignment 0: Vagrant
END:VEVENT
BEGIN:VEVENT
UID:64326631-6135-4536-a130-313066653632
DTSTAMP:20260423T164701Z
DESCRIPTION:
DTSTART:20221117T110000Z
DTEND:20221123T225900Z
SUMMARY:Edsai2223: Assignment 1: Python
END:VEVENT
BEGIN:VEVENT
UID:31653766-3633-4438-a665-373562646365
DTSTAMP:20260423T164701Z
DESCRIPTION:
DTSTART:20221124T110000Z
DTEND:20221130T225900Z
SUMMARY:Edsai2223: Assignment 2: Databases
END:VEVENT
BEGIN:VEVENT
UID:63306632-3233-4166-b039-636337656236
DTSTAMP:20260423T164701Z
DESCRIPTION:
DTSTART:20221201T110000Z
DTEND:20221207T225900Z
SUMMARY:Edsai2223: Assignment 3: Machine Learning
END:VEVENT
BEGIN:VEVENT
UID:38313462-3935-4631-a534-316230376265
DTSTAMP:20260423T164701Z
DESCRIPTION:
DTSTART:20221208T110000Z
DTEND:20221214T225900Z
SUMMARY:Edsai2223: Assignment 4: Machine Learning
END:VEVENT
BEGIN:VEVENT
UID:34306434-3137-4361-a433-393866396538
DTSTAMP:20260423T164701Z
DESCRIPTION:
DTSTART:20221215T110000Z
DTEND:20221221T225900Z
SUMMARY:Edsai2223: Assignment 5: Machine Learning + Alpha Go
END:VEVENT
BEGIN:VEVENT
UID:61373935-6539-4637-a264-623737303761
DTSTAMP:20260423T164701Z
DESCRIPTION:
DTSTART:20230109T110000Z
DTEND:20230115T225900Z
SUMMARY:Edsai2223: Assignment 6: Alpha Go
END:VEVENT
BEGIN:VEVENT
UID:61363163-3131-4639-b564-663066373062
DTSTAMP:20260423T164701Z
DESCRIPTION:
DTSTART:20230116T110000Z
DTEND:20230122T225900Z
SUMMARY:Edsai2223: Assignment 7: Alpha Go + NLP
END:VEVENT
BEGIN:VEVENT
UID:64663731-3962-4866-b932-633730663531
DTSTAMP:20260423T164701Z
DESCRIPTION:
DTSTART:20230123T110000Z
DTEND:20230129T225900Z
SUMMARY:Edsai2223: Assignment 8: NLP
END:VEVENT
BEGIN:VEVENT
UID:65613837-3131-4464-b465-653734386435
DTSTAMP:20260423T164701Z
DESCRIPTION:
DTSTART:20230130T110000Z
DTEND:20230205T225900Z
SUMMARY:Edsai2223: Assignment 9: NLP
END:VEVENT
BEGIN:VEVENT
UID:65666233-3932-4166-a663-326435653532
DTSTAMP:20260423T164701Z
DESCRIPTION:
DTSTART:20230206T110000Z
DTEND:20230212T225900Z
SUMMARY:Edsai2223: Assignment 10: Self-Driving Cars
END:VEVENT
END:VCALENDAR
