BEGIN:VCALENDAR
VERSION:2.0
PRODID:-//134.96.226.213//NONSGML kigkonsult.se iCalcreator 2.41.92//
CALSCALE:GREGORIAN
METHOD:PUBLISH
UID:61303531-3237-4566-b832-323732303162
X-WR-CALNAME:Elements of Data Science and Artificial Intelligence Calendar
X-WR-CALDESC:Events of the lecture Elements of Data Science and Artificial 
 Intelligence
X-WR-TIMEZONE:Europe/Berlin
BEGIN:VEVENT
UID:66323839-3538-4464-a362-623261636331
DTSTAMP:20260423T164547Z
DESCRIPTION:
DTSTART:20221103T110000Z
DTEND:20221109T225900Z
SUMMARY:Assignment 0: Vagrant
END:VEVENT
BEGIN:VEVENT
UID:61363961-3236-4763-a335-616634653231
DTSTAMP:20260423T164547Z
DESCRIPTION:
DTSTART:20221117T110000Z
DTEND:20221123T225900Z
SUMMARY:Assignment 1: Python
END:VEVENT
BEGIN:VEVENT
UID:32623063-6363-4033-b938-343236646532
DTSTAMP:20260423T164547Z
DESCRIPTION:
DTSTART:20221124T110000Z
DTEND:20221130T225900Z
SUMMARY:Assignment 2: Databases
END:VEVENT
BEGIN:VEVENT
UID:62646564-3131-4536-b431-666132333734
DTSTAMP:20260423T164547Z
DESCRIPTION:
DTSTART:20221201T110000Z
DTEND:20221207T225900Z
SUMMARY:Assignment 3: Machine Learning
END:VEVENT
BEGIN:VEVENT
UID:34326263-3630-4434-a138-313438613334
DTSTAMP:20260423T164547Z
DESCRIPTION:
DTSTART:20221208T110000Z
DTEND:20221214T225900Z
SUMMARY:Assignment 4: Machine Learning
END:VEVENT
BEGIN:VEVENT
UID:32653033-3033-4964-a466-613036306331
DTSTAMP:20260423T164547Z
DESCRIPTION:
DTSTART:20221215T110000Z
DTEND:20221221T225900Z
SUMMARY:Assignment 5: Machine Learning + Alpha Go
END:VEVENT
BEGIN:VEVENT
UID:38306635-3662-4339-b734-306164343936
DTSTAMP:20260423T164547Z
DESCRIPTION:
DTSTART:20230109T110000Z
DTEND:20230115T225900Z
SUMMARY:Assignment 6: Alpha Go
END:VEVENT
BEGIN:VEVENT
UID:62356263-3865-4332-a365-353033383066
DTSTAMP:20260423T164547Z
DESCRIPTION:
DTSTART:20230116T110000Z
DTEND:20230122T225900Z
SUMMARY:Assignment 7: Alpha Go + NLP
END:VEVENT
BEGIN:VEVENT
UID:62623435-3231-4964-a263-306538633037
DTSTAMP:20260423T164547Z
DESCRIPTION:
DTSTART:20230123T110000Z
DTEND:20230129T225900Z
SUMMARY:Assignment 8: NLP
END:VEVENT
BEGIN:VEVENT
UID:65363461-3236-4936-b462-656138343364
DTSTAMP:20260423T164547Z
DESCRIPTION:
DTSTART:20230130T110000Z
DTEND:20230205T225900Z
SUMMARY:Assignment 9: NLP
END:VEVENT
BEGIN:VEVENT
UID:61326464-3431-4061-b864-633537393838
DTSTAMP:20260423T164547Z
DESCRIPTION:
DTSTART:20230206T110000Z
DTEND:20230212T225900Z
SUMMARY:Assignment 10: Self-Driving Cars
END:VEVENT
END:VCALENDAR
