BEGIN:VCALENDAR
VERSION:2.0
PRODID:-//134.96.226.213//NONSGML kigkonsult.se iCalcreator 2.41.92//
CALSCALE:GREGORIAN
METHOD:PUBLISH
UID:37646432-3738-4039-b432-373131366535
X-WR-CALNAME:Elements of Data Science and Artificial Intelligence Calendar
X-WR-CALDESC:Events of the lecture Elements of Data Science and Artificial 
 Intelligence
X-WR-TIMEZONE:Europe/Berlin
BEGIN:VEVENT
UID:62393866-6239-4130-b130-313231333532
DTSTAMP:20260423T164706Z
DESCRIPTION:
DTSTART:20221103T100000Z
DTEND:20221103T225900Z
SUMMARY:Edsai2223: CMS registration deadline
END:VEVENT
BEGIN:VEVENT
UID:64653439-3837-4665-b062-643232383466
DTSTAMP:20260423T164706Z
DESCRIPTION:
DTSTART:20221105T225900Z
DTEND:20221105T225900Z
SUMMARY:Edsai2223: Tutorial preference deadline
END:VEVENT
BEGIN:VEVENT
UID:35636531-6632-4839-b137-643438623939
DTSTAMP:20260423T164706Z
DESCRIPTION:
DTSTART:20221114T225900Z
DTEND:20221114T225900Z
SUMMARY:Edsai2223: Team grouping deadline
END:VEVENT
END:VCALENDAR
