BEGIN:VCALENDAR
VERSION:2.0
PRODID:-//134.96.226.213//NONSGML kigkonsult.se iCalcreator 2.41.92//
CALSCALE:GREGORIAN
METHOD:PUBLISH
UID:33393736-6564-4033-b933-326361323938
X-WR-CALNAME:Elements of Data Science and Artificial Intelligence Calendar
X-WR-CALDESC:Events of the lecture Elements of Data Science and Artificial 
 Intelligence
X-WR-TIMEZONE:Europe/Berlin
BEGIN:VEVENT
UID:34383733-3130-4232-a264-343364316663
DTSTAMP:20260423T164258Z
DESCRIPTION:
DTSTART:20230223T090000Z
DTEND:20230223T120000Z
LOCATION:Günter-Hotz-Hörsaal
SUMMARY:Exam
END:VEVENT
BEGIN:VEVENT
UID:65623161-6563-4533-b165-313830383931
DTSTAMP:20260423T164258Z
DESCRIPTION:
DTSTART:20230323T130000Z
DTEND:20230323T150000Z
LOCATION:Günter-Hotz-Hörsaal
SUMMARY:Re-exam
END:VEVENT
END:VCALENDAR
