BEGIN:VCALENDAR
VERSION:2.0
PRODID:-//134.96.226.213//NONSGML kigkonsult.se iCalcreator 2.41.92//
CALSCALE:GREGORIAN
METHOD:PUBLISH
UID:63613562-3230-4565-b562-363164303834
X-WR-CALNAME:Elements of Data Science and Artificial Intelligence Calendar
X-WR-CALDESC:Events of the lecture Elements of Data Science and Artificial 
 Intelligence
X-WR-TIMEZONE:Europe/Berlin
BEGIN:VEVENT
UID:37306363-3162-4865-b463-373531323834
DTSTAMP:20260423T164140Z
DESCRIPTION:
DTSTART:20221108T130000Z
DTEND:20221108T140000Z
LOCATION:E1.3 SR016
SUMMARY:Edsai2223: Office hour
END:VEVENT
BEGIN:VEVENT
UID:31666363-6263-4061-b863-326334366339
DTSTAMP:20260423T164140Z
DESCRIPTION:
DTSTART:20221110T130000Z
DTEND:20221110T140000Z
LOCATION:E1.3 SR015
SUMMARY:Edsai2223: Office hour
END:VEVENT
BEGIN:VEVENT
UID:63623563-3063-4235-b835-666438316139
DTSTAMP:20260423T164140Z
DESCRIPTION:
DTSTART:20221115T130000Z
DTEND:20221115T140000Z
LOCATION:E1.3 SR016
SUMMARY:Edsai2223: Office hour
END:VEVENT
BEGIN:VEVENT
UID:33376266-6236-4436-b161-653966306264
DTSTAMP:20260423T164140Z
DESCRIPTION:
DTSTART:20221117T130000Z
DTEND:20221117T140000Z
LOCATION:E1.3 SR015
SUMMARY:Edsai2223: Office hour
END:VEVENT
BEGIN:VEVENT
UID:38656433-6262-4436-a163-383039666166
DTSTAMP:20260423T164140Z
DESCRIPTION:
DTSTART:20221122T130000Z
DTEND:20221122T140000Z
LOCATION:E1.3 SR016
SUMMARY:Edsai2223: Office hour
END:VEVENT
BEGIN:VEVENT
UID:64623333-3431-4434-b763-343738303638
DTSTAMP:20260423T164140Z
DESCRIPTION:
DTSTART:20221124T130000Z
DTEND:20221124T140000Z
LOCATION:E1.3 SR015
SUMMARY:Edsai2223: Office hour
END:VEVENT
BEGIN:VEVENT
UID:61643666-3464-4335-b736-613762643265
DTSTAMP:20260423T164140Z
DESCRIPTION:
DTSTART:20221129T130000Z
DTEND:20221129T140000Z
LOCATION:E1.3 SR016
SUMMARY:Edsai2223: Office hour
END:VEVENT
BEGIN:VEVENT
UID:62633862-6666-4666-a332-306266656138
DTSTAMP:20260423T164140Z
DESCRIPTION:
DTSTART:20221201T130000Z
DTEND:20221201T140000Z
LOCATION:E1.3 SR015
SUMMARY:Edsai2223: Office hour
END:VEVENT
BEGIN:VEVENT
UID:30653532-3532-4132-a162-383839613330
DTSTAMP:20260423T164140Z
DESCRIPTION:
DTSTART:20221206T130000Z
DTEND:20221206T140000Z
LOCATION:E1.3 SR016
SUMMARY:Edsai2223: Office hour
END:VEVENT
BEGIN:VEVENT
UID:63653830-6463-4938-b131-383532613032
DTSTAMP:20260423T164140Z
DESCRIPTION:
DTSTART:20221208T130000Z
DTEND:20221208T140000Z
LOCATION:E1.3 SR015
SUMMARY:Edsai2223: Office hour
END:VEVENT
BEGIN:VEVENT
UID:62633439-3434-4039-b537-636666386234
DTSTAMP:20260423T164140Z
DESCRIPTION:
DTSTART:20221213T130000Z
DTEND:20221213T140000Z
LOCATION:E1.3 SR016
SUMMARY:Edsai2223: Office hour
END:VEVENT
BEGIN:VEVENT
UID:32383637-6562-4164-b535-643966386463
DTSTAMP:20260423T164140Z
DESCRIPTION:
DTSTART:20221215T130000Z
DTEND:20221215T140000Z
LOCATION:E1.3 SR015
SUMMARY:Edsai2223: Office hour
END:VEVENT
BEGIN:VEVENT
UID:38383362-6366-4266-a232-396363393531
DTSTAMP:20260423T164140Z
DESCRIPTION:Zoom-Meeting beitreten\nhttps://zoom.us/j/9958144657?pwd=RFJzQU
 tUeGdaanZDcUxyMzhwSWg3Zz09\n\nMeeting-ID: 995 814 4657\nKenncode: 252835\n
 Schnelleinwahl mobil\n00496971049922\,\,9958144657#\,\,\,\,\,\,0#\,\,25283
 5# Deutschland\n00493056795800\,\,9958144657#\,\,\,\,\,\,0#\,\,252835# Deu
 tschland\n\nEinwahl nach aktuellem Standort\n0049 69 7104 9922 Deutschland
 \n0049 30 5679 5800 Deutschland\n0049 69 3807 9883 Deutschland\n0049 695 0
 50 2596 Deutschland\nMeeting-ID: 995 814 4657\nKenncode: 252835\nOrtseinwa
 hl suchen: https://zoom.us/u/ab6L254epg
DTSTART:20221220T130000Z
DTEND:20221220T140000Z
LOCATION:Zoom https://zoom.us/j/9958144657?pwd=RFJzQUtUeGdaanZDcUxyMzhwSWg3
 Zz09
SUMMARY:Edsai2223: [Online] Office hour
END:VEVENT
BEGIN:VEVENT
UID:36343666-3765-4935-b939-613866626534
DTSTAMP:20260423T164140Z
DESCRIPTION:
DTSTART:20230110T130000Z
DTEND:20230110T140000Z
LOCATION:E1.3 SR016
SUMMARY:Edsai2223: Office hour
END:VEVENT
BEGIN:VEVENT
UID:35356538-3632-4132-b863-383532653739
DTSTAMP:20260423T164140Z
DESCRIPTION:
DTSTART:20230112T130000Z
DTEND:20230112T140000Z
LOCATION:E1.3 SR015
SUMMARY:Edsai2223: Office hour
END:VEVENT
BEGIN:VEVENT
UID:30626334-3564-4230-a366-303233626264
DTSTAMP:20260423T164140Z
DESCRIPTION:
DTSTART:20230117T130000Z
DTEND:20230117T140000Z
LOCATION:E1.3 SR016
SUMMARY:Edsai2223: Office hour
END:VEVENT
BEGIN:VEVENT
UID:64383462-3933-4862-b736-666638323835
DTSTAMP:20260423T164140Z
DESCRIPTION:
DTSTART:20230119T130000Z
DTEND:20230119T140000Z
LOCATION:E1.3 SR015
SUMMARY:Edsai2223: Office hour
END:VEVENT
BEGIN:VEVENT
UID:64373830-3738-4566-b832-353732653363
DTSTAMP:20260423T164140Z
DESCRIPTION:
DTSTART:20230126T130000Z
DTEND:20230126T140000Z
LOCATION:E1.3 SR015
SUMMARY:Edsai2223: Office hour
END:VEVENT
BEGIN:VEVENT
UID:34623438-6464-4637-b031-333237623635
DTSTAMP:20260423T164140Z
DESCRIPTION:
DTSTART:20230202T130000Z
DTEND:20230202T140000Z
LOCATION:E1.3 SR015
SUMMARY:Edsai2223: Office hour
END:VEVENT
BEGIN:VEVENT
UID:61373063-3661-4262-a361-316364623133
DTSTAMP:20260423T164140Z
DESCRIPTION:
DTSTART:20230209T130000Z
DTEND:20230209T140000Z
LOCATION:E1.3 SR015
SUMMARY:Edsai2223: Office hour
END:VEVENT
BEGIN:VEVENT
UID:66303838-3438-4438-b038-393935343535
DTSTAMP:20260423T164140Z
DESCRIPTION:
DTSTART:20230216T130000Z
DTEND:20230216T140000Z
LOCATION:E1.3 SR015
SUMMARY:Edsai2223: Office Hour
END:VEVENT
BEGIN:VEVENT
UID:66303766-3934-4634-a135-323732323734
DTSTAMP:20260423T164140Z
DESCRIPTION:
DTSTART:20230303T090000Z
DTEND:20230303T110000Z
LOCATION:E1.1 SR3.06
SUMMARY:Edsai2223: Exam inspection
END:VEVENT
END:VCALENDAR
