BEGIN:VCALENDAR
VERSION:2.0
PRODID:-//134.96.226.213//NONSGML kigkonsult.se iCalcreator 2.41.92//
CALSCALE:GREGORIAN
METHOD:PUBLISH
UID:62613530-3861-4139-a438-363562353033
X-WR-CALNAME:Elements of Data Science and Artificial Intelligence Calendar
X-WR-CALDESC:Events of the lecture Elements of Data Science and Artificial 
 Intelligence
X-WR-TIMEZONE:Europe/Berlin
BEGIN:VEVENT
UID:30373730-6166-4664-a665-623231303435
DTSTAMP:20260423T164716Z
DESCRIPTION:
DTSTART:20221027T101500Z
DTEND:20221027T120000Z
LOCATION:HS002
SUMMARY:Edsai2223: General Introduction (Prof. Jens Dittrich)
END:VEVENT
BEGIN:VEVENT
UID:34616365-3032-4136-b263-646432623133
DTSTAMP:20260423T164716Z
DESCRIPTION:
DTSTART:20221031T091500Z
DTEND:20221031T110000Z
LOCATION:HS002
SUMMARY:Edsai2223: Introduction to Data Science (Prof. Jens Dittrich)
END:VEVENT
BEGIN:VEVENT
UID:31376466-3835-4133-b733-313230353636
DTSTAMP:20260423T164716Z
DESCRIPTION:
DTSTART:20221103T111500Z
DTEND:20221103T130000Z
LOCATION:HS002
SUMMARY:Edsai2223: Introduction to Artificial Intelligence (Prof. Jörg Hoff
 mann)
END:VEVENT
BEGIN:VEVENT
UID:66663633-6439-4734-b031-646437616261
DTSTAMP:20260423T164716Z
DESCRIPTION:
DTSTART:20221107T091500Z
DTEND:20221107T110000Z
LOCATION:HS002
SUMMARY:Edsai2223: Guest lecture: Using Data Science to Study Society (Prof
 . Ingmar Weber)
END:VEVENT
BEGIN:VEVENT
UID:39643165-3038-4133-b630-646162653064
DTSTAMP:20260423T164716Z
DESCRIPTION:
DTSTART:20221110T111500Z
DTEND:20221110T130000Z
LOCATION:HS002
SUMMARY:Edsai2223: Python 1 (Joris Nix)
END:VEVENT
BEGIN:VEVENT
UID:38386262-3436-4434-a536-636464373236
DTSTAMP:20260423T164716Z
DESCRIPTION:
DTSTART:20221114T091500Z
DTEND:20221114T110000Z
LOCATION:HS002
SUMMARY:Edsai2223: Python 2 (Joris Nix)
END:VEVENT
BEGIN:VEVENT
UID:31323166-3935-4166-a363-303466333738
DTSTAMP:20260423T164716Z
DESCRIPTION:
DTSTART:20221117T111500Z
DTEND:20221117T130000Z
LOCATION:HS002
SUMMARY:Edsai2223: Data Handling and Cleaning in Python (Prof. Jens Dittric
 h)
END:VEVENT
BEGIN:VEVENT
UID:62313534-3334-4461-b462-616339346239
DTSTAMP:20260423T164716Z
DESCRIPTION:
DTSTART:20221121T091500Z
DTEND:20221121T110000Z
LOCATION:HS002
SUMMARY:Edsai2223: Big Data & Databases 1 (Prof. Jens Dittrich)
END:VEVENT
BEGIN:VEVENT
UID:38336366-6463-4334-b765-353861666333
DTSTAMP:20260423T164716Z
DESCRIPTION:
DTSTART:20221124T111500Z
DTEND:20221124T130000Z
LOCATION:HS002
SUMMARY:Edsai2223: Big Data & Databases 2 (Prof. Jens Dittrich)
END:VEVENT
BEGIN:VEVENT
UID:61646431-3533-4264-b263-323338313330
DTSTAMP:20260423T164716Z
DESCRIPTION:
DTSTART:20221128T091500Z
DTEND:20221128T110000Z
LOCATION:HS002
SUMMARY:Edsai2223: Machine Learning Intro (overview) (Prof. Bernt Schiele)
END:VEVENT
BEGIN:VEVENT
UID:36616534-3534-4038-a639-353331356235
DTSTAMP:20260423T164716Z
DESCRIPTION:
DTSTART:20221201T111500Z
DTEND:20221201T130000Z
LOCATION:HS002
SUMMARY:Edsai2223: Machine Learning Basics (non-ANN) (Prof. Bernt Schiele)
END:VEVENT
BEGIN:VEVENT
UID:62366563-3161-4663-a534-623765636661
DTSTAMP:20260423T164716Z
DESCRIPTION:
DTSTART:20221205T091500Z
DTEND:20221205T110000Z
LOCATION:HS002
SUMMARY:Edsai2223: Machine Learning ANNs (Prof. Bernt Schiele)
END:VEVENT
BEGIN:VEVENT
UID:66333735-3564-4337-b535-646635366264
DTSTAMP:20260423T164716Z
DESCRIPTION:
DTSTART:20221208T111500Z
DTEND:20221208T130000Z
LOCATION:HS002
SUMMARY:Edsai2223: Machine Learning Basics in Python (Joris Nix)
END:VEVENT
BEGIN:VEVENT
UID:38313363-6131-4537-b661-313637613235
DTSTAMP:20260423T164716Z
DESCRIPTION:
DTSTART:20221212T091500Z
DTEND:20221212T110000Z
LOCATION:HS002
SUMMARY:Edsai2223: Machine Learning Backpropagation  (Prof. Bernt Schiele)
END:VEVENT
BEGIN:VEVENT
UID:66366138-6532-4039-b638-326134393537
DTSTAMP:20260423T164716Z
DESCRIPTION:
DTSTART:20221215T111500Z
DTEND:20221215T130000Z
LOCATION:HS002
SUMMARY:Edsai2223: Alpha Go (search basics) (Thorsten Klößner)
END:VEVENT
BEGIN:VEVENT
UID:39346137-3161-4366-b334-653439626431
DTSTAMP:20260423T164716Z
DESCRIPTION:
DTSTART:20221219T091500Z
DTEND:20221219T110000Z
LOCATION:Zoom https://cs-uni-saarland-de.zoom.us/j/9425369212
SUMMARY:Edsai2223: [Online] Alpha Go (heuristic search\, MCTS\, RL intro.) 
 (Thorsten Klößner)
END:VEVENT
BEGIN:VEVENT
UID:62663765-6364-4565-b235-366536366139
DTSTAMP:20260423T164716Z
DESCRIPTION:
DTSTART:20230105T111500Z
DTEND:20230105T130000Z
LOCATION:Zoom https://cs-uni-saarland-de.zoom.us/j/9425369212
SUMMARY:Edsai2223: [Online] Alpha Go (MDPs\, value iteration\, Q-learning) 
 (Thorsten Klößner)
END:VEVENT
BEGIN:VEVENT
UID:36323361-6539-4835-a365-343761623137
DTSTAMP:20260423T164716Z
DESCRIPTION:
DTSTART:20230109T091500Z
DTEND:20230109T110000Z
LOCATION:HS002
SUMMARY:Edsai2223: Alpha Go (deep Q-learning\, game search) (Thorsten Klößn
 er)
END:VEVENT
BEGIN:VEVENT
UID:36303364-3932-4639-b838-376434623962
DTSTAMP:20260423T164716Z
DESCRIPTION:
DTSTART:20230112T111500Z
DTEND:20230112T131500Z
LOCATION:HS002
SUMMARY:Edsai2223: Alpha Go (evaluation functions\, AlphaGo) (Thorsten Klöß
 ner)
END:VEVENT
BEGIN:VEVENT
UID:37646135-3331-4231-b637-376633363332
DTSTAMP:20260423T164716Z
DESCRIPTION:
DTSTART:20230116T091500Z
DTEND:20230116T110000Z
LOCATION:HS002
SUMMARY:Edsai2223: NLP 1: Dialog System\, Speech Recognition\, Language Mod
 el  (Dr. Sebastian Schuster)
END:VEVENT
BEGIN:VEVENT
UID:62376431-3430-4234-b863-663462353630
DTSTAMP:20260423T164716Z
DESCRIPTION:
DTSTART:20230119T111500Z
DTEND:20230119T130000Z
LOCATION:HS002
SUMMARY:Edsai2223: NLP 2: Syntax and Context Free Grammar (Dr. Sebastian Sc
 huster)
END:VEVENT
BEGIN:VEVENT
UID:36373766-6634-4433-b263-336463346364
DTSTAMP:20260423T164716Z
DESCRIPTION:
DTSTART:20230123T091500Z
DTEND:20230123T110000Z
LOCATION:HS002
SUMMARY:Edsai2223: NLP 3: Neural Language Model (Dr. Sebastian Schuster)
END:VEVENT
BEGIN:VEVENT
UID:39323239-3765-4336-b733-656432383734
DTSTAMP:20260423T164716Z
DESCRIPTION:
DTSTART:20230126T111500Z
DTEND:20230126T130000Z
LOCATION:HS002
SUMMARY:Edsai2223: NLP 4: Semantics (Dr. Sebastian Schuster)
END:VEVENT
BEGIN:VEVENT
UID:64356233-3331-4561-a363-386532386430
DTSTAMP:20260423T164716Z
DESCRIPTION:
DTSTART:20230130T091500Z
DTEND:20230130T110000Z
LOCATION:HS002
SUMMARY:Edsai2223: NLP 5: Machine Translation (Dr. Sebastian Schuster)
END:VEVENT
BEGIN:VEVENT
UID:30306433-3339-4662-b464-636139363035
DTSTAMP:20260423T164716Z
DESCRIPTION:
DTSTART:20230202T111500Z
DTEND:20230202T111500Z
LOCATION:HS002
SUMMARY:Edsai2223: Self-Driving Cars (Prof. Bernt Schiele)
END:VEVENT
BEGIN:VEVENT
UID:35613832-3066-4937-b064-353532313134
DTSTAMP:20260423T164716Z
DESCRIPTION:
DTSTART:20230206T091500Z
DTEND:20230206T110000Z
LOCATION:HS002
SUMMARY:Edsai2223: Self-Driving Cars (Prof. Bernt Schiele)
END:VEVENT
BEGIN:VEVENT
UID:36643830-3466-4630-b466-663739623662
DTSTAMP:20260423T164716Z
DESCRIPTION:
DTSTART:20230209T111500Z
DTEND:20230209T130000Z
LOCATION:HS002
SUMMARY:Edsai2223: Self-Driving Cars (Prof. Bernt Schiele)
END:VEVENT
BEGIN:VEVENT
UID:36623664-3561-4865-a563-306634613338
DTSTAMP:20260423T164716Z
DESCRIPTION:
DTSTART:20230214T090000Z
DTEND:20230214T103000Z
LOCATION:E1.1 SR3.06
SUMMARY:Edsai2223: Tutorial Leonard
END:VEVENT
BEGIN:VEVENT
UID:30636463-6132-4762-a438-376531303562
DTSTAMP:20260423T164716Z
DESCRIPTION:
DTSTART:20230217T133000Z
DTEND:20230217T150000Z
LOCATION:E1.3 SR016
SUMMARY:Edsai2223: Tutorial Michel
END:VEVENT
END:VCALENDAR
