BEGIN:VCALENDAR
VERSION:2.0
PRODID:-//134.96.226.213//NONSGML kigkonsult.se iCalcreator 2.41.92//
CALSCALE:GREGORIAN
METHOD:PUBLISH
UID:34653764-3431-4531-a265-316364393961
X-WR-CALNAME:Elements of Data Science and Artificial Intelligence Calendar
X-WR-CALDESC:Events of the lecture Elements of Data Science and Artificial 
 Intelligence
X-WR-TIMEZONE:Europe/Berlin
BEGIN:VEVENT
UID:31613333-3962-4537-a233-373462343638
DTSTAMP:20260423T164541Z
DESCRIPTION:
DTSTART:20221027T101500Z
DTEND:20221027T120000Z
LOCATION:HS002
SUMMARY:General Introduction (Prof. Jens Dittrich)
END:VEVENT
BEGIN:VEVENT
UID:33633932-3032-4430-b762-366339353038
DTSTAMP:20260423T164541Z
DESCRIPTION:
DTSTART:20221031T091500Z
DTEND:20221031T110000Z
LOCATION:HS002
SUMMARY:Introduction to Data Science (Prof. Jens Dittrich)
END:VEVENT
BEGIN:VEVENT
UID:31376435-3766-4532-b261-643666383334
DTSTAMP:20260423T164541Z
DESCRIPTION:
DTSTART:20221103T111500Z
DTEND:20221103T130000Z
LOCATION:HS002
SUMMARY:Introduction to Artificial Intelligence (Prof. Jörg Hoffmann)
END:VEVENT
BEGIN:VEVENT
UID:64636362-6163-4239-b235-643264643461
DTSTAMP:20260423T164541Z
DESCRIPTION:
DTSTART:20221107T091500Z
DTEND:20221107T110000Z
LOCATION:HS002
SUMMARY:Guest lecture: Using Data Science to Study Society (Prof. Ingmar We
 ber)
END:VEVENT
BEGIN:VEVENT
UID:63376531-3137-4135-a339-363837383261
DTSTAMP:20260423T164541Z
DESCRIPTION:
DTSTART:20221110T111500Z
DTEND:20221110T130000Z
LOCATION:HS002
SUMMARY:Python 1 (Joris Nix)
END:VEVENT
BEGIN:VEVENT
UID:32666462-6633-4565-b033-393638386634
DTSTAMP:20260423T164541Z
DESCRIPTION:
DTSTART:20221114T091500Z
DTEND:20221114T110000Z
LOCATION:HS002
SUMMARY:Python 2 (Joris Nix)
END:VEVENT
BEGIN:VEVENT
UID:61303535-3836-4663-b966-343166383131
DTSTAMP:20260423T164541Z
DESCRIPTION:
DTSTART:20221117T111500Z
DTEND:20221117T130000Z
LOCATION:HS002
SUMMARY:Data Handling and Cleaning in Python (Prof. Jens Dittrich)
END:VEVENT
BEGIN:VEVENT
UID:61613137-3266-4737-b961-366138636533
DTSTAMP:20260423T164541Z
DESCRIPTION:
DTSTART:20221121T091500Z
DTEND:20221121T110000Z
LOCATION:HS002
SUMMARY:Big Data & Databases 1 (Prof. Jens Dittrich)
END:VEVENT
BEGIN:VEVENT
UID:64656163-6633-4532-a362-393935323766
DTSTAMP:20260423T164541Z
DESCRIPTION:
DTSTART:20221124T111500Z
DTEND:20221124T130000Z
LOCATION:HS002
SUMMARY:Big Data & Databases 2 (Prof. Jens Dittrich)
END:VEVENT
BEGIN:VEVENT
UID:64386433-3066-4433-a565-623337376337
DTSTAMP:20260423T164541Z
DESCRIPTION:
DTSTART:20221128T091500Z
DTEND:20221128T110000Z
LOCATION:HS002
SUMMARY:Machine Learning Intro (overview) (Prof. Bernt Schiele)
END:VEVENT
BEGIN:VEVENT
UID:39343263-3232-4361-a366-623066383032
DTSTAMP:20260423T164541Z
DESCRIPTION:
DTSTART:20221201T111500Z
DTEND:20221201T130000Z
LOCATION:HS002
SUMMARY:Machine Learning Basics (non-ANN) (Prof. Bernt Schiele)
END:VEVENT
BEGIN:VEVENT
UID:61373435-3337-4131-a437-363862373736
DTSTAMP:20260423T164541Z
DESCRIPTION:
DTSTART:20221205T091500Z
DTEND:20221205T110000Z
LOCATION:HS002
SUMMARY:Machine Learning ANNs (Prof. Bernt Schiele)
END:VEVENT
BEGIN:VEVENT
UID:38633062-6439-4732-b163-326631316637
DTSTAMP:20260423T164541Z
DESCRIPTION:
DTSTART:20221208T111500Z
DTEND:20221208T130000Z
LOCATION:HS002
SUMMARY:Machine Learning Basics in Python (Joris Nix)
END:VEVENT
BEGIN:VEVENT
UID:32373862-6135-4539-b735-333237633365
DTSTAMP:20260423T164541Z
DESCRIPTION:
DTSTART:20221212T091500Z
DTEND:20221212T110000Z
LOCATION:HS002
SUMMARY:Machine Learning Backpropagation  (Prof. Bernt Schiele)
END:VEVENT
BEGIN:VEVENT
UID:35613630-3564-4562-a232-396465393766
DTSTAMP:20260423T164541Z
DESCRIPTION:
DTSTART:20221215T111500Z
DTEND:20221215T130000Z
LOCATION:HS002
SUMMARY:Alpha Go (search basics) (Thorsten Klößner)
END:VEVENT
BEGIN:VEVENT
UID:33366261-3539-4333-a265-383035386336
DTSTAMP:20260423T164541Z
DESCRIPTION:
DTSTART:20221219T091500Z
DTEND:20221219T110000Z
LOCATION:Zoom https://cs-uni-saarland-de.zoom.us/j/9425369212
SUMMARY:[Online] Alpha Go (heuristic search\, MCTS\, RL intro.) (Thorsten K
 lößner)
END:VEVENT
BEGIN:VEVENT
UID:38323463-3234-4834-a166-326164343938
DTSTAMP:20260423T164541Z
DESCRIPTION:
DTSTART:20230105T111500Z
DTEND:20230105T130000Z
LOCATION:Zoom https://cs-uni-saarland-de.zoom.us/j/9425369212
SUMMARY:[Online] Alpha Go (MDPs\, value iteration\, Q-learning) (Thorsten K
 lößner)
END:VEVENT
BEGIN:VEVENT
UID:61363737-6233-4063-b762-633737633464
DTSTAMP:20260423T164541Z
DESCRIPTION:
DTSTART:20230109T091500Z
DTEND:20230109T110000Z
LOCATION:HS002
SUMMARY:Alpha Go (deep Q-learning\, game search) (Thorsten Klößner)
END:VEVENT
BEGIN:VEVENT
UID:64663863-3062-4435-b063-633063336137
DTSTAMP:20260423T164541Z
DESCRIPTION:
DTSTART:20230112T111500Z
DTEND:20230112T131500Z
LOCATION:HS002
SUMMARY:Alpha Go (evaluation functions\, AlphaGo) (Thorsten Klößner)
END:VEVENT
BEGIN:VEVENT
UID:39623931-3138-4166-b564-656636653639
DTSTAMP:20260423T164541Z
DESCRIPTION:
DTSTART:20230116T091500Z
DTEND:20230116T110000Z
LOCATION:HS002
SUMMARY:NLP 1: Dialog System\, Speech Recognition\, Language Model  (Dr. Se
 bastian Schuster)
END:VEVENT
BEGIN:VEVENT
UID:37626332-3935-4163-a466-343737333838
DTSTAMP:20260423T164541Z
DESCRIPTION:
DTSTART:20230119T111500Z
DTEND:20230119T130000Z
LOCATION:HS002
SUMMARY:NLP 2: Syntax and Context Free Grammar (Dr. Sebastian Schuster)
END:VEVENT
BEGIN:VEVENT
UID:39666337-3931-4661-a634-303231303561
DTSTAMP:20260423T164541Z
DESCRIPTION:
DTSTART:20230123T091500Z
DTEND:20230123T110000Z
LOCATION:HS002
SUMMARY:NLP 3: Neural Language Model (Dr. Sebastian Schuster)
END:VEVENT
BEGIN:VEVENT
UID:62306564-3361-4664-b265-306439373665
DTSTAMP:20260423T164541Z
DESCRIPTION:
DTSTART:20230126T111500Z
DTEND:20230126T130000Z
LOCATION:HS002
SUMMARY:NLP 4: Semantics (Dr. Sebastian Schuster)
END:VEVENT
BEGIN:VEVENT
UID:37666233-3131-4232-b162-383662353761
DTSTAMP:20260423T164541Z
DESCRIPTION:
DTSTART:20230130T091500Z
DTEND:20230130T110000Z
LOCATION:HS002
SUMMARY:NLP 5: Machine Translation (Dr. Sebastian Schuster)
END:VEVENT
BEGIN:VEVENT
UID:35653566-6463-4333-b763-633434643962
DTSTAMP:20260423T164541Z
DESCRIPTION:
DTSTART:20230202T111500Z
DTEND:20230202T111500Z
LOCATION:HS002
SUMMARY:Self-Driving Cars (Prof. Bernt Schiele)
END:VEVENT
BEGIN:VEVENT
UID:66376439-3835-4066-b562-393662333566
DTSTAMP:20260423T164541Z
DESCRIPTION:
DTSTART:20230206T091500Z
DTEND:20230206T110000Z
LOCATION:HS002
SUMMARY:Self-Driving Cars (Prof. Bernt Schiele)
END:VEVENT
BEGIN:VEVENT
UID:38303038-3365-4362-a136-643534316262
DTSTAMP:20260423T164541Z
DESCRIPTION:
DTSTART:20230209T111500Z
DTEND:20230209T130000Z
LOCATION:HS002
SUMMARY:Self-Driving Cars (Prof. Bernt Schiele)
END:VEVENT
BEGIN:VEVENT
UID:62333138-6635-4435-a264-633966306239
DTSTAMP:20260423T164541Z
DESCRIPTION:
DTSTART:20230214T090000Z
DTEND:20230214T103000Z
LOCATION:E1.1 SR3.06
SUMMARY:Tutorial Leonard
END:VEVENT
BEGIN:VEVENT
UID:31343331-3639-4138-b862-326363653937
DTSTAMP:20260423T164541Z
DESCRIPTION:
DTSTART:20230217T133000Z
DTEND:20230217T150000Z
LOCATION:E1.3 SR016
SUMMARY:Tutorial Michel
END:VEVENT
END:VCALENDAR
