BEGIN:VCALENDAR
VERSION:2.0
PRODID:-//134.96.226.213//NONSGML kigkonsult.se iCalcreator 2.41.92//
CALSCALE:GREGORIAN
METHOD:PUBLISH
UID:39306639-3139-4266-b932-653639663637
X-WR-CALNAME:Elements of Data Science and Artificial Intelligence Calendar
X-WR-CALDESC:Events of the lecture Elements of Data Science and Artificial 
 Intelligence
X-WR-TIMEZONE:Europe/Berlin
BEGIN:VEVENT
UID:34376134-6261-4266-b839-653836633762
DTSTAMP:20260423T164016Z
DESCRIPTION:
DTSTART:20221027T101500Z
DTEND:20221027T120000Z
LOCATION:HS002
SUMMARY:General Introduction (Prof. Jens Dittrich)
END:VEVENT
BEGIN:VEVENT
UID:31353766-6566-4837-b335-323764373430
DTSTAMP:20260423T164016Z
DESCRIPTION:
DTSTART:20221031T091500Z
DTEND:20221031T110000Z
LOCATION:HS002
SUMMARY:Introduction to Data Science (Prof. Jens Dittrich)
END:VEVENT
BEGIN:VEVENT
UID:37343031-3537-4362-b435-376366653936
DTSTAMP:20260423T164016Z
DESCRIPTION:
DTSTART:20221103T100000Z
DTEND:20221103T225900Z
SUMMARY:CMS registration deadline
END:VEVENT
BEGIN:VEVENT
UID:34666466-3939-4137-a565-323466626161
DTSTAMP:20260423T164016Z
DESCRIPTION:
DTSTART:20221103T110000Z
DTEND:20221109T225900Z
SUMMARY:Assignment 0: Vagrant
END:VEVENT
BEGIN:VEVENT
UID:64666466-3663-4566-b832-303130623330
DTSTAMP:20260423T164016Z
DESCRIPTION:
DTSTART:20221103T111500Z
DTEND:20221103T130000Z
LOCATION:HS002
SUMMARY:Introduction to Artificial Intelligence (Prof. Jörg Hoffmann)
END:VEVENT
BEGIN:VEVENT
UID:36396134-3039-4233-b933-636264343162
DTSTAMP:20260423T164016Z
DESCRIPTION:
DTSTART:20221105T225900Z
DTEND:20221105T225900Z
SUMMARY:Tutorial preference deadline
END:VEVENT
BEGIN:VEVENT
UID:32633334-6163-4634-b234-316164353932
DTSTAMP:20260423T164016Z
DESCRIPTION:
DTSTART:20221107T091500Z
DTEND:20221107T110000Z
LOCATION:HS002
SUMMARY:Guest lecture: Using Data Science to Study Society (Prof. Ingmar We
 ber)
END:VEVENT
BEGIN:VEVENT
UID:61353635-6665-4639-b363-343634663539
DTSTAMP:20260423T164016Z
DESCRIPTION:
DTSTART:20221107T111500Z
DTEND:20221107T124500Z
LOCATION:E1.3 SR015
SUMMARY:Tutorial Lisa
END:VEVENT
BEGIN:VEVENT
UID:66653633-3961-4331-b732-353563383830
DTSTAMP:20260423T164016Z
DESCRIPTION:
DTSTART:20221108T090000Z
DTEND:20221108T103000Z
LOCATION:E1.1 SR3.06
SUMMARY:Tutorial Leonard
END:VEVENT
BEGIN:VEVENT
UID:39653236-6163-4338-a332-393465613038
DTSTAMP:20260423T164016Z
DESCRIPTION:
DTSTART:20221108T130000Z
DTEND:20221108T140000Z
LOCATION:E1.3 SR016
SUMMARY:Office hour
END:VEVENT
BEGIN:VEVENT
UID:38646161-6434-4462-a630-643537666338
DTSTAMP:20260423T164016Z
DESCRIPTION:
DTSTART:20221110T111500Z
DTEND:20221110T130000Z
LOCATION:HS002
SUMMARY:Python 1 (Joris Nix)
END:VEVENT
BEGIN:VEVENT
UID:30353766-3932-4961-a563-353031336463
DTSTAMP:20260423T164016Z
DESCRIPTION:
DTSTART:20221110T130000Z
DTEND:20221110T140000Z
LOCATION:E1.3 SR015
SUMMARY:Office hour
END:VEVENT
BEGIN:VEVENT
UID:62383334-3565-4536-a131-383164386432
DTSTAMP:20260423T164016Z
DESCRIPTION:
DTSTART:20221111T133000Z
DTEND:20221111T150000Z
LOCATION:E1.3 SR016
SUMMARY:Tutorial Michel
END:VEVENT
BEGIN:VEVENT
UID:38383761-6363-4031-b336-386463303861
DTSTAMP:20260423T164016Z
DESCRIPTION:
DTSTART:20221114T091500Z
DTEND:20221114T110000Z
LOCATION:HS002
SUMMARY:Python 2 (Joris Nix)
END:VEVENT
BEGIN:VEVENT
UID:35303637-3264-4733-b331-356566323266
DTSTAMP:20260423T164016Z
DESCRIPTION:
DTSTART:20221114T111500Z
DTEND:20221114T124500Z
LOCATION:E1.3 SR015
SUMMARY:Tutorial Lisa
END:VEVENT
BEGIN:VEVENT
UID:66393935-6133-4964-b432-623031656238
DTSTAMP:20260423T164016Z
DESCRIPTION:
DTSTART:20221114T225900Z
DTEND:20221114T225900Z
SUMMARY:Team grouping deadline
END:VEVENT
BEGIN:VEVENT
UID:65623634-6538-4861-b161-663262353865
DTSTAMP:20260423T164016Z
DESCRIPTION:
DTSTART:20221115T090000Z
DTEND:20221115T103000Z
LOCATION:E1.1 SR3.06
SUMMARY:Tutorial Leonard
END:VEVENT
BEGIN:VEVENT
UID:65323437-3030-4936-a131-353032623466
DTSTAMP:20260423T164016Z
DESCRIPTION:
DTSTART:20221115T130000Z
DTEND:20221115T140000Z
LOCATION:E1.3 SR016
SUMMARY:Office hour
END:VEVENT
BEGIN:VEVENT
UID:66323262-3735-4662-a131-613930363931
DTSTAMP:20260423T164016Z
DESCRIPTION:
DTSTART:20221116T091500Z
DTEND:20221116T104500Z
LOCATION:E1.3 HS002
SUMMARY:Tutorial Lena
END:VEVENT
BEGIN:VEVENT
UID:62623562-3939-4537-a364-653965623335
DTSTAMP:20260423T164016Z
DESCRIPTION:
DTSTART:20221117T110000Z
DTEND:20221123T225900Z
SUMMARY:Assignment 1: Python
END:VEVENT
BEGIN:VEVENT
UID:37303638-3362-4462-b232-356461376230
DTSTAMP:20260423T164016Z
DESCRIPTION:
DTSTART:20221117T111500Z
DTEND:20221117T130000Z
LOCATION:HS002
SUMMARY:Data Handling and Cleaning in Python (Prof. Jens Dittrich)
END:VEVENT
BEGIN:VEVENT
UID:64373839-3533-4936-a336-613132636231
DTSTAMP:20260423T164016Z
DESCRIPTION:
DTSTART:20221117T130000Z
DTEND:20221117T140000Z
LOCATION:E1.3 SR015
SUMMARY:Office hour
END:VEVENT
BEGIN:VEVENT
UID:36646531-6332-4364-b965-326531656137
DTSTAMP:20260423T164016Z
DESCRIPTION:
DTSTART:20221118T133000Z
DTEND:20221118T150000Z
LOCATION:E1.3 SR016
SUMMARY:Tutorial Michel
END:VEVENT
BEGIN:VEVENT
UID:30316134-6163-4133-a236-333436613263
DTSTAMP:20260423T164016Z
DESCRIPTION:
DTSTART:20221121T091500Z
DTEND:20221121T110000Z
LOCATION:HS002
SUMMARY:Big Data & Databases 1 (Prof. Jens Dittrich)
END:VEVENT
BEGIN:VEVENT
UID:36333265-3664-4435-a230-653534623935
DTSTAMP:20260423T164016Z
DESCRIPTION:
DTSTART:20221121T111500Z
DTEND:20221121T124500Z
LOCATION:E1.3 SR015
SUMMARY:Tutorial Lisa
END:VEVENT
BEGIN:VEVENT
UID:37646233-6131-4833-a262-653534316162
DTSTAMP:20260423T164016Z
DESCRIPTION:
DTSTART:20221122T090000Z
DTEND:20221122T103000Z
LOCATION:E1.1 SR3.06
SUMMARY:Tutorial Leonard
END:VEVENT
BEGIN:VEVENT
UID:61393938-3932-4232-b833-363737333236
DTSTAMP:20260423T164016Z
DESCRIPTION:
DTSTART:20221122T130000Z
DTEND:20221122T140000Z
LOCATION:E1.3 SR016
SUMMARY:Office hour
END:VEVENT
BEGIN:VEVENT
UID:34346234-3662-4432-a566-303535333932
DTSTAMP:20260423T164016Z
DESCRIPTION:
DTSTART:20221123T091500Z
DTEND:20221123T104500Z
LOCATION:E1.3 HS002
SUMMARY:Tutorial Lena
END:VEVENT
BEGIN:VEVENT
UID:34633139-6537-4265-b865-326235366331
DTSTAMP:20260423T164016Z
DESCRIPTION:
DTSTART:20221124T110000Z
DTEND:20221130T225900Z
SUMMARY:Assignment 2: Databases
END:VEVENT
BEGIN:VEVENT
UID:61303835-3934-4631-b739-353036353233
DTSTAMP:20260423T164016Z
DESCRIPTION:
DTSTART:20221124T111500Z
DTEND:20221124T130000Z
LOCATION:HS002
SUMMARY:Big Data & Databases 2 (Prof. Jens Dittrich)
END:VEVENT
BEGIN:VEVENT
UID:34663636-6564-4332-b166-383937346566
DTSTAMP:20260423T164016Z
DESCRIPTION:
DTSTART:20221124T130000Z
DTEND:20221124T140000Z
LOCATION:E1.3 SR015
SUMMARY:Office hour
END:VEVENT
BEGIN:VEVENT
UID:66626636-3364-4061-b134-666236343131
DTSTAMP:20260423T164016Z
DESCRIPTION:
DTSTART:20221125T133000Z
DTEND:20221125T150000Z
LOCATION:E1.3 SR016
SUMMARY:Tutorial Michel
END:VEVENT
BEGIN:VEVENT
UID:39356339-3238-4733-a163-386233633462
DTSTAMP:20260423T164016Z
DESCRIPTION:
DTSTART:20221128T091500Z
DTEND:20221128T110000Z
LOCATION:HS002
SUMMARY:Machine Learning Intro (overview) (Prof. Bernt Schiele)
END:VEVENT
BEGIN:VEVENT
UID:33626239-3332-4161-b061-383439396531
DTSTAMP:20260423T164016Z
DESCRIPTION:
DTSTART:20221128T111500Z
DTEND:20221128T124500Z
LOCATION:E1.3 SR015
SUMMARY:Tutorial Lisa
END:VEVENT
BEGIN:VEVENT
UID:32616562-3130-4763-b639-313730653164
DTSTAMP:20260423T164016Z
DESCRIPTION:
DTSTART:20221129T090000Z
DTEND:20221129T103000Z
LOCATION:E1.1 SR3.06
SUMMARY:Tutorial Leonard
END:VEVENT
BEGIN:VEVENT
UID:63666330-6130-4663-a537-623934383336
DTSTAMP:20260423T164016Z
DESCRIPTION:
DTSTART:20221129T130000Z
DTEND:20221129T140000Z
LOCATION:E1.3 SR016
SUMMARY:Office hour
END:VEVENT
BEGIN:VEVENT
UID:39646438-6132-4634-b235-373430653133
DTSTAMP:20260423T164016Z
DESCRIPTION:
DTSTART:20221130T091500Z
DTEND:20221130T104500Z
LOCATION:E1.3 HS002
SUMMARY:Tutorial Lena
END:VEVENT
BEGIN:VEVENT
UID:66316533-3339-4463-b039-363637396465
DTSTAMP:20260423T164016Z
DESCRIPTION:
DTSTART:20221201T110000Z
DTEND:20221207T225900Z
SUMMARY:Assignment 3: Machine Learning
END:VEVENT
BEGIN:VEVENT
UID:37323637-3234-4366-a331-623630383162
DTSTAMP:20260423T164016Z
DESCRIPTION:
DTSTART:20221201T111500Z
DTEND:20221201T130000Z
LOCATION:HS002
SUMMARY:Machine Learning Basics (non-ANN) (Prof. Bernt Schiele)
END:VEVENT
BEGIN:VEVENT
UID:32666563-3439-4362-b636-383930376263
DTSTAMP:20260423T164016Z
DESCRIPTION:
DTSTART:20221201T130000Z
DTEND:20221201T140000Z
LOCATION:E1.3 SR015
SUMMARY:Office hour
END:VEVENT
BEGIN:VEVENT
UID:39366339-6238-4361-a639-343863383333
DTSTAMP:20260423T164016Z
DESCRIPTION:
DTSTART:20221202T133000Z
DTEND:20221202T150000Z
LOCATION:E1.3 SR016
SUMMARY:Tutorial Michel
END:VEVENT
BEGIN:VEVENT
UID:61396361-3765-4233-a234-353762316535
DTSTAMP:20260423T164016Z
DESCRIPTION:
DTSTART:20221205T091500Z
DTEND:20221205T110000Z
LOCATION:HS002
SUMMARY:Machine Learning ANNs (Prof. Bernt Schiele)
END:VEVENT
BEGIN:VEVENT
UID:38386238-3961-4734-a338-613930386534
DTSTAMP:20260423T164016Z
DESCRIPTION:
DTSTART:20221205T111500Z
DTEND:20221205T124500Z
LOCATION:E1.3 SR015
SUMMARY:Tutorial Lisa
END:VEVENT
BEGIN:VEVENT
UID:36383936-3763-4339-a161-396134363939
DTSTAMP:20260423T164016Z
DESCRIPTION:
DTSTART:20221206T090000Z
DTEND:20221206T103000Z
LOCATION:E1.1 SR3.06
SUMMARY:Tutorial Leonard
END:VEVENT
BEGIN:VEVENT
UID:65653335-3037-4863-b363-323232643334
DTSTAMP:20260423T164016Z
DESCRIPTION:
DTSTART:20221206T130000Z
DTEND:20221206T140000Z
LOCATION:E1.3 SR016
SUMMARY:Office hour
END:VEVENT
BEGIN:VEVENT
UID:66623234-3261-4839-a466-306439376562
DTSTAMP:20260423T164016Z
DESCRIPTION:
DTSTART:20221207T091500Z
DTEND:20221207T104500Z
LOCATION:E1.3 HS002
SUMMARY:Tutorial Lena
END:VEVENT
BEGIN:VEVENT
UID:38366439-6564-4236-a636-653538316462
DTSTAMP:20260423T164016Z
DESCRIPTION:
DTSTART:20221208T110000Z
DTEND:20221214T225900Z
SUMMARY:Assignment 4: Machine Learning
END:VEVENT
BEGIN:VEVENT
UID:36643638-3539-4166-a634-323938366432
DTSTAMP:20260423T164016Z
DESCRIPTION:
DTSTART:20221208T111500Z
DTEND:20221208T130000Z
LOCATION:HS002
SUMMARY:Machine Learning Basics in Python (Joris Nix)
END:VEVENT
BEGIN:VEVENT
UID:34336532-3566-4432-b964-613234383465
DTSTAMP:20260423T164016Z
DESCRIPTION:
DTSTART:20221208T130000Z
DTEND:20221208T140000Z
LOCATION:E1.3 SR015
SUMMARY:Office hour
END:VEVENT
BEGIN:VEVENT
UID:31333963-6436-4138-a665-316238303266
DTSTAMP:20260423T164016Z
DESCRIPTION:
DTSTART:20221209T133000Z
DTEND:20221209T150000Z
LOCATION:E1.3 SR016
SUMMARY:Tutorial Michel
END:VEVENT
BEGIN:VEVENT
UID:35383332-3766-4232-b436-326439666135
DTSTAMP:20260423T164016Z
DESCRIPTION:
DTSTART:20221212T091500Z
DTEND:20221212T110000Z
LOCATION:HS002
SUMMARY:Machine Learning Backpropagation  (Prof. Bernt Schiele)
END:VEVENT
BEGIN:VEVENT
UID:38623863-3331-4137-a238-303830666638
DTSTAMP:20260423T164016Z
DESCRIPTION:
DTSTART:20221212T111500Z
DTEND:20221212T124500Z
LOCATION:E1.3 SR015
SUMMARY:Tutorial Lisa
END:VEVENT
BEGIN:VEVENT
UID:38356465-3265-4534-b835-386236313037
DTSTAMP:20260423T164016Z
DESCRIPTION:
DTSTART:20221213T090000Z
DTEND:20221213T103000Z
LOCATION:E1.1 SR3.06
SUMMARY:Tutorial Leonard
END:VEVENT
BEGIN:VEVENT
UID:32373261-3739-4866-a339-323833663765
DTSTAMP:20260423T164016Z
DESCRIPTION:
DTSTART:20221213T130000Z
DTEND:20221213T140000Z
LOCATION:E1.3 SR016
SUMMARY:Office hour
END:VEVENT
BEGIN:VEVENT
UID:61636533-3930-4665-b336-353064373064
DTSTAMP:20260423T164016Z
DESCRIPTION:
DTSTART:20221214T091500Z
DTEND:20221214T104500Z
LOCATION:E1.3 HS002
SUMMARY:Tutorial Lena
END:VEVENT
BEGIN:VEVENT
UID:65636237-6238-4564-a630-363862383333
DTSTAMP:20260423T164016Z
DESCRIPTION:
DTSTART:20221215T110000Z
DTEND:20221221T225900Z
SUMMARY:Assignment 5: Machine Learning + Alpha Go
END:VEVENT
BEGIN:VEVENT
UID:33653336-6364-4635-b165-653135336335
DTSTAMP:20260423T164016Z
DESCRIPTION:
DTSTART:20221215T111500Z
DTEND:20221215T130000Z
LOCATION:HS002
SUMMARY:Alpha Go (search basics) (Thorsten Klößner)
END:VEVENT
BEGIN:VEVENT
UID:32383263-3965-4636-b533-663830306532
DTSTAMP:20260423T164016Z
DESCRIPTION:
DTSTART:20221215T130000Z
DTEND:20221215T140000Z
LOCATION:E1.3 SR015
SUMMARY:Office hour
END:VEVENT
BEGIN:VEVENT
UID:64343330-6132-4431-a635-626461366562
DTSTAMP:20260423T164016Z
DESCRIPTION:
DTSTART:20221216T133000Z
DTEND:20221216T150000Z
LOCATION:E1.3 SR016
SUMMARY:Tutorial Michel
END:VEVENT
BEGIN:VEVENT
UID:38613566-3633-4838-b839-383438613736
DTSTAMP:20260423T164016Z
DESCRIPTION:
DTSTART:20221219T091500Z
DTEND:20221219T110000Z
LOCATION:Zoom https://cs-uni-saarland-de.zoom.us/j/9425369212
SUMMARY:[Online] Alpha Go (heuristic search\, MCTS\, RL intro.) (Thorsten K
 lößner)
END:VEVENT
BEGIN:VEVENT
UID:62323135-6634-4231-b263-636430323136
DTSTAMP:20260423T164016Z
DESCRIPTION:Zoom-Meeting beitreten\nhttps://zoom.us/j/9958144657?pwd=RFJzQU
 tUeGdaanZDcUxyMzhwSWg3Zz09\n\nMeeting-ID: 995 814 4657\nKenncode: 252835\n
 Schnelleinwahl mobil\n00496971049922\,\,9958144657#\,\,\,\,\,\,0#\,\,25283
 5# Deutschland\n00493056795800\,\,9958144657#\,\,\,\,\,\,0#\,\,252835# Deu
 tschland\n\nEinwahl nach aktuellem Standort\n0049 69 7104 9922 Deutschland
 \n0049 30 5679 5800 Deutschland\n0049 69 3807 9883 Deutschland\n0049 695 0
 50 2596 Deutschland\nMeeting-ID: 995 814 4657\nKenncode: 252835\nOrtseinwa
 hl suchen: https://zoom.us/u/ab6L254epg
DTSTART:20221219T111500Z
DTEND:20221219T124500Z
LOCATION:Zoom https://zoom.us/j/9958144657?pwd=RFJzQUtUeGdaanZDcUxyMzhwSWg3
 Zz09
SUMMARY:[Online] Tutorial Lisa
END:VEVENT
BEGIN:VEVENT
UID:35383632-3363-4461-b831-616462353232
DTSTAMP:20260423T164016Z
DESCRIPTION:Zoom-Meeting beitreten\nhttps://zoom.us/j/9958144657?pwd=RFJzQU
 tUeGdaanZDcUxyMzhwSWg3Zz09\n\nMeeting-ID: 995 814 4657\nKenncode: 252835\n
 Schnelleinwahl mobil\n00496971049922\,\,9958144657#\,\,\,\,\,\,0#\,\,25283
 5# Deutschland\n00493056795800\,\,9958144657#\,\,\,\,\,\,0#\,\,252835# Deu
 tschland\n\nEinwahl nach aktuellem Standort\n0049 69 7104 9922 Deutschland
 \n0049 30 5679 5800 Deutschland\n0049 69 3807 9883 Deutschland\n0049 695 0
 50 2596 Deutschland\nMeeting-ID: 995 814 4657\nKenncode: 252835\nOrtseinwa
 hl suchen: https://zoom.us/u/ab6L254epg
DTSTART:20221220T090000Z
DTEND:20221220T103000Z
LOCATION:Zoom https://zoom.us/j/9958144657?pwd=RFJzQUtUeGdaanZDcUxyMzhwSWg3
 Zz09
SUMMARY:[Online] Tutorial Leonard
END:VEVENT
BEGIN:VEVENT
UID:39383062-3363-4162-a331-643633333566
DTSTAMP:20260423T164016Z
DESCRIPTION:Zoom-Meeting beitreten\nhttps://zoom.us/j/9958144657?pwd=RFJzQU
 tUeGdaanZDcUxyMzhwSWg3Zz09\n\nMeeting-ID: 995 814 4657\nKenncode: 252835\n
 Schnelleinwahl mobil\n00496971049922\,\,9958144657#\,\,\,\,\,\,0#\,\,25283
 5# Deutschland\n00493056795800\,\,9958144657#\,\,\,\,\,\,0#\,\,252835# Deu
 tschland\n\nEinwahl nach aktuellem Standort\n0049 69 7104 9922 Deutschland
 \n0049 30 5679 5800 Deutschland\n0049 69 3807 9883 Deutschland\n0049 695 0
 50 2596 Deutschland\nMeeting-ID: 995 814 4657\nKenncode: 252835\nOrtseinwa
 hl suchen: https://zoom.us/u/ab6L254epg
DTSTART:20221220T130000Z
DTEND:20221220T140000Z
LOCATION:Zoom https://zoom.us/j/9958144657?pwd=RFJzQUtUeGdaanZDcUxyMzhwSWg3
 Zz09
SUMMARY:[Online] Office hour
END:VEVENT
BEGIN:VEVENT
UID:38343336-6366-4730-b335-383330633963
DTSTAMP:20260423T164016Z
DESCRIPTION:
DTSTART;VALUE=DATE:20221226
DTEND;VALUE=DATE:20230103
SUMMARY:Winter Holiday
END:VEVENT
BEGIN:VEVENT
UID:35313333-3635-4034-b135-656630643130
DTSTAMP:20260423T164016Z
DESCRIPTION:Zoom-Meeting beitreten\nhttps://zoom.us/j/9958144657?pwd=RFJzQU
 tUeGdaanZDcUxyMzhwSWg3Zz09\n\nMeeting-ID: 995 814 4657\nKenncode: 252835\n
 Schnelleinwahl mobil\n00496971049922\,\,9958144657#\,\,\,\,\,\,0#\,\,25283
 5# Deutschland\n00493056795800\,\,9958144657#\,\,\,\,\,\,0#\,\,252835# Deu
 tschland\n\nEinwahl nach aktuellem Standort\n0049 69 7104 9922 Deutschland
 \n0049 30 5679 5800 Deutschland\n0049 69 3807 9883 Deutschland\n0049 695 0
 50 2596 Deutschland\nMeeting-ID: 995 814 4657\nKenncode: 252835\nOrtseinwa
 hl suchen: https://zoom.us/u/ab6L254epg
DTSTART:20230104T091500Z
DTEND:20230104T104500Z
LOCATION:Zoom https://zoom.us/j/9958144657?pwd=RFJzQUtUeGdaanZDcUxyMzhwSWg3
 Zz09
SUMMARY:[Online] Tutorial Lena
END:VEVENT
BEGIN:VEVENT
UID:30336132-6133-4532-b138-343139623131
DTSTAMP:20260423T164016Z
DESCRIPTION:
DTSTART:20230105T111500Z
DTEND:20230105T130000Z
LOCATION:Zoom https://cs-uni-saarland-de.zoom.us/j/9425369212
SUMMARY:[Online] Alpha Go (MDPs\, value iteration\, Q-learning) (Thorsten K
 lößner)
END:VEVENT
BEGIN:VEVENT
UID:61613466-6162-4630-b438-323064383766
DTSTAMP:20260423T164016Z
DESCRIPTION:
DTSTART:20230109T091500Z
DTEND:20230109T110000Z
LOCATION:HS002
SUMMARY:Alpha Go (deep Q-learning\, game search) (Thorsten Klößner)
END:VEVENT
BEGIN:VEVENT
UID:37333235-3362-4135-a461-303039636532
DTSTAMP:20260423T164016Z
DESCRIPTION:
DTSTART:20230109T110000Z
DTEND:20230115T225900Z
SUMMARY:Assignment 6: Alpha Go
END:VEVENT
BEGIN:VEVENT
UID:63326636-3461-4433-b938-663966333234
DTSTAMP:20260423T164016Z
DESCRIPTION:
DTSTART:20230109T111500Z
DTEND:20230109T124500Z
LOCATION:E1.3 SR015
SUMMARY:Tutorial Lisa
END:VEVENT
BEGIN:VEVENT
UID:32643234-3765-4536-a232-633338346539
DTSTAMP:20260423T164016Z
DESCRIPTION:
DTSTART:20230110T090000Z
DTEND:20230110T103000Z
LOCATION:E1.1 SR3.06
SUMMARY:Tutorial Leonard
END:VEVENT
BEGIN:VEVENT
UID:31343765-6464-4637-a536-333037623239
DTSTAMP:20260423T164016Z
DESCRIPTION:
DTSTART:20230110T130000Z
DTEND:20230110T140000Z
LOCATION:E1.3 SR016
SUMMARY:Office hour
END:VEVENT
BEGIN:VEVENT
UID:62376161-3366-4530-a330-643138656666
DTSTAMP:20260423T164016Z
DESCRIPTION:
DTSTART:20230111T091500Z
DTEND:20230111T104500Z
LOCATION:E1.3 HS002
SUMMARY:Tutorial Lena
END:VEVENT
BEGIN:VEVENT
UID:63383838-3334-4938-a139-353763353261
DTSTAMP:20260423T164016Z
DESCRIPTION:
DTSTART:20230112T111500Z
DTEND:20230112T131500Z
LOCATION:HS002
SUMMARY:Alpha Go (evaluation functions\, AlphaGo) (Thorsten Klößner)
END:VEVENT
BEGIN:VEVENT
UID:33626334-6435-4536-b130-636261383330
DTSTAMP:20260423T164016Z
DESCRIPTION:
DTSTART:20230112T130000Z
DTEND:20230112T140000Z
LOCATION:E1.3 SR015
SUMMARY:Office hour
END:VEVENT
BEGIN:VEVENT
UID:65373061-3133-4262-a364-326231336661
DTSTAMP:20260423T164016Z
DESCRIPTION:
DTSTART:20230113T133000Z
DTEND:20230113T150000Z
LOCATION:E1.3 SR016
SUMMARY:Tutorial Michel
END:VEVENT
BEGIN:VEVENT
UID:65303338-3130-4539-a264-653131376436
DTSTAMP:20260423T164016Z
DESCRIPTION:
DTSTART:20230116T091500Z
DTEND:20230116T110000Z
LOCATION:HS002
SUMMARY:NLP 1: Dialog System\, Speech Recognition\, Language Model  (Dr. Se
 bastian Schuster)
END:VEVENT
BEGIN:VEVENT
UID:64373633-3435-4163-b737-626365663433
DTSTAMP:20260423T164016Z
DESCRIPTION:
DTSTART:20230116T110000Z
DTEND:20230122T225900Z
SUMMARY:Assignment 7: Alpha Go + NLP
END:VEVENT
BEGIN:VEVENT
UID:37356361-3339-4635-a664-346333306437
DTSTAMP:20260423T164016Z
DESCRIPTION:
DTSTART:20230116T111500Z
DTEND:20230116T124500Z
LOCATION:E1.3 SR015
SUMMARY:Tutorial Lisa
END:VEVENT
BEGIN:VEVENT
UID:64333638-3736-4166-b465-316334353631
DTSTAMP:20260423T164016Z
DESCRIPTION:
DTSTART:20230117T090000Z
DTEND:20230117T103000Z
LOCATION:E1.1 SR3.06
SUMMARY:Tutorial Leonard
END:VEVENT
BEGIN:VEVENT
UID:61376131-6630-4665-b333-613339643262
DTSTAMP:20260423T164016Z
DESCRIPTION:
DTSTART:20230117T130000Z
DTEND:20230117T140000Z
LOCATION:E1.3 SR016
SUMMARY:Office hour
END:VEVENT
BEGIN:VEVENT
UID:65336265-6537-4636-b133-663739646538
DTSTAMP:20260423T164016Z
DESCRIPTION:
DTSTART:20230118T091500Z
DTEND:20230118T104500Z
LOCATION:E1.3 HS002
SUMMARY:Tutorial Lena
END:VEVENT
BEGIN:VEVENT
UID:61653862-3837-4436-a666-353832346633
DTSTAMP:20260423T164016Z
DESCRIPTION:
DTSTART:20230119T111500Z
DTEND:20230119T130000Z
LOCATION:HS002
SUMMARY:NLP 2: Syntax and Context Free Grammar (Dr. Sebastian Schuster)
END:VEVENT
BEGIN:VEVENT
UID:31636231-3763-4466-a339-646538326234
DTSTAMP:20260423T164016Z
DESCRIPTION:
DTSTART:20230119T130000Z
DTEND:20230119T140000Z
LOCATION:E1.3 SR015
SUMMARY:Office hour
END:VEVENT
BEGIN:VEVENT
UID:63333037-3930-4637-b938-656161333135
DTSTAMP:20260423T164016Z
DESCRIPTION:
DTSTART:20230120T133000Z
DTEND:20230120T150000Z
LOCATION:E1.3 SR016
SUMMARY:Tutorial Michel
END:VEVENT
BEGIN:VEVENT
UID:32653563-6563-4133-b434-363964623633
DTSTAMP:20260423T164016Z
DESCRIPTION:
DTSTART:20230123T091500Z
DTEND:20230123T110000Z
LOCATION:HS002
SUMMARY:NLP 3: Neural Language Model (Dr. Sebastian Schuster)
END:VEVENT
BEGIN:VEVENT
UID:34616136-6236-4135-b932-396434613139
DTSTAMP:20260423T164016Z
DESCRIPTION:
DTSTART:20230123T110000Z
DTEND:20230129T225900Z
SUMMARY:Assignment 8: NLP
END:VEVENT
BEGIN:VEVENT
UID:35666565-3364-4539-b762-646431373539
DTSTAMP:20260423T164016Z
DESCRIPTION:
DTSTART:20230123T111500Z
DTEND:20230123T124500Z
LOCATION:E1.3 SR015
SUMMARY:Tutorial Lisa
END:VEVENT
BEGIN:VEVENT
UID:38333135-3338-4230-b035-616365613239
DTSTAMP:20260423T164016Z
DESCRIPTION:
DTSTART:20230124T090000Z
DTEND:20230124T103000Z
LOCATION:E1.1 SR3.06
SUMMARY:Tutorial Leonard
END:VEVENT
BEGIN:VEVENT
UID:33626538-6137-4039-b063-323431653536
DTSTAMP:20260423T164016Z
DESCRIPTION:
DTSTART:20230126T111500Z
DTEND:20230126T130000Z
LOCATION:HS002
SUMMARY:NLP 4: Semantics (Dr. Sebastian Schuster)
END:VEVENT
BEGIN:VEVENT
UID:64613438-3365-4537-a238-343864333262
DTSTAMP:20260423T164016Z
DESCRIPTION:
DTSTART:20230126T130000Z
DTEND:20230126T140000Z
LOCATION:E1.3 SR015
SUMMARY:Office hour
END:VEVENT
BEGIN:VEVENT
UID:35616230-6238-4565-b466-636531396139
DTSTAMP:20260423T164016Z
DESCRIPTION:
DTSTART:20230127T133000Z
DTEND:20230127T150000Z
LOCATION:E1.3 SR016
SUMMARY:Tutorial Michel
END:VEVENT
BEGIN:VEVENT
UID:34333131-6166-4261-b766-303865346335
DTSTAMP:20260423T164016Z
DESCRIPTION:
DTSTART:20230130T091500Z
DTEND:20230130T110000Z
LOCATION:HS002
SUMMARY:NLP 5: Machine Translation (Dr. Sebastian Schuster)
END:VEVENT
BEGIN:VEVENT
UID:31323039-3864-4135-b336-643061396164
DTSTAMP:20260423T164016Z
DESCRIPTION:
DTSTART:20230130T110000Z
DTEND:20230205T225900Z
SUMMARY:Assignment 9: NLP
END:VEVENT
BEGIN:VEVENT
UID:38373331-3037-4538-b536-363236326261
DTSTAMP:20260423T164016Z
DESCRIPTION:
DTSTART:20230130T111500Z
DTEND:20230130T124500Z
LOCATION:E1.3 SR015
SUMMARY:Tutorial Lisa
END:VEVENT
BEGIN:VEVENT
UID:39656262-3464-4332-b839-313966333661
DTSTAMP:20260423T164016Z
DESCRIPTION:
DTSTART:20230131T090000Z
DTEND:20230131T103000Z
LOCATION:E1.1 SR3.06
SUMMARY:Tutorial Leonard
END:VEVENT
BEGIN:VEVENT
UID:65626362-3636-4335-a532-663761393537
DTSTAMP:20260423T164016Z
DESCRIPTION:
DTSTART:20230202T111500Z
DTEND:20230202T111500Z
LOCATION:HS002
SUMMARY:Self-Driving Cars (Prof. Bernt Schiele)
END:VEVENT
BEGIN:VEVENT
UID:34363165-3731-4137-b966-613433343539
DTSTAMP:20260423T164016Z
DESCRIPTION:
DTSTART:20230202T130000Z
DTEND:20230202T140000Z
LOCATION:E1.3 SR015
SUMMARY:Office hour
END:VEVENT
BEGIN:VEVENT
UID:63326237-3133-4432-b433-656264393363
DTSTAMP:20260423T164016Z
DESCRIPTION:
DTSTART:20230203T133000Z
DTEND:20230203T150000Z
LOCATION:E1.3 SR016
SUMMARY:Tutorial Michel
END:VEVENT
BEGIN:VEVENT
UID:62343833-6239-4864-b364-633933373637
DTSTAMP:20260423T164016Z
DESCRIPTION:
DTSTART:20230206T091500Z
DTEND:20230206T110000Z
LOCATION:HS002
SUMMARY:Self-Driving Cars (Prof. Bernt Schiele)
END:VEVENT
BEGIN:VEVENT
UID:64643136-3965-4333-a236-353337396432
DTSTAMP:20260423T164016Z
DESCRIPTION:
DTSTART:20230206T110000Z
DTEND:20230212T225900Z
SUMMARY:Assignment 10: Self-Driving Cars
END:VEVENT
BEGIN:VEVENT
UID:38643361-6437-4565-b738-313662303361
DTSTAMP:20260423T164016Z
DESCRIPTION:
DTSTART:20230206T111500Z
DTEND:20230206T124500Z
LOCATION:E1.3 SR015
SUMMARY:Tutorial Lisa
END:VEVENT
BEGIN:VEVENT
UID:30396434-3265-4238-b566-613234323036
DTSTAMP:20260423T164016Z
DESCRIPTION:
DTSTART:20230207T090000Z
DTEND:20230207T103000Z
LOCATION:E1.1 SR3.06
SUMMARY:Tutorial Leonard
END:VEVENT
BEGIN:VEVENT
UID:37386331-3339-4237-a335-393661326438
DTSTAMP:20260423T164016Z
DESCRIPTION:
DTSTART:20230209T111500Z
DTEND:20230209T130000Z
LOCATION:HS002
SUMMARY:Self-Driving Cars (Prof. Bernt Schiele)
END:VEVENT
BEGIN:VEVENT
UID:33383734-6666-4566-b333-613933353637
DTSTAMP:20260423T164016Z
DESCRIPTION:
DTSTART:20230209T130000Z
DTEND:20230209T140000Z
LOCATION:E1.3 SR015
SUMMARY:Office hour
END:VEVENT
BEGIN:VEVENT
UID:61663565-6633-4130-a539-633761653066
DTSTAMP:20260423T164016Z
DESCRIPTION:
DTSTART:20230210T133000Z
DTEND:20230210T150000Z
LOCATION:E1.3 SR016
SUMMARY:Tutorial Michel
END:VEVENT
BEGIN:VEVENT
UID:32333363-3235-4833-b663-656132373266
DTSTAMP:20260423T164016Z
DESCRIPTION:
DTSTART:20230213T111500Z
DTEND:20230213T111500Z
LOCATION:E1.3 SR015
SUMMARY:Tutorial Lisa
END:VEVENT
BEGIN:VEVENT
UID:32346664-6132-4834-a136-623161316364
DTSTAMP:20260423T164016Z
DESCRIPTION:
DTSTART:20230214T090000Z
DTEND:20230214T103000Z
LOCATION:E1.1 SR3.06
SUMMARY:Tutorial Leonard
END:VEVENT
BEGIN:VEVENT
UID:35656463-3637-4661-b766-373933393036
DTSTAMP:20260423T164016Z
DESCRIPTION:
DTSTART:20230216T130000Z
DTEND:20230216T140000Z
LOCATION:E1.3 SR015
SUMMARY:Office Hour
END:VEVENT
BEGIN:VEVENT
UID:31396234-6433-4839-a166-373438306531
DTSTAMP:20260423T164016Z
DESCRIPTION:
DTSTART:20230217T133000Z
DTEND:20230217T150000Z
LOCATION:E1.3 SR016
SUMMARY:Tutorial Michel
END:VEVENT
BEGIN:VEVENT
UID:38616332-3663-4337-b531-663062646165
DTSTAMP:20260423T164016Z
DESCRIPTION:
DTSTART:20230223T090000Z
DTEND:20230223T120000Z
LOCATION:Günter-Hotz-Hörsaal
SUMMARY:Exam
END:VEVENT
BEGIN:VEVENT
UID:63343131-3162-4635-b938-313436323034
DTSTAMP:20260423T164016Z
DESCRIPTION:
DTSTART:20230303T090000Z
DTEND:20230303T110000Z
LOCATION:E1.1 SR3.06
SUMMARY:Exam inspection
END:VEVENT
BEGIN:VEVENT
UID:35373463-3934-4937-a466-663166643939
DTSTAMP:20260423T164016Z
DESCRIPTION:
DTSTART:20230323T130000Z
DTEND:20230323T150000Z
LOCATION:Günter-Hotz-Hörsaal
SUMMARY:Re-exam
END:VEVENT
END:VCALENDAR
