BEGIN:VCALENDAR
VERSION:2.0
PRODID:-//134.96.226.213//NONSGML kigkonsult.se iCalcreator 2.41.71//
CALSCALE:GREGORIAN
METHOD:PUBLISH
UID:64333561-3234-4033-b031-666163663965
X-WR-CALNAME:Elements of Data Science and Artificial Intelligence Calendar
X-WR-CALDESC:Events of the lecture Elements of Data Science and Artificial 
 Intelligence
X-WR-TIMEZONE:Europe/Berlin
BEGIN:VEVENT
UID:33623231-3137-4035-a531-306531376530
DTSTAMP:20260420T084127Z
DESCRIPTION:The lab will be held online via Discord. You will work on the P
 ython exercises within a small study group. Assistants and tutors will be 
 there to help.
DTSTART:20211104T111500Z
DTEND:20211104T130000Z
LOCATION:Discord
SUMMARY:Edsai2122: Introduction to Python (Lab)
END:VEVENT
BEGIN:VEVENT
UID:66343439-6231-4936-b836-343161306562
DTSTAMP:20260420T084127Z
DESCRIPTION:
DTSTART:20211105T150000Z
DTEND:20211105T170000Z
LOCATION:E1.1\, SR 3.06
SUMMARY:Edsai2122: Office Hour
END:VEVENT
BEGIN:VEVENT
UID:61366334-3031-4464-b162-343439346435
DTSTAMP:20260420T084127Z
DESCRIPTION:The lab will be held online via Discord. You will work on the P
 ython exercises within a small study group. Assistants and tutors will be 
 there to help.
DTSTART:20211108T091500Z
DTEND:20211108T110000Z
LOCATION:Discord
SUMMARY:Edsai2122: Introduction to Python 2 (Lab)
END:VEVENT
BEGIN:VEVENT
UID:65633366-3532-4436-b266-346263336535
DTSTAMP:20260420T084127Z
DESCRIPTION:
DTSTART:20211112T150000Z
DTEND:20211112T170000Z
LOCATION:E1.1\, SR 3.06
SUMMARY:Edsai2122: Office Hour
END:VEVENT
BEGIN:VEVENT
UID:61316631-3232-4533-b438-623432623530
DTSTAMP:20260420T084127Z
DESCRIPTION:
DTSTART:20211119T150000Z
DTEND:20211119T170000Z
LOCATION:E1.1\, SR 3.06
SUMMARY:Edsai2122: Office Hour
END:VEVENT
BEGIN:VEVENT
UID:39626131-3465-4530-a636-383565643234
DTSTAMP:20260420T084127Z
DESCRIPTION:
DTSTART:20211126T150000Z
DTEND:20211126T170000Z
LOCATION:E1.1\, SR 3.06
SUMMARY:Edsai2122: Office Hour
END:VEVENT
BEGIN:VEVENT
UID:36316363-6363-4432-b030-376539343561
DTSTAMP:20260420T084127Z
DESCRIPTION:
DTSTART:20211203T150000Z
DTEND:20211203T170000Z
LOCATION:E1.1\, SR 3.06
SUMMARY:Edsai2122: Office Hour
END:VEVENT
BEGIN:VEVENT
UID:61313062-6337-4634-b139-376431643862
DTSTAMP:20260420T084127Z
DESCRIPTION:
DTSTART:20211210T150000Z
DTEND:20211210T170000Z
LOCATION:E1.1\, SR 3.06
SUMMARY:Edsai2122: Office Hour
END:VEVENT
BEGIN:VEVENT
UID:61643561-3863-4361-b066-383230396632
DTSTAMP:20260420T084127Z
DESCRIPTION:
DTSTART:20211217T150000Z
DTEND:20211217T170000Z
LOCATION:E1.1\, SR 3.06
SUMMARY:Edsai2122: Office Hour
END:VEVENT
BEGIN:VEVENT
UID:66643865-3433-4766-b532-643564316235
DTSTAMP:20260420T084127Z
DESCRIPTION:
DTSTART:20220107T150000Z
DTEND:20220107T170000Z
LOCATION:E1.1\, SR 3.06
SUMMARY:Edsai2122: Office Hour
END:VEVENT
BEGIN:VEVENT
UID:63373765-6235-4131-a566-313639643033
DTSTAMP:20260420T084127Z
DESCRIPTION:
DTSTART:20220114T150000Z
DTEND:20220114T170000Z
LOCATION:E1.1\, SR 3.06
SUMMARY:Edsai2122: Office Hour
END:VEVENT
BEGIN:VEVENT
UID:62663964-3837-4631-b462-303931303236
DTSTAMP:20260420T084127Z
DESCRIPTION:
DTSTART:20220121T150000Z
DTEND:20220121T170000Z
LOCATION:E1.1\, SR 3.06
SUMMARY:Edsai2122: Office Hour
END:VEVENT
BEGIN:VEVENT
UID:33306430-3435-4737-b533-613731313734
DTSTAMP:20260420T084127Z
DESCRIPTION:
DTSTART:20220128T150000Z
DTEND:20220128T170000Z
LOCATION:E1.1\, SR 3.06
SUMMARY:Edsai2122: Office Hour
END:VEVENT
BEGIN:VEVENT
UID:32613564-3839-4138-a439-353035623932
DTSTAMP:20260420T084127Z
DESCRIPTION:
DTSTART:20220303T120000Z
DTEND:20220303T140000Z
LOCATION:E1.3\, HS002
SUMMARY:Edsai2122: Exam Inspection
END:VEVENT
BEGIN:VEVENT
UID:30363339-6437-4263-b363-663130356336
DTSTAMP:20260420T084127Z
DESCRIPTION:
DTSTART:20220324T120000Z
DTEND:20220324T140000Z
LOCATION:E1.3\, HS002
SUMMARY:Edsai2122: Re-Exam Inspection
END:VEVENT
END:VCALENDAR
